{"text_format":"3","workbook":"xlsx","n_sheets":1,"sheets":["Sheet1"],"not_rendered":{"external_links":1},"read":"whole","date_system":"1900"}

{"sheet":"Sheet1","index":0,"n_rows":459,"n_cols":8,"rows_kept":459,"merged":[[0,0,1,7],[2,0,3,0],[2,1,3,1],[2,2,3,2],[2,3,3,3],[2,4,2,5],[2,6,3,6],[2,7,3,7]]}
["공시송달 대상자 목록"]
[]
["연번","이륜차번호","차대번호","모델연도","소유자 인적사항",null,"신고일자","공시송달 사유"]
[{"$nulls":4},"소유자명","생년월일"]
[1,"충남예산다2219","118027","1991","이봉주","확인불가",{"$f":"[1]Sheet1!H632","v":"11111111"},"소재지(위치) 및 소유자 인적사항 불명"]
[2,"충남예산가1071","8032879","1979","예산군보건소","확인불가",{"$f":"[1]Sheet1!H633","v":"19790126"},"소재지(위치) 및 소유자 인적사항 불명"]
[3,"충남예산가1072","8400027","1984","예산군보건소","확인불가",{"$f":"[1]Sheet1!H634","v":"19840319"},"소재지(위치) 및 소유자 인적사항 불명"]
[4,"충남예산바1003","CL90-9036786","1979","예산경찰서장","확인불가",{"$f":"[1]Sheet1!H635","v":"19850611"},"소재지(위치) 및 소유자 인적사항 불명"]
[5,"충남예산가1119","605577","1986","예산군보건소","확인불가",{"$f":"[1]Sheet1!H636","v":"19860711"},"소재지(위치) 및 소유자 인적사항 불명"]
[6,"충남예산가1117","605531","1986","예산군보건소","확인불가",{"$f":"[1]Sheet1!H637","v":"19860711"},"소재지(위치) 및 소유자 인적사항 불명"]
[7,"충남예산가1118","605526","1986","예산군보건소","확인불가",{"$f":"[1]Sheet1!H638","v":"19860711"},"소재지(위치) 및 소유자 인적사항 불명"]
[8,"충남예산가1113","605640","1986","예산군보건소","확인불가",{"$f":"[1]Sheet1!H639","v":"19860711"},"소재지(위치) 및 소유자 인적사항 불명"]
[9,"충남예산가1116","605481","1986","예산군보건소","확인불가",{"$f":"[1]Sheet1!H640","v":"19860711"},"소재지(위치) 및 소유자 인적사항 불명"]
[10,"충남예산가1115","605380","1986","예산군보건소","확인불가",{"$f":"[1]Sheet1!H641","v":"19860711"},"소재지(위치) 및 소유자 인적사항 불명"]
[11,"충남예산가3875","19776","1983","이병우","확인불가",{"$f":"[1]Sheet1!H642","v":"19900103"},"소재지(위치) 및 소유자 인적사항 불명"]
[12,"충남예산가3876","1102416","1989","박동칠","확인불가",{"$f":"[1]Sheet1!H643","v":"19900104"},"소재지(위치) 및 소유자 인적사항 불명"]
[13,"충남예산가3877","1101920","1989","한태종","확인불가",{"$f":"[1]Sheet1!H644","v":"19900104"},"소재지(위치) 및 소유자 인적사항 불명"]
[14,"충남예산가3878","1102048","1989","조흥룡","확인불가",{"$f":"[1]Sheet1!H645","v":"19900105"},"소재지(위치) 및 소유자 인적사항 불명"]
[15,"충남예산가3882","134049","1989","박유진","확인불가",{"$f":"[1]Sheet1!H646","v":"19900107"},"소재지(위치) 및 소유자 인적사항 불명"]
[16,"충남예산가3879","166163","1989","한익수","확인불가",{"$f":"[1]Sheet1!H647","v":"19900108"},"소재지(위치) 및 소유자 인적사항 불명"]
[17,"충남예산가3880","105388","1988","박관수","확인불가",{"$f":"[1]Sheet1!H648","v":"19900112"},"소재지(위치) 및 소유자 인적사항 불명"]
[18,"충남예산가3884","1107634","1990","박정순","확인불가",{"$f":"[1]Sheet1!H649","v":"19900116"},"소재지(위치) 및 소유자 인적사항 불명"]
[19,"충남예산가3883","1107772","1990","한석동","확인불가",{"$f":"[1]Sheet1!H650","v":"19900116"},"소재지(위치) 및 소유자 인적사항 불명"]
[20,"충남예산가3885","1097275","1989","김연배","확인불가",{"$f":"[1]Sheet1!H651","v":"19900224"},"소재지(위치) 및 소유자 인적사항 불명"]
[21,"충남예산가3886","176559","1989","박종복","확인불가",{"$f":"[1]Sheet1!H652","v":"19900226"},"소재지(위치) 및 소유자 인적사항 불명"]
[22,"충남예산가3887","471580","1984","이근영","확인불가",{"$f":"[1]Sheet1!H653","v":"19900227"},"소재지(위치) 및 소유자 인적사항 불명"]
[23,"충남예산가3888","176762","1989","유재웅","확인불가",{"$f":"[1]Sheet1!H654","v":"19900302"},"소재지(위치) 및 소유자 인적사항 불명"]
[24,"충남예산가3890","181477","1990","손은종","확인불가",{"$f":"[1]Sheet1!H655","v":"19900305"},"소재지(위치) 및 소유자 인적사항 불명"]
[25,"충남예산가3891","176477","1989","박장길","확인불가",{"$f":"[1]Sheet1!H656","v":"19900306"},"소재지(위치) 및 소유자 인적사항 불명"]
[26,"충남예산가3893","1102437","1989","최경섭","확인불가",{"$f":"[1]Sheet1!H657","v":"19900310"},"소재지(위치) 및 소유자 인적사항 불명"]
[27,"충남예산가3894","1002882","1989","이기행","확인불가",{"$f":"[1]Sheet1!H658","v":"19900312"},"소재지(위치) 및 소유자 인적사항 불명"]
[28,"충남예산가3895","1027120","1990","김행규","확인불가",{"$f":"[1]Sheet1!H659","v":"19900313"},"소재지(위치) 및 소유자 인적사항 불명"]
[29,"충남예산가3897","1024840","1989","박영만","확인불가",{"$f":"[1]Sheet1!H660","v":"19900315"},"소재지(위치) 및 소유자 인적사항 불명"]
[30,"충남예산가3898","1107681","1990","정대복","확인불가",{"$f":"[1]Sheet1!H661","v":"19900315"},"소재지(위치) 및 소유자 인적사항 불명"]
[31,"충남예산가3899","146566","1990","조배현","확인불가",{"$f":"[1]Sheet1!H662","v":"19900316"},"소재지(위치) 및 소유자 인적사항 불명"]
[32,"충남예산가3900","1105573","1990","안종철","확인불가",{"$f":"[1]Sheet1!H663","v":"19900317"},"소재지(위치) 및 소유자 인적사항 불명"]
[33,"충남예산가3901","1109332","1990","이래길","확인불가",{"$f":"[1]Sheet1!H664","v":"19900319"},"소재지(위치) 및 소유자 인적사항 불명"]
[34,"충남예산가3902","8203740","1989","이정현","확인불가",{"$f":"[1]Sheet1!H665","v":"19900321"},"소재지(위치) 및 소유자 인적사항 불명"]
[35,"충남예산가3904","176614","1989","배동예","확인불가",{"$f":"[1]Sheet1!H666","v":"19900322"},"소재지(위치) 및 소유자 인적사항 불명"]
[36,"충남예산가3903","1025752","1987","이상우","확인불가",{"$f":"[1]Sheet1!H667","v":"19900322"},"소재지(위치) 및 소유자 인적사항 불명"]
[37,"충남예산가3908","147002","1990","이석웅","확인불가",{"$f":"[1]Sheet1!H668","v":"19900326"},"소재지(위치) 및 소유자 인적사항 불명"]
[38,"충남예산가3905","1101519","1989","김경호","확인불가",{"$f":"[1]Sheet1!H669","v":"19900326"},"소재지(위치) 및 소유자 인적사항 불명"]
[39,"충남예산가3907","1027186","1990","정정석","확인불가",{"$f":"[1]Sheet1!H670","v":"19900326"},"소재지(위치) 및 소유자 인적사항 불명"]
[40,"충남예산가3909","161898","1989","우제윤","확인불가",{"$f":"[1]Sheet1!H671","v":"19900331"},"소재지(위치) 및 소유자 인적사항 불명"]
[41,"충남예산가3910","143029","1990","심진섭","확인불가",{"$f":"[1]Sheet1!H672","v":"19900402"},"소재지(위치) 및 소유자 인적사항 불명"]
[42,"충남예산가3911","1110918","1990","강남식","확인불가",{"$f":"[1]Sheet1!H673","v":"19900402"},"소재지(위치) 및 소유자 인적사항 불명"]
[43,"충남예산가3912","180618","1990","김관호","확인불가",{"$f":"[1]Sheet1!H674","v":"19900403"},"소재지(위치) 및 소유자 인적사항 불명"]
[44,"충남예산가3919","1111580","1990","강종식","확인불가",{"$f":"[1]Sheet1!H675","v":"19900406"},"소재지(위치) 및 소유자 인적사항 불명"]
[45,"충남예산가3914","603758","1986","정덕채","확인불가",{"$f":"[1]Sheet1!H676","v":"19900406"},"소재지(위치) 및 소유자 인적사항 불명"]
[46,"충남예산가3917","1111668","1990","이종각","확인불가",{"$f":"[1]Sheet1!H677","v":"19900406"},"소재지(위치) 및 소유자 인적사항 불명"]
[47,"충남예산가3921","1111543","1990","강차규","확인불가",{"$f":"[1]Sheet1!H678","v":"19900411"},"소재지(위치) 및 소유자 인적사항 불명"]
[48,"충남예산가3922","112382","1989","이재식","확인불가",{"$f":"[1]Sheet1!H679","v":"19900411"},"소재지(위치) 및 소유자 인적사항 불명"]
[49,"충남예산가3923","237413","1990","홍재화","확인불가",{"$f":"[1]Sheet1!H680","v":"19900417"},"소재지(위치) 및 소유자 인적사항 불명"]
[50,"충남예산가3925","1111475","1990","이종욱","확인불가",{"$f":"[1]Sheet1!H681","v":"19900417"},"소재지(위치) 및 소유자 인적사항 불명"]
[51,"충남예산가3924","1111711","1990","김두성","확인불가",{"$f":"[1]Sheet1!H682","v":"19900417"},"소재지(위치) 및 소유자 인적사항 불명"]
[52,"충남예산가3927","143081","1989","손복식","확인불가",{"$f":"[1]Sheet1!H683","v":"19900419"},"소재지(위치) 및 소유자 인적사항 불명"]
[53,"충남예산가3931","148910","1990","김기현","확인불가",{"$f":"[1]Sheet1!H684","v":"19900420"},"소재지(위치) 및 소유자 인적사항 불명"]
[54,"충남예산가3932","1023632","1989","양승준","확인불가",{"$f":"[1]Sheet1!H685","v":"19900420"},"소재지(위치) 및 소유자 인적사항 불명"]
[55,"충남예산가3930","115296","1988","이은원","확인불가",{"$f":"[1]Sheet1!H686","v":"19900420"},"소재지(위치) 및 소유자 인적사항 불명"]
[56,"충남예산가3928","1111669","1990","유성교","확인불가",{"$f":"[1]Sheet1!H687","v":"19900420"},"소재지(위치) 및 소유자 인적사항 불명"]
[57,"충남예산가3933","147538","1990","박명우","확인불가",{"$f":"[1]Sheet1!H688","v":"19900421"},"소재지(위치) 및 소유자 인적사항 불명"]
[58,"충남예산가3934","152494","1990","김영복","확인불가",{"$f":"[1]Sheet1!H689","v":"19900423"},"소재지(위치) 및 소유자 인적사항 불명"]
[59,"충남예산가3936","151939","1989","이성춘","확인불가",{"$f":"[1]Sheet1!H690","v":"19900425"},"소재지(위치) 및 소유자 인적사항 불명"]
[60,"충남예산가3935","180671","1990","김영갑","확인불가",{"$f":"[1]Sheet1!H691","v":"19900425"},"소재지(위치) 및 소유자 인적사항 불명"]
[61,"충남예산가3938","1033576","1990","우제태","확인불가",{"$f":"[1]Sheet1!H692","v":"19900427"},"소재지(위치) 및 소유자 인적사항 불명"]
[62,"충남예산가3939","015611","1982","임헌국","확인불가",{"$f":"[1]Sheet1!H693","v":"19900427"},"소재지(위치) 및 소유자 인적사항 불명"]
[63,"충남예산가3941","236388","1990","박갑수","확인불가",{"$f":"[1]Sheet1!H694","v":"19900507"},"소재지(위치) 및 소유자 인적사항 불명"]
[64,"충남예산가3943","1018884","1989","원성언","확인불가",{"$f":"[1]Sheet1!H695","v":"19900508"},"소재지(위치) 및 소유자 인적사항 불명"]
[65,"충남예산가3942","237325","1990","박상헌","확인불가",{"$f":"[1]Sheet1!H696","v":"19900508"},"소재지(위치) 및 소유자 인적사항 불명"]
[66,"충남예산가3945","1031052","1990","오미선","확인불가",{"$f":"[1]Sheet1!H697","v":"19900512"},"소재지(위치) 및 소유자 인적사항 불명"]
[67,"충남예산가3946","1030834","1990","예산신문사","확인불가",{"$f":"[1]Sheet1!H698","v":"19900518"},"소재지(위치) 및 소유자 인적사항 불명"]
[68,"충남예산가3947","1114826","1990","유병조","확인불가",{"$f":"[1]Sheet1!H699","v":"19900525"},"소재지(위치) 및 소유자 인적사항 불명"]
[69,"충남예산가3948","1030199","1990","이순호","확인불가",{"$f":"[1]Sheet1!H700","v":"19900529"},"소재지(위치) 및 소유자 인적사항 불명"]
[70,"충남예산가3950","1114859","1990","유지성","확인불가",{"$f":"[1]Sheet1!H701","v":"19900529"},"소재지(위치) 및 소유자 인적사항 불명"]
[71,"충남예산가3951","1116809","1990","정복동","확인불가",{"$f":"[1]Sheet1!H702","v":"19900604"},"소재지(위치) 및 소유자 인적사항 불명"]
[72,"충남예산가3952","175697","1990","김연태","확인불가",{"$f":"[1]Sheet1!H703","v":"19900608"},"소재지(위치) 및 소유자 인적사항 불명"]
[73,"충남예산가3956","1114240","1990","황영진","확인불가",{"$f":"[1]Sheet1!H704","v":"19900611"},"소재지(위치) 및 소유자 인적사항 불명"]
[74,"충남예산가3955","1105211","1990","이상성","확인불가",{"$f":"[1]Sheet1!H705","v":"19900611"},"소재지(위치) 및 소유자 인적사항 불명"]
[75,"충남예산가3953","1114759","1990","최성노","확인불가",{"$f":"[1]Sheet1!H706","v":"19900611"},"소재지(위치) 및 소유자 인적사항 불명"]
[76,"충남예산가3957","180952","1990","김봉석","확인불가",{"$f":"[1]Sheet1!H707","v":"19900612"},"소재지(위치) 및 소유자 인적사항 불명"]
[77,"충남예산가3958","1118309","1990","김용문","확인불가",{"$f":"[1]Sheet1!H708","v":"19900614"},"소재지(위치) 및 소유자 인적사항 불명"]
[78,"충남예산가3960","1122401","1990","조병옥","확인불가",{"$f":"[1]Sheet1!H709","v":"19900615"},"소재지(위치) 및 소유자 인적사항 불명"]
[79,"충남예산가3959","1120368","1990","정성준","확인불가",{"$f":"[1]Sheet1!H710","v":"19900615"},"소재지(위치) 및 소유자 인적사항 불명"]
[80,"충남예산가3961","1114357","1990","김이환","확인불가",{"$f":"[1]Sheet1!H711","v":"19900616"},"소재지(위치) 및 소유자 인적사항 불명"]
[81,"충남예산가3964","1113667","1990","지선종","확인불가",{"$f":"[1]Sheet1!H712","v":"19900618"},"소재지(위치) 및 소유자 인적사항 불명"]
[82,"충남예산가3965","130106","1989","김윤환","확인불가",{"$f":"[1]Sheet1!H713","v":"19900619"},"소재지(위치) 및 소유자 인적사항 불명"]
[83,"충남예산가3967","1122621","1990","김경환","확인불가",{"$f":"[1]Sheet1!H714","v":"19900627"},"소재지(위치) 및 소유자 인적사항 불명"]
[84,"충남예산가3968","503838","1990","이완주","확인불가",{"$f":"[1]Sheet1!H715","v":"19900627"},"소재지(위치) 및 소유자 인적사항 불명"]
[85,"충남예산가3969","177044","1990","정철식","확인불가",{"$f":"[1]Sheet1!H716","v":"19900630"},"소재지(위치) 및 소유자 인적사항 불명"]
[86,"충남예산가3970","1123517","1990","류근성","확인불가",{"$f":"[1]Sheet1!H717","v":"19900702"},"소재지(위치) 및 소유자 인적사항 불명"]
[87,"충남예산가3972","180619","1990","예산신우신용협동조합이사장","확인불가",{"$f":"[1]Sheet1!H718","v":"19900703"},"소재지(위치) 및 소유자 인적사항 불명"]
[88,"충남예산가3971","1071605","1989","박택훈","확인불가",{"$f":"[1]Sheet1!H719","v":"19900703"},"소재지(위치) 및 소유자 인적사항 불명"]
[89,"충남예산가3975","156630","1990","전택수","확인불가",{"$f":"[1]Sheet1!H720","v":"19900704"},"소재지(위치) 및 소유자 인적사항 불명"]
[90,"충남예산가3973","149721","1990","양재복","확인불가",{"$f":"[1]Sheet1!H721","v":"19900704"},"소재지(위치) 및 소유자 인적사항 불명"]
[91,"충남예산가3976","1029760","1990","박인복","확인불가",{"$f":"[1]Sheet1!H722","v":"19900704"},"소재지(위치) 및 소유자 인적사항 불명"]
[92,"충남예산가3977","1101413","1989","김대길","확인불가",{"$f":"[1]Sheet1!H723","v":"19900704"},"소재지(위치) 및 소유자 인적사항 불명"]
[93,"충남예산가3978","504550","1990","문윤복","확인불가",{"$f":"[1]Sheet1!H724","v":"19900705"},"소재지(위치) 및 소유자 인적사항 불명"]
[94,"충남예산가3979","110650","1990","이기훈","확인불가",{"$f":"[1]Sheet1!H725","v":"19900709"},"소재지(위치) 및 소유자 인적사항 불명"]
[95,"충남예산가3980","1125320","1990","황재화","확인불가",{"$f":"[1]Sheet1!H726","v":"19900710"},"소재지(위치) 및 소유자 인적사항 불명"]
[96,"충남예산가3981","1038420","1990","박철주","확인불가",{"$f":"[1]Sheet1!H727","v":"19900710"},"소재지(위치) 및 소유자 인적사항 불명"]
[97,"충남예산가3982","1032926","1987","권영식","확인불가",{"$f":"[1]Sheet1!H728","v":"19900711"},"소재지(위치) 및 소유자 인적사항 불명"]
[98,"충남예산가3984","506129","1990","김경규","확인불가",{"$f":"[1]Sheet1!H729","v":"19900712"},"소재지(위치) 및 소유자 인적사항 불명"]
[99,"충남예산가3983","140736","1989","양용석","확인불가",{"$f":"[1]Sheet1!H730","v":"19900712"},"소재지(위치) 및 소유자 인적사항 불명"]
[100,"충남예산가3986","1039170","1990","이영찬","확인불가",{"$f":"[1]Sheet1!H731","v":"19900713"},"소재지(위치) 및 소유자 인적사항 불명"]
[101,"충남예산가3987","1064178","1989","박상옥","확인불가",{"$f":"[1]Sheet1!H732","v":"19900716"},"소재지(위치) 및 소유자 인적사항 불명"]
[102,"충남예산가3989","238800","1990","김창배","확인불가",{"$f":"[1]Sheet1!H733","v":"19900718"},"소재지(위치) 및 소유자 인적사항 불명"]
[103,"충남예산가3988","184323","1990","오영자","확인불가",{"$f":"[1]Sheet1!H734","v":"19900718"},"소재지(위치) 및 소유자 인적사항 불명"]
[104,"충남예산가3991","111593","1990","김정식","확인불가",{"$f":"[1]Sheet1!H735","v":"19900719"},"소재지(위치) 및 소유자 인적사항 불명"]
[105,"충남예산가3990","110294","1990","강연수","확인불가",{"$f":"[1]Sheet1!H736","v":"19900719"},"소재지(위치) 및 소유자 인적사항 불명"]
[106,"충남예산가3992","111952","1990","오수진","확인불가",{"$f":"[1]Sheet1!H737","v":"19900719"},"소재지(위치) 및 소유자 인적사항 불명"]
[107,"충남예산가3993","1030446","1990","전규춘","확인불가",{"$f":"[1]Sheet1!H738","v":"19900720"},"소재지(위치) 및 소유자 인적사항 불명"]
[108,"충남예산가3995","1128934","1990","박근순","확인불가",{"$f":"[1]Sheet1!H739","v":"19900724"},"소재지(위치) 및 소유자 인적사항 불명"]
[109,"충남예산가3998","114081","1990","김기재","확인불가",{"$f":"[1]Sheet1!H740","v":"19900727"},"소재지(위치) 및 소유자 인적사항 불명"]
[110,"충남예산가3997","110785","1990","정진태","확인불가",{"$f":"[1]Sheet1!H741","v":"19900727"},"소재지(위치) 및 소유자 인적사항 불명"]
[111,"충남예산가4000","101516","1988","이병언","확인불가",{"$f":"[1]Sheet1!H742","v":"19900801"},"소재지(위치) 및 소유자 인적사항 불명"]
[112,"충남예산가4002","154848","1989","정문호","확인불가",{"$f":"[1]Sheet1!H743","v":"19900802"},"소재지(위치) 및 소유자 인적사항 불명"]
[113,"충남예산가4001","505066","1990","양성순","확인불가",{"$f":"[1]Sheet1!H744","v":"19900802"},"소재지(위치) 및 소유자 인적사항 불명"]
[114,"충남예산가4004","1124401","1990","김용준","확인불가",{"$f":"[1]Sheet1!H745","v":"19900802"},"소재지(위치) 및 소유자 인적사항 불명"]
[115,"충남예산가4003","1127955","1990","고규철","확인불가",{"$f":"[1]Sheet1!H746","v":"19900802"},"소재지(위치) 및 소유자 인적사항 불명"]
[116,"충남예산가4005","1040920","1990","김건배","확인불가",{"$f":"[1]Sheet1!H747","v":"19900803"},"소재지(위치) 및 소유자 인적사항 불명"]
[117,"충남예산가4007","507251","1990","이환용","확인불가",{"$f":"[1]Sheet1!H748","v":"19900803"},"소재지(위치) 및 소유자 인적사항 불명"]
[118,"충남예산가4006","507890","1990","박치순","확인불가",{"$f":"[1]Sheet1!H749","v":"19900803"},"소재지(위치) 및 소유자 인적사항 불명"]
[119,"충남예산가4010","1125163","1990","정태환","확인불가",{"$f":"[1]Sheet1!H750","v":"19900809"},"소재지(위치) 및 소유자 인적사항 불명"]
[120,"충남예산가4012","507706","1990","장성기","확인불가",{"$f":"[1]Sheet1!H751","v":"19900813"},"소재지(위치) 및 소유자 인적사항 불명"]
[121,"충남예산가4013","1133077","1990","김기동","확인불가",{"$f":"[1]Sheet1!H752","v":"19900814"},"소재지(위치) 및 소유자 인적사항 불명"]
[122,"충남예산가4014","509143","1990","한창수","확인불가",{"$f":"[1]Sheet1!H753","v":"19900814"},"소재지(위치) 및 소유자 인적사항 불명"]
[123,"충남예산가4016","107270","1990","김명겸","확인불가",{"$f":"[1]Sheet1!H754","v":"19900814"},"소재지(위치) 및 소유자 인적사항 불명"]
[124,"충남예산가4018","156360","1990","이주흥","확인불가",{"$f":"[1]Sheet1!H755","v":"19900816"},"소재지(위치) 및 소유자 인적사항 불명"]
[125,"충남예산가4017","1021339","1990","최재호","확인불가",{"$f":"[1]Sheet1!H756","v":"19900816"},"소재지(위치) 및 소유자 인적사항 불명"]
[126,"충남예산가4019","1132978","1990","김영복","확인불가",{"$f":"[1]Sheet1!H757","v":"19900817"},"소재지(위치) 및 소유자 인적사항 불명"]
[127,"충남예산가4021","159046","1990","이상현","확인불가",{"$f":"[1]Sheet1!H758","v":"19900821"},"소재지(위치) 및 소유자 인적사항 불명"]
[128,"충남예산가4020","1134058","1990","이은성","확인불가",{"$f":"[1]Sheet1!H759","v":"19900821"},"소재지(위치) 및 소유자 인적사항 불명"]
[129,"충남예산가4024","1024906","1990","신일섭","확인불가",{"$f":"[1]Sheet1!H760","v":"19900822"},"소재지(위치) 및 소유자 인적사항 불명"]
[130,"충남예산가4023","113631","1990","박확신","확인불가",{"$f":"[1]Sheet1!H761","v":"19900822"},"소재지(위치) 및 소유자 인적사항 불명"]
[131,"충남예산가4025","1134174","1990","이재국","확인불가",{"$f":"[1]Sheet1!H762","v":"19900822"},"소재지(위치) 및 소유자 인적사항 불명"]
[132,"충남예산가4022","505696","1990","박승익","확인불가",{"$f":"[1]Sheet1!H763","v":"19900822"},"소재지(위치) 및 소유자 인적사항 불명"]
[133,"충남예산가4026","509099","1990","전병윤","확인불가",{"$f":"[1]Sheet1!H764","v":"19900822"},"소재지(위치) 및 소유자 인적사항 불명"]
[134,"충남예산가4027","156518","1990","박증수","확인불가",{"$f":"[1]Sheet1!H765","v":"19900823"},"소재지(위치) 및 소유자 인적사항 불명"]
[135,"충남예산가4029","1118495","1990","한영진","확인불가",{"$f":"[1]Sheet1!H766","v":"19900823"},"소재지(위치) 및 소유자 인적사항 불명"]
[136,"충남예산가4030","1132748","1990","전용현","확인불가",{"$f":"[1]Sheet1!H767","v":"19900824"},"소재지(위치) 및 소유자 인적사항 불명"]
[137,"충남예산가4034","509496","1990","하영택","확인불가",{"$f":"[1]Sheet1!H768","v":"19900827"},"소재지(위치) 및 소유자 인적사항 불명"]
[138,"충남예산가4033","1135638","1990","이계웅","확인불가",{"$f":"[1]Sheet1!H769","v":"19900827"},"소재지(위치) 및 소유자 인적사항 불명"]
[139,"충남예산가4031","1131829","1990","강세영","확인불가",{"$f":"[1]Sheet1!H770","v":"19900827"},"소재지(위치) 및 소유자 인적사항 불명"]
[140,"충남예산가4035","1134189","1990","최경완","확인불가",{"$f":"[1]Sheet1!H771","v":"19900827"},"소재지(위치) 및 소유자 인적사항 불명"]
[141,"충남예산가4032","1041894","1990","유천식","확인불가",{"$f":"[1]Sheet1!H772","v":"19900827"},"소재지(위치) 및 소유자 인적사항 불명"]
[142,"충남예산가4036","1042471","1990","이은두","확인불가",{"$f":"[1]Sheet1!H773","v":"19900829"},"소재지(위치) 및 소유자 인적사항 불명"]
[143,"충남예산가4042","102638","1990","명행식","확인불가",{"$f":"[1]Sheet1!H774","v":"19900830"},"소재지(위치) 및 소유자 인적사항 불명"]
[144,"충남예산가4038","145651","1990","손태자","확인불가",{"$f":"[1]Sheet1!H775","v":"19900830"},"소재지(위치) 및 소유자 인적사항 불명"]
[145,"충남예산가4040","154526","1990","양태원","확인불가",{"$f":"[1]Sheet1!H776","v":"19900830"},"소재지(위치) 및 소유자 인적사항 불명"]
[146,"충남예산가4037","1136658","1990","손춘성","확인불가",{"$f":"[1]Sheet1!H777","v":"19900830"},"소재지(위치) 및 소유자 인적사항 불명"]
[147,"충남예산가4039","1127091","1990","이기태","확인불가",{"$f":"[1]Sheet1!H778","v":"19900830"},"소재지(위치) 및 소유자 인적사항 불명"]
[148,"충남예산가4041","176079","1990","유귀복","확인불가",{"$f":"[1]Sheet1!H779","v":"19900830"},"소재지(위치) 및 소유자 인적사항 불명"]
[149,"충남예산가4045","1134745","1990","오용대","확인불가",{"$f":"[1]Sheet1!H780","v":"19900903"},"소재지(위치) 및 소유자 인적사항 불명"]
[150,"충남예산가4044","1135573","1990","박완규","확인불가",{"$f":"[1]Sheet1!H781","v":"19900903"},"소재지(위치) 및 소유자 인적사항 불명"]
[151,"충남예산가4047","157695","1990","전병직","확인불가",{"$f":"[1]Sheet1!H782","v":"19900904"},"소재지(위치) 및 소유자 인적사항 불명"]
[152,"충남예산가4046","1043312","1990","이재선","확인불가",{"$f":"[1]Sheet1!H783","v":"19900904"},"소재지(위치) 및 소유자 인적사항 불명"]
[153,"충남예산가4049","159306","1990","이병선","확인불가",{"$f":"[1]Sheet1!H784","v":"19900907"},"소재지(위치) 및 소유자 인적사항 불명"]
[154,"충남예산가4050","1134734","1990","장효식","확인불가",{"$f":"[1]Sheet1!H785","v":"19900908"},"소재지(위치) 및 소유자 인적사항 불명"]
[155,"충남예산가4052","512552","1990","신동실","확인불가",{"$f":"[1]Sheet1!H786","v":"19900912"},"소재지(위치) 및 소유자 인적사항 불명"]
[156,"충남예산가4051","512559","1990","이경호","확인불가",{"$f":"[1]Sheet1!H787","v":"19900912"},"소재지(위치) 및 소유자 인적사항 불명"]
[157,"충남예산가4053","1000958","1989","연종식","확인불가",{"$f":"[1]Sheet1!H788","v":"19900912"},"소재지(위치) 및 소유자 인적사항 불명"]
[158,"충남예산가4054","102077","1988","박연수","확인불가",{"$f":"[1]Sheet1!H789","v":"19900917"},"소재지(위치) 및 소유자 인적사항 불명"]
[159,"충남예산가4055","1139785","1990","정찬일","확인불가",{"$f":"[1]Sheet1!H790","v":"19900920"},"소재지(위치) 및 소유자 인적사항 불명"]
[160,"충남예산가4056","511829","1990","조용래","확인불가",{"$f":"[1]Sheet1!H791","v":"19900921"},"소재지(위치) 및 소유자 인적사항 불명"]
[161,"충남예산가4058","1141325","1990","박성국","확인불가",{"$f":"[1]Sheet1!H792","v":"19900924"},"소재지(위치) 및 소유자 인적사항 불명"]
[162,"충남예산가4060","114159","1990","박기백","확인불가",{"$f":"[1]Sheet1!H793","v":"19900924"},"소재지(위치) 및 소유자 인적사항 불명"]
[163,"충남예산가4061","153106","1990","이대형","확인불가",{"$f":"[1]Sheet1!H794","v":"19900928"},"소재지(위치) 및 소유자 인적사항 불명"]
[164,"충남예산가4062","110811","1990","최종영","확인불가",{"$f":"[1]Sheet1!H795","v":"19901006"},"소재지(위치) 및 소유자 인적사항 불명"]
[165,"충남예산가4066","102128","1990","전용석","확인불가",{"$f":"[1]Sheet1!H796","v":"19901008"},"소재지(위치) 및 소유자 인적사항 불명"]
[166,"충남예산가4065","1142465","1990","이종규","확인불가",{"$f":"[1]Sheet1!H797","v":"19901008"},"소재지(위치) 및 소유자 인적사항 불명"]
[167,"충남예산가4067","1135998","1990","유정철","확인불가",{"$f":"[1]Sheet1!H798","v":"19901008"},"소재지(위치) 및 소유자 인적사항 불명"]
[168,"충남예산가4068","1140340","1990","유현식","확인불가",{"$f":"[1]Sheet1!H799","v":"19901010"},"소재지(위치) 및 소유자 인적사항 불명"]
[169,"충남예산가4071","1144079","1990","윤전완","확인불가",{"$f":"[1]Sheet1!H800","v":"19901011"},"소재지(위치) 및 소유자 인적사항 불명"]
[170,"충남예산가4070","1144009","1990","윤전완","확인불가",{"$f":"[1]Sheet1!H801","v":"19901011"},"소재지(위치) 및 소유자 인적사항 불명"]
[171,"충남예산가4073","1144033","1990","임병찬","확인불가",{"$f":"[1]Sheet1!H802","v":"19901015"},"소재지(위치) 및 소유자 인적사항 불명"]
[172,"충남예산가4072","516531","1990","이철영","확인불가",{"$f":"[1]Sheet1!H803","v":"19901015"},"소재지(위치) 및 소유자 인적사항 불명"]
[173,"충남예산가4076","1065730","1990","강신효","확인불가",{"$f":"[1]Sheet1!H804","v":"19901018"},"소재지(위치) 및 소유자 인적사항 불명"]
[174,"충남예산가4077","113675","1990","정재신","확인불가",{"$f":"[1]Sheet1!H805","v":"19901020"},"소재지(위치) 및 소유자 인적사항 불명"]
[175,"충남예산가4080","517991","1990","이유복","확인불가",{"$f":"[1]Sheet1!H806","v":"19901022"},"소재지(위치) 및 소유자 인적사항 불명"]
[176,"충남예산가4079","188056","1990","최인규","확인불가",{"$f":"[1]Sheet1!H807","v":"19901022"},"소재지(위치) 및 소유자 인적사항 불명"]
[177,"충남예산가4081","150095","1990","김천섭","확인불가",{"$f":"[1]Sheet1!H808","v":"19901024"},"소재지(위치) 및 소유자 인적사항 불명"]
[178,"충남예산가4084","188272","1990","박원용","확인불가",{"$f":"[1]Sheet1!H809","v":"19901025"},"소재지(위치) 및 소유자 인적사항 불명"]
[179,"충남예산가4083","161902","1990","변종한","확인불가",{"$f":"[1]Sheet1!H810","v":"19901025"},"소재지(위치) 및 소유자 인적사항 불명"]
[180,"충남예산가4086","106427","1990","천희형","확인불가",{"$f":"[1]Sheet1!H811","v":"19901026"},"소재지(위치) 및 소유자 인적사항 불명"]
[181,"충남예산가4085","183317","1990","곽수영","확인불가",{"$f":"[1]Sheet1!H812","v":"19901026"},"소재지(위치) 및 소유자 인적사항 불명"]
[182,"충남예산가4087","1184009","1990","염계창","확인불가",{"$f":"[1]Sheet1!H813","v":"19901027"},"소재지(위치) 및 소유자 인적사항 불명"]
[183,"충남예산가4089","1146529","1990","정기준","확인불가",{"$f":"[1]Sheet1!H814","v":"19901029"},"소재지(위치) 및 소유자 인적사항 불명"]
[184,"충남예산가4088","1146525","1990","임병재","확인불가",{"$f":"[1]Sheet1!H815","v":"19901029"},"소재지(위치) 및 소유자 인적사항 불명"]
[185,"충남예산가4090","1084129","1989","조영주","확인불가",{"$f":"[1]Sheet1!H816","v":"19901101"},"소재지(위치) 및 소유자 인적사항 불명"]
[186,"충남예산가4092","1126137","1990","유병묵","확인불가",{"$f":"[1]Sheet1!H817","v":"19901102"},"소재지(위치) 및 소유자 인적사항 불명"]
[187,"충남예산가4091","1134040","1990","유재흥","확인불가",{"$f":"[1]Sheet1!H818","v":"19901102"},"소재지(위치) 및 소유자 인적사항 불명"]
[188,"충남예산가4094","1124523","1990","이종록","확인불가",{"$f":"[1]Sheet1!H819","v":"19901103"},"소재지(위치) 및 소유자 인적사항 불명"]
[189,"충남예산가4095","161599","1990","서정곽","확인불가",{"$f":"[1]Sheet1!H820","v":"19901105"},"소재지(위치) 및 소유자 인적사항 불명"]
[190,"충남예산가4096","160918","1990","이두호","확인불가",{"$f":"[1]Sheet1!H821","v":"19901106"},"소재지(위치) 및 소유자 인적사항 불명"]
[191,"충남예산가4098","508371","1990","현중근","확인불가",{"$f":"[1]Sheet1!H822","v":"19901107"},"소재지(위치) 및 소유자 인적사항 불명"]
[192,"충남예산가4097","1148767","1990","김진득","확인불가",{"$f":"[1]Sheet1!H823","v":"19901107"},"소재지(위치) 및 소유자 인적사항 불명"]
[193,"충남예산가4100","1046641","1990","이상설","확인불가",{"$f":"[1]Sheet1!H824","v":"19901113"},"소재지(위치) 및 소유자 인적사항 불명"]
[194,"충남예산가4108","116680","1990","황대선","확인불가",{"$f":"[1]Sheet1!H825","v":"19901114"},"소재지(위치) 및 소유자 인적사항 불명"]
[195,"충남예산가4106","519841","1990","장홍만","확인불가",{"$f":"[1]Sheet1!H826","v":"19901114"},"소재지(위치) 및 소유자 인적사항 불명"]
[196,"충남예산가4103","116258","1990","최병원","확인불가",{"$f":"[1]Sheet1!H827","v":"19901115"},"소재지(위치) 및 소유자 인적사항 불명"]
[197,"충남예산가4102","107925","1990","조병문","확인불가",{"$f":"[1]Sheet1!H828","v":"19901115"},"소재지(위치) 및 소유자 인적사항 불명"]
[198,"충남예산가4104","517909","1990","이현우","확인불가",{"$f":"[1]Sheet1!H829","v":"19901120"},"소재지(위치) 및 소유자 인적사항 불명"]
[199,"충남예산가4107","519847","1990","박수경","확인불가",{"$f":"[1]Sheet1!H830","v":"19901127"},"소재지(위치) 및 소유자 인적사항 불명"]
[200,"충남예산가4111","8015235","1990","김주옥","확인불가",{"$f":"[1]Sheet1!H831","v":"19901201"},"소재지(위치) 및 소유자 인적사항 불명"]
[201,"충남예산가4109","188005","1990","주봉자","확인불가",{"$f":"[1]Sheet1!H832","v":"19901204"},"소재지(위치) 및 소유자 인적사항 불명"]
[202,"충남예산가4110","1148649","1990","이규갑","확인불가",{"$f":"[1]Sheet1!H833","v":"19901210"},"소재지(위치) 및 소유자 인적사항 불명"]
[203,"충남예산가4112","520340","1990","윤장록","확인불가",{"$f":"[1]Sheet1!H834","v":"19901212"},"소재지(위치) 및 소유자 인적사항 불명"]
[204,"충남예산가4113","1148628","1990","이두현","확인불가",{"$f":"[1]Sheet1!H835","v":"19901214"},"소재지(위치) 및 소유자 인적사항 불명"]
[205,"충남예산가4115","1104509","1990","박용규","확인불가",{"$f":"[1]Sheet1!H836","v":"19901220"},"소재지(위치) 및 소유자 인적사항 불명"]
[206,"충남예산가4116","1018985","1989","김영식","확인불가",{"$f":"[1]Sheet1!H837","v":"19901220"},"소재지(위치) 및 소유자 인적사항 불명"]
[207,"충남예산가4117","1155453","1990","오기환","확인불가",{"$f":"[1]Sheet1!H838","v":"19901220"},"소재지(위치) 및 소유자 인적사항 불명"]
[208,"충남예산가4118","518666","1990","김만겸","확인불가",{"$f":"[1]Sheet1!H839","v":"19901231"},"소재지(위치) 및 소유자 인적사항 불명"]
[209,"충남예산가4119","517038","1990","이인환","확인불가",{"$f":"[1]Sheet1!H840","v":"19901231"},"소재지(위치) 및 소유자 인적사항 불명"]
[210,"충남예산가4123","1092373","1989","박쾌신","확인불가",{"$f":"[1]Sheet1!H841","v":"19910123"},"소재지(위치) 및 소유자 인적사항 불명"]
[211,"충남예산가4125","1141226","1990","황규홍","확인불가",{"$f":"[1]Sheet1!H842","v":"19910126"},"소재지(위치) 및 소유자 인적사항 불명"]
[212,"충남예산가4124","525584","1991","김수원","확인불가",{"$f":"[1]Sheet1!H843","v":"19910126"},"소재지(위치) 및 소유자 인적사항 불명"]
[213,"충남예산가4126","525495","1991","박승신","확인불가",{"$f":"[1]Sheet1!H844","v":"19910129"},"소재지(위치) 및 소유자 인적사항 불명"]
[214,"충남예산가4128","524849","1991","장정애","확인불가",{"$f":"[1]Sheet1!H845","v":"19910204"},"소재지(위치) 및 소유자 인적사항 불명"]
[215,"충남예산가4129","525083","1991","이도환","확인불가",{"$f":"[1]Sheet1!H846","v":"19910205"},"소재지(위치) 및 소유자 인적사항 불명"]
[216,"충남예산가4131","119496","1991","최남진","확인불가",{"$f":"[1]Sheet1!H847","v":"19910213"},"소재지(위치) 및 소유자 인적사항 불명"]
[217,"충남예산가4135","168480","1991","염원하","확인불가",{"$f":"[1]Sheet1!H848","v":"19910218"},"소재지(위치) 및 소유자 인적사항 불명"]
[218,"충남예산가4133","119566","1991","최종국","확인불가",{"$f":"[1]Sheet1!H849","v":"19910218"},"소재지(위치) 및 소유자 인적사항 불명"]
[219,"충남예산가4134","119552","1991","김기선","확인불가",{"$f":"[1]Sheet1!H850","v":"19910218"},"소재지(위치) 및 소유자 인적사항 불명"]
[220,"충남예산가4136","105209","1991","박준식","확인불가",{"$f":"[1]Sheet1!H851","v":"19910220"},"소재지(위치) 및 소유자 인적사항 불명"]
[221,"충남예산가4138","09860","1991","김종태","확인불가",{"$f":"[1]Sheet1!H852","v":"19910223"},"소재지(위치) 및 소유자 인적사항 불명"]
[222,"충남예산가4140","521968","1991","이양길","확인불가",{"$f":"[1]Sheet1!H853","v":"19910304"},"소재지(위치) 및 소유자 인적사항 불명"]
[223,"충남예산가4143","524981","1991","김성근","확인불가",{"$f":"[1]Sheet1!H854","v":"19910304"},"소재지(위치) 및 소유자 인적사항 불명"]
[224,"충남예산가4145","111759","1991","최병원","확인불가",{"$f":"[1]Sheet1!H855","v":"19910305"},"소재지(위치) 및 소유자 인적사항 불명"]
[225,"충남예산가4146","525807","1991","박상민","확인불가",{"$f":"[1]Sheet1!H856","v":"19910306"},"소재지(위치) 및 소유자 인적사항 불명"]
[226,"충남예산가4147","1160817","1991","안종철","확인불가",{"$f":"[1]Sheet1!H857","v":"19910307"},"소재지(위치) 및 소유자 인적사항 불명"]
[227,"충남예산가4148","526646","1991","최상철","확인불가",{"$f":"[1]Sheet1!H858","v":"19910311"},"소재지(위치) 및 소유자 인적사항 불명"]
[228,"충남예산가4152","1122358","1991","전용주","확인불가",{"$f":"[1]Sheet1!H859","v":"19910314"},"소재지(위치) 및 소유자 인적사항 불명"]
[229,"충남예산가4151","169687","1991","박영태","확인불가",{"$f":"[1]Sheet1!H860","v":"19910314"},"소재지(위치) 및 소유자 인적사항 불명"]
[230,"충남예산가4153","1161684","1991","박영순","확인불가",{"$f":"[1]Sheet1!H861","v":"19910316"},"소재지(위치) 및 소유자 인적사항 불명"]
[231,"충남예산가4154","1165043","1991","이병천","확인불가",{"$f":"[1]Sheet1!H862","v":"19910318"},"소재지(위치) 및 소유자 인적사항 불명"]
[232,"충남예산가4156","119739","1991","이영찬","확인불가",{"$f":"[1]Sheet1!H863","v":"19910319"},"소재지(위치) 및 소유자 인적사항 불명"]
[233,"충남예산가4155","531621","1991","한대두","확인불가",{"$f":"[1]Sheet1!H864","v":"19910319"},"소재지(위치) 및 소유자 인적사항 불명"]
[234,"충남예산가41576","1035514","1991","김택상","확인불가",{"$f":"[1]Sheet1!H865","v":"19910322"},"소재지(위치) 및 소유자 인적사항 불명"]
[235,"충남예산가4160","168114","1991","김재근","확인불가",{"$f":"[1]Sheet1!H866","v":"19910328"},"소재지(위치) 및 소유자 인적사항 불명"]
[236,"충남예산가4159","1172762","1991","강신태","확인불가",{"$f":"[1]Sheet1!H867","v":"19910328"},"소재지(위치) 및 소유자 인적사항 불명"]
[237,"충남예산가4162","1061764","1991","김문수","확인불가",{"$f":"[1]Sheet1!H868","v":"19910329"},"소재지(위치) 및 소유자 인적사항 불명"]
[238,"충남예산가4161","1167072","1991","김용식","확인불가",{"$f":"[1]Sheet1!H869","v":"19910329"},"소재지(위치) 및 소유자 인적사항 불명"]
[239,"충남예산가4164","524848","1991","박연수","확인불가",{"$f":"[1]Sheet1!H870","v":"19910406"},"소재지(위치) 및 소유자 인적사항 불명"]
[240,"충남예산가4165","524204","1991","김인수","확인불가",{"$f":"[1]Sheet1!H871","v":"19910408"},"소재지(위치) 및 소유자 인적사항 불명"]
[241,"충남예산가4169","1168632","1991","김용운","확인불가",{"$f":"[1]Sheet1!H872","v":"19910410"},"소재지(위치) 및 소유자 인적사항 불명"]
[242,"충남예산가4170","167618","1991","김기성","확인불가",{"$f":"[1]Sheet1!H873","v":"19910412"},"소재지(위치) 및 소유자 인적사항 불명"]
[243,"충남예산가4171","195279","1991","이경순","확인불가",{"$f":"[1]Sheet1!H874","v":"19910416"},"소재지(위치) 및 소유자 인적사항 불명"]
[244,"충남예산가4173","525217","1991","박순화","확인불가",{"$f":"[1]Sheet1!H875","v":"19910418"},"소재지(위치) 및 소유자 인적사항 불명"]
[245,"충남예산가4172","531506","1991","김종헌","확인불가",{"$f":"[1]Sheet1!H876","v":"19910418"},"소재지(위치) 및 소유자 인적사항 불명"]
[246,"충남예산가4176","1171987","1991","김동천","확인불가",{"$f":"[1]Sheet1!H877","v":"19910426"},"소재지(위치) 및 소유자 인적사항 불명"]
[247,"충남예산가4177","104980","1991","박기태","확인불가",{"$f":"[1]Sheet1!H878","v":"19910430"},"소재지(위치) 및 소유자 인적사항 불명"]
[248,"충남예산가4178","1063852","1991","이희원","확인불가",{"$f":"[1]Sheet1!H879","v":"19910503"},"소재지(위치) 및 소유자 인적사항 불명"]
[249,"충남예산가4181","524186","1991","최영수","확인불가",{"$f":"[1]Sheet1!H880","v":"19910507"},"소재지(위치) 및 소유자 인적사항 불명"]
[250,"충남예산가4182","1160034","1991","김영복","확인불가",{"$f":"[1]Sheet1!H881","v":"19910510"},"소재지(위치) 및 소유자 인적사항 불명"]
[251,"충남예산가4183","166413","1991","이기천","확인불가",{"$f":"[1]Sheet1!H882","v":"19910511"},"소재지(위치) 및 소유자 인적사항 불명"]
[252,"충남예산가4184","119928","1991","정철식","확인불가",{"$f":"[1]Sheet1!H883","v":"19910515"},"소재지(위치) 및 소유자 인적사항 불명"]
[253,"충남예산가4187","1127368","1991","고인성","확인불가",{"$f":"[1]Sheet1!H884","v":"19910517"},"소재지(위치) 및 소유자 인적사항 불명"]
[254,"충남예산가4185","1168960","1991","유해준","확인불가",{"$f":"[1]Sheet1!H885","v":"19910517"},"소재지(위치) 및 소유자 인적사항 불명"]
[255,"충남예산가4186","172134","1991","고인성","확인불가",{"$f":"[1]Sheet1!H886","v":"19910517"},"소재지(위치) 및 소유자 인적사항 불명"]
[256,"충남예산가4188","1147157","1991","박월신","확인불가",{"$f":"[1]Sheet1!H887","v":"19910518"},"소재지(위치) 및 소유자 인적사항 불명"]
[257,"충남예산가4189","532348","1991","김명수","확인불가",{"$f":"[1]Sheet1!H888","v":"19910520"},"소재지(위치) 및 소유자 인적사항 불명"]
[258,"충남예산가4190","1070557","1991","이한섭","확인불가",{"$f":"[1]Sheet1!H889","v":"19910520"},"소재지(위치) 및 소유자 인적사항 불명"]
[259,"충남예산가4191","533717","1991","고영창","확인불가",{"$f":"[1]Sheet1!H890","v":"19910527"},"소재지(위치) 및 소유자 인적사항 불명"]
[260,"충남예산가4194","166360","1991","엽연초조합","확인불가",{"$f":"[1]Sheet1!H891","v":"19910529"},"소재지(위치) 및 소유자 인적사항 불명"]
[261,"충남예산가4193","1182527","1991","양승원","확인불가",{"$f":"[1]Sheet1!H892","v":"19910529"},"소재지(위치) 및 소유자 인적사항 불명"]
[262,"충남예산가4192","114370","1991","양승원","확인불가",{"$f":"[1]Sheet1!H893","v":"19910529"},"소재지(위치) 및 소유자 인적사항 불명"]
[263,"충남예산가4195","534234","1991","성시근","확인불가",{"$f":"[1]Sheet1!H894","v":"19910531"},"소재지(위치) 및 소유자 인적사항 불명"]
[264,"충남예산가1172","1051588","1991","대전지방철도철 예산보안분소","확인불가",{"$f":"[1]Sheet1!H895","v":"19910603"},"소재지(위치) 및 소유자 인적사항 불명"]
[265,"충남예산가4198","533420","1991","김흥양","확인불가",{"$f":"[1]Sheet1!H896","v":"19910604"},"소재지(위치) 및 소유자 인적사항 불명"]
[266,"충남예산가4199","1145358","1991","정대복","확인불가",{"$f":"[1]Sheet1!H897","v":"19910605"},"소재지(위치) 및 소유자 인적사항 불명"]
[267,"충남예산가4201","1074765","1991","공영경","확인불가",{"$f":"[1]Sheet1!H898","v":"19910608"},"소재지(위치) 및 소유자 인적사항 불명"]
[268,"충남예산가4200","1165199","1991","박진홍","확인불가",{"$f":"[1]Sheet1!H899","v":"19910608"},"소재지(위치) 및 소유자 인적사항 불명"]
[269,"충남예산가4204","1186516","1991","조병석","확인불가",{"$f":"[1]Sheet1!H900","v":"19910612"},"소재지(위치) 및 소유자 인적사항 불명"]
[270,"충남예산가4203","541409","1991","이풍재","확인불가",{"$f":"[1]Sheet1!H901","v":"19910612"},"소재지(위치) 및 소유자 인적사항 불명"]
[271,"충남예산가4205","194943","1991","전수원","확인불가",{"$f":"[1]Sheet1!H902","v":"19910614"},"소재지(위치) 및 소유자 인적사항 불명"]
[272,"충남예산가4208","1014914","1991","이광석","확인불가",{"$f":"[1]Sheet1!H903","v":"19910617"},"소재지(위치) 및 소유자 인적사항 불명"]
[273,"충남예산가4206","172365","1991","명형식","확인불가",{"$f":"[1]Sheet1!H904","v":"19910617"},"소재지(위치) 및 소유자 인적사항 불명"]
[274,"충남예산가4209","119479","1991","권영식","확인불가",{"$f":"[1]Sheet1!H905","v":"19910619"},"소재지(위치) 및 소유자 인적사항 불명"]
[275,"충남예산가4211","127907","1991","이재국","확인불가",{"$f":"[1]Sheet1!H906","v":"19910623"},"소재지(위치) 및 소유자 인적사항 불명"]
[276,"충남예산가4214","1175288","1991","윤덕상","확인불가",{"$f":"[1]Sheet1!H907","v":"19910625"},"소재지(위치) 및 소유자 인적사항 불명"]
[277,"충남예산가4217","113864","1991","김선일","확인불가",{"$f":"[1]Sheet1!H908","v":"19910628"},"소재지(위치) 및 소유자 인적사항 불명"]
[278,"충남예산가4218","1074526","1991","이창수","확인불가",{"$f":"[1]Sheet1!H909","v":"19910701"},"소재지(위치) 및 소유자 인적사항 불명"]
[279,"충남예산가4219","210075","1991","최병세","확인불가",{"$f":"[1]Sheet1!H910","v":"19910702"},"소재지(위치) 및 소유자 인적사항 불명"]
[280,"충남예산가4220","107438","1991","정차훈","확인불가",{"$f":"[1]Sheet1!H911","v":"19910703"},"소재지(위치) 및 소유자 인적사항 불명"]
[281,"충남예산가4222","525645","1991","이낙종","확인불가",{"$f":"[1]Sheet1!H912","v":"19910705"},"소재지(위치) 및 소유자 인적사항 불명"]
[282,"충남예산가4225","125849","1991","유병조","확인불가",{"$f":"[1]Sheet1!H913","v":"19910705"},"소재지(위치) 및 소유자 인적사항 불명"]
[283,"충남예산가4223","544610","1991","송해준","확인불가",{"$f":"[1]Sheet1!H914","v":"19910705"},"소재지(위치) 및 소유자 인적사항 불명"]
[284,"충남예산가4227","534032","1991","김성길","확인불가",{"$f":"[1]Sheet1!H915","v":"19910710"},"소재지(위치) 및 소유자 인적사항 불명"]
[285,"충남예산가4228","545319","1991","백낙현","확인불가",{"$f":"[1]Sheet1!H916","v":"19910713"},"소재지(위치) 및 소유자 인적사항 불명"]
[286,"충남예산가4229","545688","1991","서동안","확인불가",{"$f":"[1]Sheet1!H917","v":"19910715"},"소재지(위치) 및 소유자 인적사항 불명"]
[287,"충남예산가4232","1063487","1991","정복진","확인불가",{"$f":"[1]Sheet1!H918","v":"19910719"},"소재지(위치) 및 소유자 인적사항 불명"]
[288,"충남예산가4231","1193088","1991","이의만","확인불가",{"$f":"[1]Sheet1!H919","v":"19910719"},"소재지(위치) 및 소유자 인적사항 불명"]
[289,"충남예산가4235","502270","1991","박택훈","확인불가",{"$f":"[1]Sheet1!H920","v":"19910722"},"소재지(위치) 및 소유자 인적사항 불명"]
[290,"충남예산가4234","501484","1991","최종철","확인불가",{"$f":"[1]Sheet1!H921","v":"19910722"},"소재지(위치) 및 소유자 인적사항 불명"]
[291,"충남예산가4236","195214","1991","이종길","확인불가",{"$f":"[1]Sheet1!H922","v":"19910723"},"소재지(위치) 및 소유자 인적사항 불명"]
[292,"충남예산가4238","537130","1991","장동갑","확인불가",{"$f":"[1]Sheet1!H923","v":"19910723"},"소재지(위치) 및 소유자 인적사항 불명"]
[293,"충남예산가4239","502374","1991","이종팔","확인불가",{"$f":"[1]Sheet1!H924","v":"19910724"},"소재지(위치) 및 소유자 인적사항 불명"]
[294,"충남예산가4241","1167132","1991","전봉근","확인불가",{"$f":"[1]Sheet1!H925","v":"19910726"},"소재지(위치) 및 소유자 인적사항 불명"]
[295,"충남예산가4243","1193101","1991","최응락","확인불가",{"$f":"[1]Sheet1!H926","v":"19910726"},"소재지(위치) 및 소유자 인적사항 불명"]
[296,"충남예산가4244","1200059","1991","윤선희","확인불가",{"$f":"[1]Sheet1!H927","v":"19910729"},"소재지(위치) 및 소유자 인적사항 불명"]
[297,"충남예산가4246","501472","1991","조구형","확인불가",{"$f":"[1]Sheet1!H928","v":"19910729"},"소재지(위치) 및 소유자 인적사항 불명"]
[298,"충남예산가4245","121251","1991","손창석","확인불가",{"$f":"[1]Sheet1!H929","v":"19910729"},"소재지(위치) 및 소유자 인적사항 불명"]
[299,"충남예산가4247","1191486","1991","박명제","확인불가",{"$f":"[1]Sheet1!H930","v":"19910802"},"소재지(위치) 및 소유자 인적사항 불명"]
[300,"충남예산가4249","109174","1991","이종옥","확인불가",{"$f":"[1]Sheet1!H931","v":"19910802"},"소재지(위치) 및 소유자 인적사항 불명"]
[301,"충남예산가4248","502129","1991","김동철","확인불가",{"$f":"[1]Sheet1!H932","v":"19910802"},"소재지(위치) 및 소유자 인적사항 불명"]
[302,"충남예산가4252","117563","1991","최병원","확인불가",{"$f":"[1]Sheet1!H933","v":"19910812"},"소재지(위치) 및 소유자 인적사항 불명"]
[303,"충남예산가4253","1196267","1991","김일갑","확인불가",{"$f":"[1]Sheet1!H934","v":"19910813"},"소재지(위치) 및 소유자 인적사항 불명"]
[304,"충남예산가4254","1195424","1991","이강희","확인불가",{"$f":"[1]Sheet1!H935","v":"19910814"},"소재지(위치) 및 소유자 인적사항 불명"]
[305,"충남예산가4255","1082058","1991","안병구","확인불가",{"$f":"[1]Sheet1!H936","v":"19910819"},"소재지(위치) 및 소유자 인적사항 불명"]
[306,"충남예산가4259","126420","1991","신동실","확인불가",{"$f":"[1]Sheet1!H937","v":"19910822"},"소재지(위치) 및 소유자 인적사항 불명"]
[307,"충남예산가4260","116906","1991","김수희","확인불가",{"$f":"[1]Sheet1!H938","v":"19910822"},"소재지(위치) 및 소유자 인적사항 불명"]
[308,"충남예산가4261","1083735","1991","배성우","확인불가",{"$f":"[1]Sheet1!H939","v":"19910823"},"소재지(위치) 및 소유자 인적사항 불명"]
[309,"충남예산가4264","1196319","1991","김성규","확인불가",{"$f":"[1]Sheet1!H940","v":"19910824"},"소재지(위치) 및 소유자 인적사항 불명"]
[310,"충남예산가4263","1084180","1991","김효성","확인불가",{"$f":"[1]Sheet1!H941","v":"19910824"},"소재지(위치) 및 소유자 인적사항 불명"]
[311,"충남예산가4265","1195772","1991","조광식","확인불가",{"$f":"[1]Sheet1!H942","v":"19910826"},"소재지(위치) 및 소유자 인적사항 불명"]
[312,"충남예산가4266","536204","1991","지균상","확인불가",{"$f":"[1]Sheet1!H943","v":"19910827"},"소재지(위치) 및 소유자 인적사항 불명"]
[313,"충남예산가4268","1084187","1991","이성구","확인불가",{"$f":"[1]Sheet1!H944","v":"19910828"},"소재지(위치) 및 소유자 인적사항 불명"]
[314,"충남예산가4269","120618","1991","김상곤","확인불가",{"$f":"[1]Sheet1!H945","v":"19910828"},"소재지(위치) 및 소유자 인적사항 불명"]
[315,"충남예산가4271","1198627","1991","신군철","확인불가",{"$f":"[1]Sheet1!H946","v":"19910830"},"소재지(위치) 및 소유자 인적사항 불명"]
[316,"충남예산가4275","501084","1991","신택철","확인불가",{"$f":"[1]Sheet1!H947","v":"19910902"},"소재지(위치) 및 소유자 인적사항 불명"]
[317,"충남예산가4274","1202635","1991","신은철","확인불가",{"$f":"[1]Sheet1!H948","v":"19910902"},"소재지(위치) 및 소유자 인적사항 불명"]
[318,"충남예산가4272","195843","1991","최상준","확인불가",{"$f":"[1]Sheet1!H949","v":"19910902"},"소재지(위치) 및 소유자 인적사항 불명"]
[319,"충남예산가4276","120381","1991","김기복","확인불가",{"$f":"[1]Sheet1!H950","v":"19910902"},"소재지(위치) 및 소유자 인적사항 불명"]
[320,"충남예산가4277","1198087","1991","김재혁","확인불가",{"$f":"[1]Sheet1!H951","v":"19910906"},"소재지(위치) 및 소유자 인적사항 불명"]
[321,"충남예산가4278","1199619","1991","오홍근","확인불가",{"$f":"[1]Sheet1!H952","v":"19910907"},"소재지(위치) 및 소유자 인적사항 불명"]
[322,"충남예산가4279","1157860","1991","박월신","확인불가",{"$f":"[1]Sheet1!H953","v":"19910910"},"소재지(위치) 및 소유자 인적사항 불명"]
[323,"충남예산가4280","176163","1991","최종영","확인불가",{"$f":"[1]Sheet1!H954","v":"19910911"},"소재지(위치) 및 소유자 인적사항 불명"]
[324,"충남예산가4281","175048","1991","이강희","확인불가",{"$f":"[1]Sheet1!H955","v":"19910912"},"소재지(위치) 및 소유자 인적사항 불명"]
[325,"충남예산가4284","113736","1990","김근석","확인불가",{"$f":"[1]Sheet1!H956","v":"19910913"},"소재지(위치) 및 소유자 인적사항 불명"]
[326,"충남예산가4282","1202430","1991","성기요","확인불가",{"$f":"[1]Sheet1!H957","v":"19910913"},"소재지(위치) 및 소유자 인적사항 불명"]
[327,"충남예산가4283","108910","1991","최수근","확인불가",{"$f":"[1]Sheet1!H958","v":"19910913"},"소재지(위치) 및 소유자 인적사항 불명"]
[328,"충남예산가4285","108998","1991","강연관","확인불가",{"$f":"[1]Sheet1!H959","v":"19910916"},"소재지(위치) 및 소유자 인적사항 불명"]
[329,"충남예산가4287","194015","1991","황교현","확인불가",{"$f":"[1]Sheet1!H960","v":"19910918"},"소재지(위치) 및 소유자 인적사항 불명"]
[330,"충남예산가4288","505589","1991","이영화","확인불가",{"$f":"[1]Sheet1!H961","v":"19910918"},"소재지(위치) 및 소유자 인적사항 불명"]
[331,"충남예산가4292","701964","1991","김재경","확인불가",{"$f":"[1]Sheet1!H962","v":"19910925"},"소재지(위치) 및 소유자 인적사항 불명"]
[332,"충남예산가4290","176563","1991","최종영","확인불가",{"$f":"[1]Sheet1!H963","v":"19910925"},"소재지(위치) 및 소유자 인적사항 불명"]
[333,"충남예산가4291","195823","1991","이용석","확인불가",{"$f":"[1]Sheet1!H964","v":"19910925"},"소재지(위치) 및 소유자 인적사항 불명"]
[334,"충남예산가4294","118331","1991","최영일","확인불가",{"$f":"[1]Sheet1!H965","v":"19910926"},"소재지(위치) 및 소유자 인적사항 불명"]
[335,"충남예산가4295","1085583","1991","고용주","확인불가",{"$f":"[1]Sheet1!H966","v":"19910926"},"소재지(위치) 및 소유자 인적사항 불명"]
[336,"충남예산가4296","1211888","1991","황재화","확인불가",{"$f":"[1]Sheet1!H967","v":"19911002"},"소재지(위치) 및 소유자 인적사항 불명"]
[337,"충남예산가4297","507561","1991","이기덕","확인불가",{"$f":"[1]Sheet1!H968","v":"19911007"},"소재지(위치) 및 소유자 인적사항 불명"]
[338,"충남예산가4299","119759","1991","신재우","확인불가",{"$f":"[1]Sheet1!H969","v":"19911008"},"소재지(위치) 및 소유자 인적사항 불명"]
[339,"충남예산가4300","1204878","1991","이한용","확인불가",{"$f":"[1]Sheet1!H970","v":"19911008"},"소재지(위치) 및 소유자 인적사항 불명"]
[340,"충남예산가4298","133994","1991","권진택","확인불가",{"$f":"[1]Sheet1!H971","v":"19911008"},"소재지(위치) 및 소유자 인적사항 불명"]
[341,"충남예산가4301","111092","1991","김은광","확인불가",{"$f":"[1]Sheet1!H972","v":"19911010"},"소재지(위치) 및 소유자 인적사항 불명"]
[342,"충남예산가4303","123902","1991","강순태","확인불가",{"$f":"[1]Sheet1!H973","v":"19911015"},"소재지(위치) 및 소유자 인적사항 불명"]
[343,"충남예산가4305","1215488","1991","이강일","확인불가",{"$f":"[1]Sheet1!H974","v":"19911018"},"소재지(위치) 및 소유자 인적사항 불명"]
[344,"충남예산가4304","503972","1991","강남식","확인불가",{"$f":"[1]Sheet1!H975","v":"19911018"},"소재지(위치) 및 소유자 인적사항 불명"]
[345,"충남예산가4306","119147","1991","양용석","확인불가",{"$f":"[1]Sheet1!H976","v":"19911023"},"소재지(위치) 및 소유자 인적사항 불명"]
[346,"충남예산가4307","111480","1991","이회주","확인불가",{"$f":"[1]Sheet1!H977","v":"19911029"},"소재지(위치) 및 소유자 인적사항 불명"]
[347,"충남예산가4311","505892","1991","김이식","확인불가",{"$f":"[1]Sheet1!H978","v":"19911108"},"소재지(위치) 및 소유자 인적사항 불명"]
[348,"충남예산가4310","134184","1991","김창호","확인불가",{"$f":"[1]Sheet1!H979","v":"19911108"},"소재지(위치) 및 소유자 인적사항 불명"]
[349,"충남예산가4312","1092441","1991","최창우","확인불가",{"$f":"[1]Sheet1!H980","v":"19911109"},"소재지(위치) 및 소유자 인적사항 불명"]
[350,"충남예산가4313","1149426","1991","조복성","확인불가",{"$f":"[1]Sheet1!H981","v":"19911121"},"소재지(위치) 및 소유자 인적사항 불명"]
[351,"충남예산가4314","176226","1991","정정남","확인불가",{"$f":"[1]Sheet1!H982","v":"19911126"},"소재지(위치) 및 소유자 인적사항 불명"]
[352,"충남예산가4315","546756","1991","정인채","확인불가",{"$f":"[1]Sheet1!H983","v":"19911127"},"소재지(위치) 및 소유자 인적사항 불명"]
[353,"충남예산가4316","177052","1991","오상용","확인불가",{"$f":"[1]Sheet1!H984","v":"19911209"},"소재지(위치) 및 소유자 인적사항 불명"]
[354,"충남예산가4319","137072","1992","이종채","확인불가",{"$f":"[1]Sheet1!H985","v":"19920104"},"소재지(위치) 및 소유자 인적사항 불명"]
[355,"충남예산가4318","112494","1992","장병우","확인불가",{"$f":"[1]Sheet1!H986","v":"19920104"},"소재지(위치) 및 소유자 인적사항 불명"]
[356,"충남예산가4330","114669","1992","양준섭","확인불가",{"$f":"[1]Sheet1!H987","v":"19920303"},"소재지(위치) 및 소유자 인적사항 불명"]
[357,"충남예산가4368","514109","1992","박수구","확인불가",{"$f":"[1]Sheet1!H988","v":"19920430"},"소재지(위치) 및 소유자 인적사항 불명"]
[358,"충남예산가1178","186290","1992","예산경찰서","확인불가",{"$f":"[1]Sheet1!H989","v":"19920601"},"소재지(위치) 및 소유자 인적사항 불명"]
[359,"충남예산가1180","186412","1992","예산경찰서","확인불가",{"$f":"[1]Sheet1!H990","v":"19920601"},"소재지(위치) 및 소유자 인적사항 불명"]
[360,"충남예산가1177","186144","1992","예산경찰서","확인불가",{"$f":"[1]Sheet1!H991","v":"19920601"},"소재지(위치) 및 소유자 인적사항 불명"]
[361,"충남예산가1179","186329","1992","예산경찰서","확인불가",{"$f":"[1]Sheet1!H992","v":"19920601"},"소재지(위치) 및 소유자 인적사항 불명"]
[362,"충남예산가1176","186023","1992","예산경찰서","확인불가",{"$f":"[1]Sheet1!H993","v":"19920601"},"소재지(위치) 및 소유자 인적사항 불명"]
[363,"충남예산가4458","201835","1992","김상현","확인불가",{"$f":"[1]Sheet1!H994","v":"19920720"},"소재지(위치) 및 소유자 인적사항 불명"]
[364,"충남예산가4478","181371","1992","예산축협","확인불가",{"$f":"[1]Sheet1!H995","v":"19920813"},"소재지(위치) 및 소유자 인적사항 불명"]
[365,"충남예산가1182","1204889","1992","예산우체국","확인불가",{"$f":"[1]Sheet1!H996","v":"19920908"},"소재지(위치) 및 소유자 인적사항 불명"]
[366,"충남예산가4605","1238555","1993","손오종","확인불가",{"$f":"[1]Sheet1!H997","v":"19930424"},"소재지(위치) 및 소유자 인적사항 불명"]
[367,"충남예산가1185","554603","1993","농산물검사소 예산출장소","확인불가",{"$f":"[1]Sheet1!H998","v":"19930714"},"소재지(위치) 및 소유자 인적사항 불명"]
[368,"충남예산가1191","1346944","1994","예산군보건소장","확인불가",{"$f":"[1]Sheet1!H999","v":"19940608"},"소재지(위치) 및 소유자 인적사항 불명"]
[369,"충남예산가1192","1393557","1994","예산군보건소장","확인불가",{"$f":"[1]Sheet1!H1000","v":"19940608"},"소재지(위치) 및 소유자 인적사항 불명"]
[370,"충남예산가1193","1394166","1994","예산군보건소장","확인불가",{"$f":"[1]Sheet1!H1001","v":"19940608"},"소재지(위치) 및 소유자 인적사항 불명"]
[371,"충남예산가4823","100923","1994","조기섭","확인불가",{"$f":"[1]Sheet1!H1002","v":"19940613"},"소재지(위치) 및 소유자 인적사항 불명"]
[372,"충남에상가4896","1437494","1994","정예진","확인불가",{"$f":"[1]Sheet1!H1003","v":"19941011"},"소재지(위치) 및 소유자 인적사항 불명"]
[373,"충남예산가4922","1085392","1994","김용해","확인불가",{"$f":"[1]Sheet1!H1004","v":"19950119"},"소재지(위치) 및 소유자 인적사항 불명"]
[374,"충남예산가4923","115815","1994","강인제","확인불가",{"$f":"[1]Sheet1!H1005","v":"19950123"},"소재지(위치) 및 소유자 인적사항 불명"]
[375,"충남예산가4924","319670","1994","박문식","확인불가",{"$f":"[1]Sheet1!H1006","v":"19950126"},"소재지(위치) 및 소유자 인적사항 불명"]
[376,"충남예산가4926","1022452","1994","박영규","확인불가",{"$f":"[1]Sheet1!H1007","v":"19950127"},"소재지(위치) 및 소유자 인적사항 불명"]
[377,"충남예산가4927","510822","1992","조덕수","확인불가",{"$f":"[1]Sheet1!H1008","v":"19950202"},"소재지(위치) 및 소유자 인적사항 불명"]
[378,"충남예산가4928","1438030","1995","이범석","확인불가",{"$f":"[1]Sheet1!H1009","v":"19950211"},"소재지(위치) 및 소유자 인적사항 불명"]
[379,"충남예산가4932","119402","1994","신재철","확인불가",{"$f":"[1]Sheet1!H1010","v":"19950223"},"소재지(위치) 및 소유자 인적사항 불명"]
[380,"충남예산가4935","1410713","1995","김철종","확인불가",{"$f":"[1]Sheet1!H1011","v":"19950224"},"소재지(위치) 및 소유자 인적사항 불명"]
[381,"충남예산가4939","635387","1994","한정희","확인불가",{"$f":"[1]Sheet1!H1012","v":"19950308"},"소재지(위치) 및 소유자 인적사항 불명"]
[382,"충남예산가4940","1454258","1995","고규철","확인불가",{"$f":"[1]Sheet1!H1013","v":"19950309"},"소재지(위치) 및 소유자 인적사항 불명"]
[383,"충남예산가4956","1132063","1995","한태동","확인불가",{"$f":"[1]Sheet1!H1014","v":"19950417"},"소재지(위치) 및 소유자 인적사항 불명"]
[384,"충남예산가4955","1452779","1995","문창호","확인불가",{"$f":"[1]Sheet1!H1015","v":"19950417"},"소재지(위치) 및 소유자 인적사항 불명"]
[385,"충남예산가4957","502131","1995","오정근","확인불가",{"$f":"[1]Sheet1!H1016","v":"19950420"},"소재지(위치) 및 소유자 인적사항 불명"]
[386,"충남예산가4961","1034201","1995","구자안","확인불가",{"$f":"[1]Sheet1!H1017","v":"19950424"},"소재지(위치) 및 소유자 인적사항 불명"]
[387,"충남예산가4958","1447563","1994","최병우","확인불가",{"$f":"[1]Sheet1!H1018","v":"19950424"},"소재지(위치) 및 소유자 인적사항 불명"]
[388,"충남예산가4959","1447544","1994","최종현","확인불가",{"$f":"[1]Sheet1!H1019","v":"19950424"},"소재지(위치) 및 소유자 인적사항 불명"]
[389,"충남예산가4960","1089177","1995","소미화","확인불가",{"$f":"[1]Sheet1!H1020","v":"19950424"},"소재지(위치) 및 소유자 인적사항 불명"]
[390,"충남예산가4964","328007","1995","박상찬","확인불가",{"$f":"[1]Sheet1!H1021","v":"19950503"},"소재지(위치) 및 소유자 인적사항 불명"]
[391,"충남예산가1202","1251194","1995","농산물검사소 예산출장소","확인불가",{"$f":"[1]Sheet1!H1022","v":"19950609"},"소재지(위치) 및 소유자 인적사항 불명"]
[392,"충남예산가4976","1419641","1995","여주환","확인불가",{"$f":"[1]Sheet1!H1023","v":"19950612"},"소재지(위치) 및 소유자 인적사항 불명"]
[393,"충남에산가4983","1211170","1995","김현일","확인불가",{"$f":"[1]Sheet1!H1024","v":"19950701"},"소재지(위치) 및 소유자 인적사항 불명"]
[394,"충남예산가1211","1012288","1995","예산경철서","확인불가",{"$f":"[1]Sheet1!H1025","v":"19950704"},"소재지(위치) 및 소유자 인적사항 불명"]
[395,"충남에산가4984","1140034","1995","최명수","확인불가",{"$f":"[1]Sheet1!H1026","v":"19950707"},"소재지(위치) 및 소유자 인적사항 불명"]
[396,"충남예산가4987","1098579","1995","이재수","확인불가",{"$f":"[1]Sheet1!H1027","v":"19950715"},"소재지(위치) 및 소유자 인적사항 불명"]
[397,"충남예산가4993","1102175","1995","맹상호","확인불가",{"$f":"[1]Sheet1!H1028","v":"19950721"},"소재지(위치) 및 소유자 인적사항 불명"]
[398,"충남예산가5000","617021","1995","이태하","확인불가",{"$f":"[1]Sheet1!H1029","v":"19950726"},"소재지(위치) 및 소유자 인적사항 불명"]
[399,"충남예산가5005","323658","1995","최계진","확인불가",{"$f":"[1]Sheet1!H1030","v":"19950808"},"소재지(위치) 및 소유자 인적사항 불명"]
[400,"충남예산가5008","1482290","1995","김홍기","확인불가",{"$f":"[1]Sheet1!H1031","v":"19950811"},"소재지(위치) 및 소유자 인적사항 불명"]
[401,"충남예산가5014","1197978","1995","김영필","확인불가",{"$f":"[1]Sheet1!H1032","v":"19950823"},"소재지(위치) 및 소유자 인적사항 불명"]
[402,"충남예산가5015","1493973","1995","문희자","확인불가",{"$f":"[1]Sheet1!H1033","v":"19950824"},"소재지(위치) 및 소유자 인적사항 불명"]
[403,"충남예산가5017","1145083","1995","김영식","확인불가",{"$f":"[1]Sheet1!H1034","v":"19950828"},"소재지(위치) 및 소유자 인적사항 불명"]
[404,"충남예산가5022","1521131","1995","최기분","확인불가",{"$f":"[1]Sheet1!H1035","v":"19950913"},"소재지(위치) 및 소유자 인적사항 불명"]
[405,"충남예산가1213","1200152","1995","예산경찰서","확인불가",{"$f":"[1]Sheet1!H1036","v":"19950914"},"소재지(위치) 및 소유자 인적사항 불명"]
[406,"충남예산가1215","1200258","1995","예산경찰서","확인불가",{"$f":"[1]Sheet1!H1037","v":"19950914"},"소재지(위치) 및 소유자 인적사항 불명"]
[407,"충남예산가1214","1200068","1995","예산경찰서","확인불가",{"$f":"[1]Sheet1!H1038","v":"19950914"},"소재지(위치) 및 소유자 인적사항 불명"]
[408,"충남예산가1212","1199992","1995","예산경찰서","확인불가",{"$f":"[1]Sheet1!H1039","v":"19950914"},"소재지(위치) 및 소유자 인적사항 불명"]
[409,"충남예산가5027","1153495","1995","김만수","확인불가",{"$f":"[1]Sheet1!H1040","v":"19950918"},"소재지(위치) 및 소유자 인적사항 불명"]
[410,"충남예산가5031","1084717","1995","박상준","확인불가",{"$f":"[1]Sheet1!H1041","v":"19950926"},"소재지(위치) 및 소유자 인적사항 불명"]
[411,"충남예산가5035","1210391","1995","변창배","확인불가",{"$f":"[1]Sheet1!H1042","v":"19951012"},"소재지(위치) 및 소유자 인적사항 불명"]
[412,"충남예산가5038","1528642","1995","이주석","확인불가",{"$f":"[1]Sheet1!H1043","v":"19951019"},"소재지(위치) 및 소유자 인적사항 불명"]
[413,"충남예산가5039","334258","1995","고익주","확인불가",{"$f":"[1]Sheet1!H1044","v":"19951024"},"소재지(위치) 및 소유자 인적사항 불명"]
[414,"충남예산가5040","1126281","1995","이석우","확인불가",{"$f":"[1]Sheet1!H1045","v":"19951027"},"소재지(위치) 및 소유자 인적사항 불명"]
[415,"충남예산가5043","109741","1992","김평국","확인불가",{"$f":"[1]Sheet1!H1046","v":"19951030"},"소재지(위치) 및 소유자 인적사항 불명"]
[416,"충남예산가5045","1102768","1995","이경복","확인불가",{"$f":"[1]Sheet1!H1047","v":"19951031"},"소재지(위치) 및 소유자 인적사항 불명"]
[417,"충남예산가1219","1200846","1995","예산경찰서","확인불가",{"$f":"[1]Sheet1!H1048","v":"19951111"},"소재지(위치) 및 소유자 인적사항 불명"]
[418,"충남예산가1217","200604","1995","예산경찰서","확인불가",{"$f":"[1]Sheet1!H1049","v":"19951111"},"소재지(위치) 및 소유자 인적사항 불명"]
[419,"충남예산가1220","1200457","1995","예산경찰서","확인불가",{"$f":"[1]Sheet1!H1050","v":"19951111"},"소재지(위치) 및 소유자 인적사항 불명"]
[420,"충남예산가1218","1200802","1995","예산경찰서","확인불가",{"$f":"[1]Sheet1!H1051","v":"19951111"},"소재지(위치) 및 소유자 인적사항 불명"]
[421,"충남예산가1221","1200586","1995","예산경찰서","확인불가",{"$f":"[1]Sheet1!H1052","v":"19951111"},"소재지(위치) 및 소유자 인적사항 불명"]
[422,"충남예산가5046","337028","1995","박광복","확인불가",{"$f":"[1]Sheet1!H1053","v":"19951114"},"소재지(위치) 및 소유자 인적사항 불명"]
[423,"충남예산가5050","1086256","1995","김상진","확인불가",{"$f":"[1]Sheet1!H1054","v":"19951120"},"소재지(위치) 및 소유자 인적사항 불명"]
[424,"충남예산가4636","125552","1993","이대우","확인불가",{"$f":"[1]Sheet1!H1055","v":"19951206"},"소재지(위치) 및 소유자 인적사항 불명"]
[425,"충남예산가5053","335741","1995","박우호","확인불가",{"$f":"[1]Sheet1!H1056","v":"19951213"},"소재지(위치) 및 소유자 인적사항 불명"]
[426,"충남예산가5068","335967","1995","차우회","확인불가",{"$f":"[1]Sheet1!H1057","v":"19960320"},"소재지(위치) 및 소유자 인적사항 불명"]
[427,"충남예산가5074","1338908","1996","김훈배","확인불가",{"$f":"[1]Sheet1!H1058","v":"19960409"},"소재지(위치) 및 소유자 인적사항 불명"]
[428,"충남예산가5080","1044197","1995","이대호","확인불가",{"$f":"[1]Sheet1!H1059","v":"19960425"},"소재지(위치) 및 소유자 인적사항 불명"]
[429,"충남예산가5083","1182703","1994","윤태원","확인불가",{"$f":"[1]Sheet1!H1060","v":"19960507"},"소재지(위치) 및 소유자 인적사항 불명"]
[430,"충남예산가5084","1336023","1995","신택철","확인불가",{"$f":"[1]Sheet1!H1061","v":"19960508"},"소재지(위치) 및 소유자 인적사항 불명"]
[431,"충남예산가5090","1458573","1995","윤용기","확인불가",{"$f":"[1]Sheet1!H1062","v":"19960522"},"소재지(위치) 및 소유자 인적사항 불명"]
[432,"충남예산가5095","1339070","1996","이금수","확인불가",{"$f":"[1]Sheet1!H1063","v":"19960601"},"소재지(위치) 및 소유자 인적사항 불명"]
[433,"충남예산가5102","1002433","1996","김형숙","확인불가",{"$f":"[1]Sheet1!H1064","v":"19960612"},"소재지(위치) 및 소유자 인적사항 불명"]
[434,"충남예산가5107","1205977","1995","김상진","확인불가",{"$f":"[1]Sheet1!H1065","v":"19960619"},"소재지(위치) 및 소유자 인적사항 불명"]
[435,"충남예산가5108","1005968","1996","이영진","확인불가",{"$f":"[1]Sheet1!H1066","v":"19960620"},"소재지(위치) 및 소유자 인적사항 불명"]
[436,"충남예산가5109","1050086","1995","이익순","확인불가",{"$f":"[1]Sheet1!H1067","v":"19960622"},"소재지(위치) 및 소유자 인적사항 불명"]
[437,"충남예산가5118","1595096","1996","이명철","확인불가",{"$f":"[1]Sheet1!H1068","v":"19960719"},"소재지(위치) 및 소유자 인적사항 불명"]
[438,"충남예산가5122","1054207","1995","정영훈","확인불가",{"$f":"[1]Sheet1!H1069","v":"19960725"},"소재지(위치) 및 소유자 인적사항 불명"]
[439,"충남예산가5125","1593549","1996","김용이","확인불가",{"$f":"[1]Sheet1!H1070","v":"19960730"},"소재지(위치) 및 소유자 인적사항 불명"]
[440,"충남예산가5127","1113809","1996","장영순","확인불가",{"$f":"[1]Sheet1!H1071","v":"19960731"},"소재지(위치) 및 소유자 인적사항 불명"]
[441,"충남예산가5131","2343474","1996","박현진","확인불가",{"$f":"[1]Sheet1!H1072","v":"19960805"},"소재지(위치) 및 소유자 인적사항 불명"]
[442,"충남예산가5133","1506610","1996","신례원신협","확인불가",{"$f":"[1]Sheet1!H1073","v":"19960806"},"소재지(위치) 및 소유자 인적사항 불명"]
[443,"충남예산가5135","2343167","1996","이진재","확인불가",{"$f":"[1]Sheet1!H1074","v":"19960810"},"소재지(위치) 및 소유자 인적사항 불명"]
[444,"충남예산가5136","1548696","1996","김용운","확인불가",{"$f":"[1]Sheet1!H1075","v":"19960812"},"소재지(위치) 및 소유자 인적사항 불명"]
[445,"충남예산가1226","1223055","1996","예산우체국","확인불가",{"$f":"[1]Sheet1!H1076","v":"19960812"},"소재지(위치) 및 소유자 인적사항 불명"]
[446,"충남예산가5091","1000180","1996","박봉서","확인불가",{"$f":"[1]Sheet1!H1077","v":"19960909"},"소재지(위치) 및 소유자 인적사항 불명"]
[447,"충남예산가5147","1115409","1996","송영훈","확인불가",{"$f":"[1]Sheet1!H1078","v":"19960918"},"소재지(위치) 및 소유자 인적사항 불명"]
[448,"충남예산가5148","1110747","1996","장세영","확인불가",{"$f":"[1]Sheet1!H1079","v":"19960921"},"소재지(위치) 및 소유자 인적사항 불명"]
[449,"충남예산가5158","1113828","1996","윤희용","확인불가",{"$f":"[1]Sheet1!H1080","v":"19960930"},"소재지(위치) 및 소유자 인적사항 불명"]
[450,"충남예산가5177","1103883","1996","고정모","확인불가",{"$f":"[1]Sheet1!H1081","v":"19970114"},"소재지(위치) 및 소유자 인적사항 불명"]
[451,"충남예산가5178","1021697","1990","김왕태","확인불가",{"$f":"[1]Sheet1!H1082","v":"19970115"},"소재지(위치) 및 소유자 인적사항 불명"]
[452,"충남예산가5179","1106941","1997","이인흥","확인불가",{"$f":"[1]Sheet1!H1083","v":"19970116"},"소재지(위치) 및 소유자 인적사항 불명"]
[453,"충남예산가4449","610798","1992","신상철","확인불가",{"$f":"[1]Sheet1!H1084","v":"19990227"},"소재지(위치) 및 소유자 인적사항 불명"]
[454,"충남예산가5712","039820","1997","현정숙","확인불가",{"$f":"[1]Sheet1!H1085","v":"19990320"},"소재지(위치) 및 소유자 인적사항 불명"]
[455,"충남예산가7955","KM4SE11A2G1300020","2016","1전광수","확인불가",{"$f":"[1]Sheet1!H1086","v":"20160325"},"소재지(위치) 및 소유자 인적사항 불명"]