{"text_format":"3","workbook":"xlsx","n_sheets":1,"sheets":["후보자"],"not_rendered":{"external_links":1},"read":"whole","date_system":"1900"}

{"sheet":"후보자","index":0,"n_rows":13,"n_cols":13,"rows_kept":13,"merged":[[0,0,1,14]]}
["수영 및 아쿠아로빅강습 후보자"]
[]
["연 번","구 분","성 명","구 분","성 명","구 분","성 명","구 분","성 명","구 분","성 명","구 분","성 명"]
["후보 1","새벽",{"$f":"LEFT([1]후보자!C4,1)&\"*\"&RIGHT([1]후보자!C4,1)","v":"이*준"},"아침",{"$f":"LEFT([1]후보자!E4,1)&\"*\"&RIGHT([1]후보자!E4,1)","v":"김*철"},"아쿠아로빅A",{"$f":"LEFT([1]후보자!G4,1)&\"*\"&RIGHT([1]후보자!G4,1)","v":"김*혜"},"아쿠아로빅B",{"$f":"LEFT([1]후보자!I4,1)&\"*\"&RIGHT([1]후보자!I4,1)","v":"우*현"},"저녁",{"$f":"LEFT([1]후보자!K4,1)&\"*\"&RIGHT([1]후보자!K4,1)","v":"김*숙"},"야간",{"$f":"LEFT([1]후보자!M4,1)&\"*\"&RIGHT([1]후보자!M4,1)","v":"김*향"}]
["후보 2","새벽",{"$f":"LEFT([1]후보자!C5,1)&\"*\"&RIGHT([1]후보자!C5,1)","v":"정*원"},"아침",{"$f":"LEFT([1]후보자!E5,1)&\"*\"&RIGHT([1]후보자!E5,1)","v":"전*호"},"아쿠아로빅A",{"$f":"LEFT([1]후보자!G5,1)&\"*\"&RIGHT([1]후보자!G5,1)","v":"이*영"},"아쿠아로빅B",{"$f":"LEFT([1]후보자!I5,1)&\"*\"&RIGHT([1]후보자!I5,1)","v":"장*진"},"저녁",{"$f":"LEFT([1]후보자!K5,1)&\"*\"&RIGHT([1]후보자!K5,1)","v":"최*순"},"야간",{"$f":"LEFT([1]후보자!M5,1)&\"*\"&RIGHT([1]후보자!M5,1)","v":"권*영"}]
["후보 3","새벽",{"$f":"LEFT([1]후보자!C6,1)&\"*\"&RIGHT([1]후보자!C6,1)","v":"김*재"},"아침",{"$f":"LEFT([1]후보자!E6,1)&\"*\"&RIGHT([1]후보자!E6,1)","v":"박*원"},"아쿠아로빅A",{"$f":"LEFT([1]후보자!G6,1)&\"*\"&RIGHT([1]후보자!G6,1)","v":"정*희"},"아쿠아로빅B",{"$f":"LEFT([1]후보자!I6,1)&\"*\"&RIGHT([1]후보자!I6,1)","v":"반*옥"},"저녁",{"$f":"LEFT([1]후보자!K6,1)&\"*\"&RIGHT([1]후보자!K6,1)","v":"박*희"},"야간",{"$f":"LEFT([1]후보자!M6,1)&\"*\"&RIGHT([1]후보자!M6,1)","v":"안*옥"}]
["후보4","새벽",{"$f":"LEFT([1]후보자!C7,1)&\"*\"&RIGHT([1]후보자!C7,1)","v":"이*겸"},"아침",{"$f":"LEFT([1]후보자!E7,1)&\"*\"&RIGHT([1]후보자!E7,1)","v":"김*정"},"아쿠아로빅A",{"$f":"LEFT([1]후보자!G7,1)&\"*\"&RIGHT([1]후보자!G7,1)","v":"김*경"},"아쿠아로빅B",{"$f":"LEFT([1]후보자!I7,1)&\"*\"&RIGHT([1]후보자!I7,1)","v":"서*현"},"저녁",{"$f":"LEFT([1]후보자!K7,1)&\"*\"&RIGHT([1]후보자!K7,1)","v":"이*희"},"야간",{"$f":"LEFT([1]후보자!M7,1)&\"*\"&RIGHT([1]후보자!M7,1)","v":"이*석"}]
["후보 5","새벽",{"$f":"LEFT([1]후보자!C8,1)&\"*\"&RIGHT([1]후보자!C8,1)","v":"박*홍"},"아침",{"$f":"LEFT([1]후보자!E8,1)&\"*\"&RIGHT([1]후보자!E8,1)","v":"김*승"},"아쿠아로빅A",{"$f":"LEFT([1]후보자!G8,1)&\"*\"&RIGHT([1]후보자!G8,1)","v":"김*남"},"아쿠아로빅B",{"$f":"LEFT([1]후보자!I8,1)&\"*\"&RIGHT([1]후보자!I8,1)","v":"황*화"},"저녁",{"$f":"LEFT([1]후보자!K8,1)&\"*\"&RIGHT([1]후보자!K8,1)","v":"류*선"},"야간",{"$f":"LEFT([1]후보자!M8,1)&\"*\"&RIGHT([1]후보자!M8,1)","v":"김*희"}]
["후보 6","새벽",{"$f":"LEFT([1]후보자!C9,1)&\"*\"&RIGHT([1]후보자!C9,1)","v":"김*윤"},"아침",{"$f":"LEFT([1]후보자!E9,1)&\"*\"&RIGHT([1]후보자!E9,1)","v":"황*원"},"아쿠아로빅A",{"$f":"LEFT([1]후보자!G9,1)&\"*\"&RIGHT([1]후보자!G9,1)","v":"박*주"},"아쿠아로빅B",{"$f":"LEFT([1]후보자!I9,1)&\"*\"&RIGHT([1]후보자!I9,1)","v":"이*경"},"저녁",{"$f":"LEFT([1]후보자!K9,1)&\"*\"&RIGHT([1]후보자!K9,1)","v":"정*영"},"야간",{"$f":"LEFT([1]후보자!M9,1)&\"*\"&RIGHT([1]후보자!M9,1)","v":"권*숙"}]
["후보 7","새벽",{"$f":"LEFT([1]후보자!C10,1)&\"*\"&RIGHT([1]후보자!C10,1)","v":"박*주"},"아침",null,"아쿠아로빅A",null,"아쿠아로빅B",{"$f":"LEFT([1]후보자!I10,1)&\"*\"&RIGHT([1]후보자!I10,1)","v":"조*희"},"저녁",null,"야간",{"$f":"LEFT([1]후보자!M10,1)&\"*\"&RIGHT([1]후보자!M10,1)","v":"윤*하"}]
["후보 8","새벽",{"$f":"LEFT([1]후보자!C11,1)&\"*\"&RIGHT([1]후보자!C11,1)","v":"정*철"},"아침",null,"아쿠아로빅A",null,"아쿠아로빅B",{"$f":"LEFT([1]후보자!I11,1)&\"*\"&RIGHT([1]후보자!I11,1)","v":"김*숙"},"저녁",null,"야간",{"$f":"LEFT([1]후보자!M11,1)&\"*\"&RIGHT([1]후보자!M11,1)","v":"주*준"}]
["후보 9","새벽",{"$f":"LEFT([1]후보자!C12,1)&\"*\"&RIGHT([1]후보자!C12,1)","v":"권*현"},"아침",null,"아쿠아로빅A",null,"아쿠아로빅B",{"$f":"LEFT([1]후보자!I12,1)&\"*\"&RIGHT([1]후보자!I12,1)","v":"김*연"},"저녁",null,"야간",{"$f":"LEFT([1]후보자!M12,1)&\"*\"&RIGHT([1]후보자!M12,1)","v":"황*훈"}]
["후보 10","새벽",{"$f":"LEFT([1]후보자!C13,1)&\"*\"&RIGHT([1]후보자!C13,1)","v":"이*수"},"아침",null,"아쿠아로빅A",null,"아쿠아로빅B",null,"저녁",null,"야간",{"$f":"LEFT([1]후보자!M13,1)&\"*\"&RIGHT([1]후보자!M13,1)","v":"정*철"}]