{"text_format":"3","workbook":"xlsx","n_sheets":1,"sheets":["회원선정결과"],"not_rendered":{"external_links":1},"read":"whole","date_system":"1900"}

{"sheet":"회원선정결과","index":0,"n_rows":33,"n_cols":23,"rows_kept":33,"merged":[[0,0,1,22]]}
["수영 및 아쿠아로빅 회원선정 결과"]
[]
["연 번","구 분","성 명","구 분","성 명","구 분","성 명","구 분","성 명","구 분","성 명","구 분","성 명","구 분","성 명","구 분","성 명","구 분","성 명","구 분","성 명","구 분","성 명"]
[1,"새벽",{"$f":"LEFT([1]회원선정결과!$C4,1)&\"*\"&RIGHT([1]회원선정결과!$C4,1)","v":"고*연"},"아침",{"$f":"LEFT([1]회원선정결과!$E4,1)&\"*\"&RIGHT([1]회원선정결과!$E4,1)","v":"강*열"},"오전A",{"$f":"LEFT([1]회원선정결과!G4,1)&\"*\"&RIGHT([1]회원선정결과!G4,1)","v":"강*순"},"오전B",{"$f":"LEFT([1]회원선정결과!I4,1)&\"*\"&RIGHT([1]회원선정결과!I4,1)","v":"권*원"},"아쿠아로빅A",{"$f":"LEFT([1]회원선정결과!K4,1)&\"*\"&RIGHT([1]회원선정결과!K4,1)","v":"강*연"},"아쿠아로빅A",{"$f":"LEFT([1]회원선정결과!M4,1)&\"*\"&RIGHT([1]회원선정결과!M4,1)","v":"이*희"},"아쿠아로빅B",{"$f":"LEFT([1]회원선정결과!O4,1)&\"*\"&RIGHT([1]회원선정결과!O4,1)","v":"고*옥"},"아쿠아로빅B",{"$f":"LEFT([1]회원선정결과!Q4,1)&\"*\"&RIGHT([1]회원선정결과!Q4,1)","v":"안*순"},"청소년",{"$f":"LEFT([1]회원선정결과!S4,1)&\"*\"&RIGHT([1]회원선정결과!S4,1)","v":"권*담"},"저녁",{"$f":"LEFT([1]회원선정결과!U4,1)&\"*\"&RIGHT([1]회원선정결과!U4,1)","v":"강*희"},"야간",{"$f":"LEFT([1]회원선정결과!W4,1)&\"*\"&RIGHT([1]회원선정결과!W4,1)","v":"권*수"}]
[2,"새벽",{"$f":"LEFT([1]회원선정결과!$C5,1)&\"*\"&RIGHT([1]회원선정결과!$C5,1)","v":"고*수"},"아침",{"$f":"LEFT([1]회원선정결과!$E5,1)&\"*\"&RIGHT([1]회원선정결과!$E5,1)","v":"강*정"},"오전A",{"$f":"LEFT([1]회원선정결과!G5,1)&\"*\"&RIGHT([1]회원선정결과!G5,1)","v":"강*남"},"오전B",{"$f":"LEFT([1]회원선정결과!I5,1)&\"*\"&RIGHT([1]회원선정결과!I5,1)","v":"권*숙"},"아쿠아로빅A",{"$f":"LEFT([1]회원선정결과!K5,1)&\"*\"&RIGHT([1]회원선정결과!K5,1)","v":"강*례"},"아쿠아로빅A",{"$f":"LEFT([1]회원선정결과!M5,1)&\"*\"&RIGHT([1]회원선정결과!M5,1)","v":"이*희"},"아쿠아로빅B",{"$f":"LEFT([1]회원선정결과!O5,1)&\"*\"&RIGHT([1]회원선정결과!O5,1)","v":"권*숙"},"아쿠아로빅B",{"$f":"LEFT([1]회원선정결과!Q5,1)&\"*\"&RIGHT([1]회원선정결과!Q5,1)","v":"양*자"},"청소년",{"$f":"LEFT([1]회원선정결과!S5,1)&\"*\"&RIGHT([1]회원선정결과!S5,1)","v":"권*준"},"저녁",{"$f":"LEFT([1]회원선정결과!U5,1)&\"*\"&RIGHT([1]회원선정결과!U5,1)","v":"권*연"},"야간",{"$f":"LEFT([1]회원선정결과!W5,1)&\"*\"&RIGHT([1]회원선정결과!W5,1)","v":"권*경"}]
[3,"새벽",{"$f":"LEFT([1]회원선정결과!$C6,1)&\"*\"&RIGHT([1]회원선정결과!$C6,1)","v":"김*희"},"아침",{"$f":"LEFT([1]회원선정결과!$E6,1)&\"*\"&RIGHT([1]회원선정결과!$E6,1)","v":"권*숙"},"오전A",{"$f":"LEFT([1]회원선정결과!G6,1)&\"*\"&RIGHT([1]회원선정결과!G6,1)","v":"권*대"},"오전B",{"$f":"LEFT([1]회원선정결과!I6,1)&\"*\"&RIGHT([1]회원선정결과!I6,1)","v":"권*자"},"아쿠아로빅A",{"$f":"LEFT([1]회원선정결과!K6,1)&\"*\"&RIGHT([1]회원선정결과!K6,1)","v":"강*덕"},"아쿠아로빅A",{"$f":"LEFT([1]회원선정결과!M6,1)&\"*\"&RIGHT([1]회원선정결과!M6,1)","v":"이*미"},"아쿠아로빅B",{"$f":"LEFT([1]회원선정결과!O6,1)&\"*\"&RIGHT([1]회원선정결과!O6,1)","v":"권*순"},"아쿠아로빅B",{"$f":"LEFT([1]회원선정결과!Q6,1)&\"*\"&RIGHT([1]회원선정결과!Q6,1)","v":"오*화"},"청소년",{"$f":"LEFT([1]회원선정결과!S6,1)&\"*\"&RIGHT([1]회원선정결과!S6,1)","v":"권*율"},"저녁",{"$f":"LEFT([1]회원선정결과!U6,1)&\"*\"&RIGHT([1]회원선정결과!U6,1)","v":"권*영"},"야간",{"$f":"LEFT([1]회원선정결과!W6,1)&\"*\"&RIGHT([1]회원선정결과!W6,1)","v":"권*숙"}]
[4,"새벽",{"$f":"LEFT([1]회원선정결과!$C7,1)&\"*\"&RIGHT([1]회원선정결과!$C7,1)","v":"김*라"},"아침",{"$f":"LEFT([1]회원선정결과!$E7,1)&\"*\"&RIGHT([1]회원선정결과!$E7,1)","v":"권*휘"},"오전A",{"$f":"LEFT([1]회원선정결과!G7,1)&\"*\"&RIGHT([1]회원선정결과!G7,1)","v":"권*순"},"오전B",{"$f":"LEFT([1]회원선정결과!I7,1)&\"*\"&RIGHT([1]회원선정결과!I7,1)","v":"권*영"},"아쿠아로빅A",{"$f":"LEFT([1]회원선정결과!K7,1)&\"*\"&RIGHT([1]회원선정결과!K7,1)","v":"강*희"},"아쿠아로빅A",{"$f":"LEFT([1]회원선정결과!M7,1)&\"*\"&RIGHT([1]회원선정결과!M7,1)","v":"이*순"},"아쿠아로빅B",{"$f":"LEFT([1]회원선정결과!O7,1)&\"*\"&RIGHT([1]회원선정결과!O7,1)","v":"권*숙"},"아쿠아로빅B",{"$f":"LEFT([1]회원선정결과!Q7,1)&\"*\"&RIGHT([1]회원선정결과!Q7,1)","v":"우*순"},"청소년",{"$f":"LEFT([1]회원선정결과!S7,1)&\"*\"&RIGHT([1]회원선정결과!S7,1)","v":"권*나"},"저녁",{"$f":"LEFT([1]회원선정결과!U7,1)&\"*\"&RIGHT([1]회원선정결과!U7,1)","v":"권*희"},"야간",{"$f":"LEFT([1]회원선정결과!W7,1)&\"*\"&RIGHT([1]회원선정결과!W7,1)","v":"김*순"}]
[5,"새벽",{"$f":"LEFT([1]회원선정결과!$C8,1)&\"*\"&RIGHT([1]회원선정결과!$C8,1)","v":"김*경"},"아침",{"$f":"LEFT([1]회원선정결과!$E8,1)&\"*\"&RIGHT([1]회원선정결과!$E8,1)","v":"김*태"},"오전A",{"$f":"LEFT([1]회원선정결과!G8,1)&\"*\"&RIGHT([1]회원선정결과!G8,1)","v":"김*주"},"오전B",{"$f":"LEFT([1]회원선정결과!I8,1)&\"*\"&RIGHT([1]회원선정결과!I8,1)","v":"김*은"},"아쿠아로빅A",{"$f":"LEFT([1]회원선정결과!K8,1)&\"*\"&RIGHT([1]회원선정결과!K8,1)","v":"고*자"},"아쿠아로빅A",{"$f":"LEFT([1]회원선정결과!M8,1)&\"*\"&RIGHT([1]회원선정결과!M8,1)","v":"이*해"},"아쿠아로빅B",{"$f":"LEFT([1]회원선정결과!O8,1)&\"*\"&RIGHT([1]회원선정결과!O8,1)","v":"김*숙"},"아쿠아로빅B",{"$f":"LEFT([1]회원선정결과!Q8,1)&\"*\"&RIGHT([1]회원선정결과!Q8,1)","v":"이*자"},"청소년",{"$f":"LEFT([1]회원선정결과!S8,1)&\"*\"&RIGHT([1]회원선정결과!S8,1)","v":"김*재"},"저녁",{"$f":"LEFT([1]회원선정결과!U8,1)&\"*\"&RIGHT([1]회원선정결과!U8,1)","v":"권*회"},"야간",{"$f":"LEFT([1]회원선정결과!W8,1)&\"*\"&RIGHT([1]회원선정결과!W8,1)","v":"김*영"}]
[6,"새벽",{"$f":"LEFT([1]회원선정결과!$C9,1)&\"*\"&RIGHT([1]회원선정결과!$C9,1)","v":"김*윤"},"아침",{"$f":"LEFT([1]회원선정결과!$E9,1)&\"*\"&RIGHT([1]회원선정결과!$E9,1)","v":"김*숙"},"오전A",{"$f":"LEFT([1]회원선정결과!G9,1)&\"*\"&RIGHT([1]회원선정결과!G9,1)","v":"김*희"},"오전B",{"$f":"LEFT([1]회원선정결과!I9,1)&\"*\"&RIGHT([1]회원선정결과!I9,1)","v":"김*숙"},"아쿠아로빅A",{"$f":"LEFT([1]회원선정결과!K9,1)&\"*\"&RIGHT([1]회원선정결과!K9,1)","v":"권*순"},"아쿠아로빅A",{"$f":"LEFT([1]회원선정결과!M9,1)&\"*\"&RIGHT([1]회원선정결과!M9,1)","v":"이*영"},"아쿠아로빅B",{"$f":"LEFT([1]회원선정결과!O9,1)&\"*\"&RIGHT([1]회원선정결과!O9,1)","v":"김*희"},"아쿠아로빅B",{"$f":"LEFT([1]회원선정결과!Q9,1)&\"*\"&RIGHT([1]회원선정결과!Q9,1)","v":"이*희"},"청소년",{"$f":"LEFT([1]회원선정결과!S9,1)&\"*\"&RIGHT([1]회원선정결과!S9,1)","v":"문*균"},"저녁",{"$f":"LEFT([1]회원선정결과!U9,1)&\"*\"&RIGHT([1]회원선정결과!U9,1)","v":"김*정"},"야간",{"$f":"LEFT([1]회원선정결과!W9,1)&\"*\"&RIGHT([1]회원선정결과!W9,1)","v":"김*자"}]
[7,"새벽",{"$f":"LEFT([1]회원선정결과!$C10,1)&\"*\"&RIGHT([1]회원선정결과!$C10,1)","v":"김*진"},"아침",{"$f":"LEFT([1]회원선정결과!$E10,1)&\"*\"&RIGHT([1]회원선정결과!$E10,1)","v":"김*연"},"오전A",{"$f":"LEFT([1]회원선정결과!G10,1)&\"*\"&RIGHT([1]회원선정결과!G10,1)","v":"김*순"},"오전B",{"$f":"LEFT([1]회원선정결과!I10,1)&\"*\"&RIGHT([1]회원선정결과!I10,1)","v":"김*교"},"아쿠아로빅A",{"$f":"LEFT([1]회원선정결과!K10,1)&\"*\"&RIGHT([1]회원선정결과!K10,1)","v":"권*숙"},"아쿠아로빅A",{"$f":"LEFT([1]회원선정결과!M10,1)&\"*\"&RIGHT([1]회원선정결과!M10,1)","v":"전*연"},"아쿠아로빅B",{"$f":"LEFT([1]회원선정결과!O10,1)&\"*\"&RIGHT([1]회원선정결과!O10,1)","v":"김*년"},"아쿠아로빅B",{"$f":"LEFT([1]회원선정결과!Q10,1)&\"*\"&RIGHT([1]회원선정결과!Q10,1)","v":"이*선"},"청소년",{"$f":"LEFT([1]회원선정결과!S10,1)&\"*\"&RIGHT([1]회원선정결과!S10,1)","v":"박*윤"},"저녁",{"$f":"LEFT([1]회원선정결과!U10,1)&\"*\"&RIGHT([1]회원선정결과!U10,1)","v":"김*화"},"야간",{"$f":"LEFT([1]회원선정결과!W10,1)&\"*\"&RIGHT([1]회원선정결과!W10,1)","v":"김*영"}]
[8,"새벽",{"$f":"LEFT([1]회원선정결과!$C11,1)&\"*\"&RIGHT([1]회원선정결과!$C11,1)","v":"김*미"},"아침",{"$f":"LEFT([1]회원선정결과!$E11,1)&\"*\"&RIGHT([1]회원선정결과!$E11,1)","v":"김*진"},"오전A",{"$f":"LEFT([1]회원선정결과!G11,1)&\"*\"&RIGHT([1]회원선정결과!G11,1)","v":"김*옥"},"오전B",{"$f":"LEFT([1]회원선정결과!I11,1)&\"*\"&RIGHT([1]회원선정결과!I11,1)","v":"김*경"},"아쿠아로빅A",{"$f":"LEFT([1]회원선정결과!K11,1)&\"*\"&RIGHT([1]회원선정결과!K11,1)","v":"권*순"},"아쿠아로빅A",{"$f":"LEFT([1]회원선정결과!M11,1)&\"*\"&RIGHT([1]회원선정결과!M11,1)","v":"전*영"},"아쿠아로빅B",{"$f":"LEFT([1]회원선정결과!O11,1)&\"*\"&RIGHT([1]회원선정결과!O11,1)","v":"김*희"},"아쿠아로빅B",{"$f":"LEFT([1]회원선정결과!Q11,1)&\"*\"&RIGHT([1]회원선정결과!Q11,1)","v":"이*옥"},"청소년",{"$f":"LEFT([1]회원선정결과!S11,1)&\"*\"&RIGHT([1]회원선정결과!S11,1)","v":"박*윤"},"저녁",{"$f":"LEFT([1]회원선정결과!U11,1)&\"*\"&RIGHT([1]회원선정결과!U11,1)","v":"김*경"},"야간",{"$f":"LEFT([1]회원선정결과!W11,1)&\"*\"&RIGHT([1]회원선정결과!W11,1)","v":"김*제"}]
[9,"새벽",{"$f":"LEFT([1]회원선정결과!$C12,1)&\"*\"&RIGHT([1]회원선정결과!$C12,1)","v":"김*희"},"아침",{"$f":"LEFT([1]회원선정결과!$E12,1)&\"*\"&RIGHT([1]회원선정결과!$E12,1)","v":"김*숙"},"오전A",{"$f":"LEFT([1]회원선정결과!G12,1)&\"*\"&RIGHT([1]회원선정결과!G12,1)","v":"김*희"},"오전B",{"$f":"LEFT([1]회원선정결과!I12,1)&\"*\"&RIGHT([1]회원선정결과!I12,1)","v":"김*은"},"아쿠아로빅A",{"$f":"LEFT([1]회원선정결과!K12,1)&\"*\"&RIGHT([1]회원선정결과!K12,1)","v":"권*희"},"아쿠아로빅A",{"$f":"LEFT([1]회원선정결과!M12,1)&\"*\"&RIGHT([1]회원선정결과!M12,1)","v":"전*순"},"아쿠아로빅B",{"$f":"LEFT([1]회원선정결과!O12,1)&\"*\"&RIGHT([1]회원선정결과!O12,1)","v":"김*연"},"아쿠아로빅B",{"$f":"LEFT([1]회원선정결과!Q12,1)&\"*\"&RIGHT([1]회원선정결과!Q12,1)","v":"이*순"},"청소년",{"$f":"LEFT([1]회원선정결과!S12,1)&\"*\"&RIGHT([1]회원선정결과!S12,1)","v":"이*영"},"저녁",{"$f":"LEFT([1]회원선정결과!U12,1)&\"*\"&RIGHT([1]회원선정결과!U12,1)","v":"김*범"},"야간",{"$f":"LEFT([1]회원선정결과!W12,1)&\"*\"&RIGHT([1]회원선정결과!W12,1)","v":"노*애"}]
[10,"새벽",{"$f":"LEFT([1]회원선정결과!$C13,1)&\"*\"&RIGHT([1]회원선정결과!$C13,1)","v":"김*영"},"아침",{"$f":"LEFT([1]회원선정결과!$E13,1)&\"*\"&RIGHT([1]회원선정결과!$E13,1)","v":"김*월"},"오전A",{"$f":"LEFT([1]회원선정결과!G13,1)&\"*\"&RIGHT([1]회원선정결과!G13,1)","v":"김*용"},"오전B",{"$f":"LEFT([1]회원선정결과!I13,1)&\"*\"&RIGHT([1]회원선정결과!I13,1)","v":"김*정"},"아쿠아로빅A",{"$f":"LEFT([1]회원선정결과!K13,1)&\"*\"&RIGHT([1]회원선정결과!K13,1)","v":"권*자"},"아쿠아로빅A",{"$f":"LEFT([1]회원선정결과!M13,1)&\"*\"&RIGHT([1]회원선정결과!M13,1)","v":"전*분"},"아쿠아로빅B",{"$f":"LEFT([1]회원선정결과!O13,1)&\"*\"&RIGHT([1]회원선정결과!O13,1)","v":"김*란"},"아쿠아로빅B",{"$f":"LEFT([1]회원선정결과!Q13,1)&\"*\"&RIGHT([1]회원선정결과!Q13,1)","v":"임*희"},"청소년",{"$f":"LEFT([1]회원선정결과!S13,1)&\"*\"&RIGHT([1]회원선정결과!S13,1)","v":"이*준"},"저녁",{"$f":"LEFT([1]회원선정결과!U13,1)&\"*\"&RIGHT([1]회원선정결과!U13,1)","v":"김*봉"},"야간",{"$f":"LEFT([1]회원선정결과!W13,1)&\"*\"&RIGHT([1]회원선정결과!W13,1)","v":"송*경"}]
[11,"새벽",{"$f":"LEFT([1]회원선정결과!$C14,1)&\"*\"&RIGHT([1]회원선정결과!$C14,1)","v":"박*리"},"아침",{"$f":"LEFT([1]회원선정결과!$E14,1)&\"*\"&RIGHT([1]회원선정결과!$E14,1)","v":"김*욱"},"오전A",{"$f":"LEFT([1]회원선정결과!G14,1)&\"*\"&RIGHT([1]회원선정결과!G14,1)","v":"김*나"},"오전B",{"$f":"LEFT([1]회원선정결과!I14,1)&\"*\"&RIGHT([1]회원선정결과!I14,1)","v":"박*우"},"아쿠아로빅A",{"$f":"LEFT([1]회원선정결과!K14,1)&\"*\"&RIGHT([1]회원선정결과!K14,1)","v":"권*연"},"아쿠아로빅A",{"$f":"LEFT([1]회원선정결과!M14,1)&\"*\"&RIGHT([1]회원선정결과!M14,1)","v":"전*늠"},"아쿠아로빅B",{"$f":"LEFT([1]회원선정결과!O14,1)&\"*\"&RIGHT([1]회원선정결과!O14,1)","v":"김*옥"},"아쿠아로빅B",{"$f":"LEFT([1]회원선정결과!Q14,1)&\"*\"&RIGHT([1]회원선정결과!Q14,1)","v":"정*연"},"청소년",{"$f":"LEFT([1]회원선정결과!S14,1)&\"*\"&RIGHT([1]회원선정결과!S14,1)","v":"이*솔"},"저녁",{"$f":"LEFT([1]회원선정결과!U14,1)&\"*\"&RIGHT([1]회원선정결과!U14,1)","v":"김*운"},"야간",{"$f":"LEFT([1]회원선정결과!W14,1)&\"*\"&RIGHT([1]회원선정결과!W14,1)","v":"오*경"}]
[12,"새벽",{"$f":"LEFT([1]회원선정결과!$C15,1)&\"*\"&RIGHT([1]회원선정결과!$C15,1)","v":"박*재"},"아침",{"$f":"LEFT([1]회원선정결과!$E15,1)&\"*\"&RIGHT([1]회원선정결과!$E15,1)","v":"김*호"},"오전A",{"$f":"LEFT([1]회원선정결과!G15,1)&\"*\"&RIGHT([1]회원선정결과!G15,1)","v":"김*정"},"오전B",{"$f":"LEFT([1]회원선정결과!I15,1)&\"*\"&RIGHT([1]회원선정결과!I15,1)","v":"서*교"},"아쿠아로빅A",{"$f":"LEFT([1]회원선정결과!K15,1)&\"*\"&RIGHT([1]회원선정결과!K15,1)","v":"김*엽"},"아쿠아로빅A",{"$f":"LEFT([1]회원선정결과!M15,1)&\"*\"&RIGHT([1]회원선정결과!M15,1)","v":"정*숙"},"아쿠아로빅B",{"$f":"LEFT([1]회원선정결과!O15,1)&\"*\"&RIGHT([1]회원선정결과!O15,1)","v":"김*임"},"아쿠아로빅B",{"$f":"LEFT([1]회원선정결과!Q15,1)&\"*\"&RIGHT([1]회원선정결과!Q15,1)","v":"조*숙"},"청소년",{"$f":"LEFT([1]회원선정결과!S15,1)&\"*\"&RIGHT([1]회원선정결과!S15,1)","v":"이*하"},"저녁",{"$f":"LEFT([1]회원선정결과!U15,1)&\"*\"&RIGHT([1]회원선정결과!U15,1)","v":"김*수"},"야간",{"$f":"LEFT([1]회원선정결과!W15,1)&\"*\"&RIGHT([1]회원선정결과!W15,1)","v":"유*경"}]
[13,"새벽",{"$f":"LEFT([1]회원선정결과!$C16,1)&\"*\"&RIGHT([1]회원선정결과!$C16,1)","v":"박*교"},"아침",{"$f":"LEFT([1]회원선정결과!$E16,1)&\"*\"&RIGHT([1]회원선정결과!$E16,1)","v":"김*주"},"오전A",{"$f":"LEFT([1]회원선정결과!G16,1)&\"*\"&RIGHT([1]회원선정결과!G16,1)","v":"김*미"},"오전B",{"$f":"LEFT([1]회원선정결과!I16,1)&\"*\"&RIGHT([1]회원선정결과!I16,1)","v":"엄*영"},"아쿠아로빅A",{"$f":"LEFT([1]회원선정결과!K16,1)&\"*\"&RIGHT([1]회원선정결과!K16,1)","v":"김*수"},"아쿠아로빅A",{"$f":"LEFT([1]회원선정결과!M16,1)&\"*\"&RIGHT([1]회원선정결과!M16,1)","v":"정*이"},"아쿠아로빅B",{"$f":"LEFT([1]회원선정결과!O16,1)&\"*\"&RIGHT([1]회원선정결과!O16,1)","v":"김*연"},"아쿠아로빅B",{"$f":"LEFT([1]회원선정결과!Q16,1)&\"*\"&RIGHT([1]회원선정결과!Q16,1)","v":"조*하"},"청소년",{"$f":"LEFT([1]회원선정결과!S16,1)&\"*\"&RIGHT([1]회원선정결과!S16,1)","v":"이*기"},"저녁",{"$f":"LEFT([1]회원선정결과!U16,1)&\"*\"&RIGHT([1]회원선정결과!U16,1)","v":"문*철"},"야간",{"$f":"LEFT([1]회원선정결과!W16,1)&\"*\"&RIGHT([1]회원선정결과!W16,1)","v":"윤*홍"}]
[14,"새벽",{"$f":"LEFT([1]회원선정결과!$C17,1)&\"*\"&RIGHT([1]회원선정결과!$C17,1)","v":"박*현"},"아침",{"$f":"LEFT([1]회원선정결과!$E17,1)&\"*\"&RIGHT([1]회원선정결과!$E17,1)","v":"김*진"},"오전A",{"$f":"LEFT([1]회원선정결과!G17,1)&\"*\"&RIGHT([1]회원선정결과!G17,1)","v":"김*혜"},"오전B",{"$f":"LEFT([1]회원선정결과!I17,1)&\"*\"&RIGHT([1]회원선정결과!I17,1)","v":"오*숙"},"아쿠아로빅A",{"$f":"LEFT([1]회원선정결과!K17,1)&\"*\"&RIGHT([1]회원선정결과!K17,1)","v":"김*란"},"아쿠아로빅A",{"$f":"LEFT([1]회원선정결과!M17,1)&\"*\"&RIGHT([1]회원선정결과!M17,1)","v":"제*옥"},"아쿠아로빅B",{"$f":"LEFT([1]회원선정결과!O17,1)&\"*\"&RIGHT([1]회원선정결과!O17,1)","v":"김*휘"},"아쿠아로빅B",{"$f":"LEFT([1]회원선정결과!Q17,1)&\"*\"&RIGHT([1]회원선정결과!Q17,1)","v":"조*숙"},"청소년",{"$f":"LEFT([1]회원선정결과!S17,1)&\"*\"&RIGHT([1]회원선정결과!S17,1)","v":"이*원"},"저녁",{"$f":"LEFT([1]회원선정결과!U17,1)&\"*\"&RIGHT([1]회원선정결과!U17,1)","v":"박*호"},"야간",{"$f":"LEFT([1]회원선정결과!W17,1)&\"*\"&RIGHT([1]회원선정결과!W17,1)","v":"이*람"}]
[15,"새벽",{"$f":"LEFT([1]회원선정결과!$C18,1)&\"*\"&RIGHT([1]회원선정결과!$C18,1)","v":"박*희"},"아침",{"$f":"LEFT([1]회원선정결과!$E18,1)&\"*\"&RIGHT([1]회원선정결과!$E18,1)","v":"박*하"},"오전A",{"$f":"LEFT([1]회원선정결과!G18,1)&\"*\"&RIGHT([1]회원선정결과!G18,1)","v":"김*경"},"오전B",{"$f":"LEFT([1]회원선정결과!I18,1)&\"*\"&RIGHT([1]회원선정결과!I18,1)","v":"유*경"},"아쿠아로빅A",{"$f":"LEFT([1]회원선정결과!K18,1)&\"*\"&RIGHT([1]회원선정결과!K18,1)","v":"김*인"},"아쿠아로빅A",{"$f":"LEFT([1]회원선정결과!M18,1)&\"*\"&RIGHT([1]회원선정결과!M18,1)","v":"차*란"},"아쿠아로빅B",{"$f":"LEFT([1]회원선정결과!O18,1)&\"*\"&RIGHT([1]회원선정결과!O18,1)","v":"김*경"},"아쿠아로빅B",{"$f":"LEFT([1]회원선정결과!Q18,1)&\"*\"&RIGHT([1]회원선정결과!Q18,1)","v":"지*남"},"청소년",{"$f":"LEFT([1]회원선정결과!S18,1)&\"*\"&RIGHT([1]회원선정결과!S18,1)","v":"전*준"},"저녁",{"$f":"LEFT([1]회원선정결과!U18,1)&\"*\"&RIGHT([1]회원선정결과!U18,1)","v":"박*철"},"야간",{"$f":"LEFT([1]회원선정결과!W18,1)&\"*\"&RIGHT([1]회원선정결과!W18,1)","v":"이*숙"}]
[16,"새벽",{"$f":"LEFT([1]회원선정결과!$C19,1)&\"*\"&RIGHT([1]회원선정결과!$C19,1)","v":"박*희"},"아침",{"$f":"LEFT([1]회원선정결과!$E19,1)&\"*\"&RIGHT([1]회원선정결과!$E19,1)","v":"박*화"},"오전A",{"$f":"LEFT([1]회원선정결과!G19,1)&\"*\"&RIGHT([1]회원선정결과!G19,1)","v":"박*정"},"오전B",{"$f":"LEFT([1]회원선정결과!I19,1)&\"*\"&RIGHT([1]회원선정결과!I19,1)","v":"윤*신"},"아쿠아로빅A",{"$f":"LEFT([1]회원선정결과!K19,1)&\"*\"&RIGHT([1]회원선정결과!K19,1)","v":"김*자"},"아쿠아로빅A",{"$f":"LEFT([1]회원선정결과!M19,1)&\"*\"&RIGHT([1]회원선정결과!M19,1)","v":"채*숙"},"아쿠아로빅B",{"$f":"LEFT([1]회원선정결과!O19,1)&\"*\"&RIGHT([1]회원선정결과!O19,1)","v":"김*자"},"아쿠아로빅B",{"$f":"LEFT([1]회원선정결과!Q19,1)&\"*\"&RIGHT([1]회원선정결과!Q19,1)","v":"최*옥"},"청소년",{"$f":"LEFT([1]회원선정결과!S19,1)&\"*\"&RIGHT([1]회원선정결과!S19,1)","v":"전*연"},"저녁",{"$f":"LEFT([1]회원선정결과!U19,1)&\"*\"&RIGHT([1]회원선정결과!U19,1)","v":"배*영"},"야간",{"$f":"LEFT([1]회원선정결과!W19,1)&\"*\"&RIGHT([1]회원선정결과!W19,1)","v":"임*주"}]
[17,"새벽",{"$f":"LEFT([1]회원선정결과!$C20,1)&\"*\"&RIGHT([1]회원선정결과!$C20,1)","v":"석*호"},"아침",{"$f":"LEFT([1]회원선정결과!$E20,1)&\"*\"&RIGHT([1]회원선정결과!$E20,1)","v":"반*희"},"오전A",{"$f":"LEFT([1]회원선정결과!G20,1)&\"*\"&RIGHT([1]회원선정결과!G20,1)","v":"박*민"},"오전B",{"$f":"LEFT([1]회원선정결과!I20,1)&\"*\"&RIGHT([1]회원선정결과!I20,1)","v":"이*화"},"아쿠아로빅A",{"$f":"LEFT([1]회원선정결과!K20,1)&\"*\"&RIGHT([1]회원선정결과!K20,1)","v":"김*숙"},"아쿠아로빅A",{"$f":"LEFT([1]회원선정결과!M20,1)&\"*\"&RIGHT([1]회원선정결과!M20,1)","v":"천*희"},"아쿠아로빅B",{"$f":"LEFT([1]회원선정결과!O20,1)&\"*\"&RIGHT([1]회원선정결과!O20,1)","v":"김*자"},"아쿠아로빅B",{"$f":"LEFT([1]회원선정결과!Q20,1)&\"*\"&RIGHT([1]회원선정결과!Q20,1)","v":"최*자"},"청소년",{"$f":"LEFT([1]회원선정결과!S20,1)&\"*\"&RIGHT([1]회원선정결과!S20,1)","v":"조*경"},"저녁",{"$f":"LEFT([1]회원선정결과!U20,1)&\"*\"&RIGHT([1]회원선정결과!U20,1)","v":"손*이"},"야간",{"$f":"LEFT([1]회원선정결과!W20,1)&\"*\"&RIGHT([1]회원선정결과!W20,1)","v":"임*연"}]
[18,"새벽",{"$f":"LEFT([1]회원선정결과!$C21,1)&\"*\"&RIGHT([1]회원선정결과!$C21,1)","v":"성*희"},"아침",{"$f":"LEFT([1]회원선정결과!$E21,1)&\"*\"&RIGHT([1]회원선정결과!$E21,1)","v":"안*이"},"오전A",{"$f":"LEFT([1]회원선정결과!G21,1)&\"*\"&RIGHT([1]회원선정결과!G21,1)","v":"반*화"},"오전B",{"$f":"LEFT([1]회원선정결과!I21,1)&\"*\"&RIGHT([1]회원선정결과!I21,1)","v":"이*자"},"아쿠아로빅A",{"$f":"LEFT([1]회원선정결과!K21,1)&\"*\"&RIGHT([1]회원선정결과!K21,1)","v":"김*선"},"아쿠아로빅A",{"$f":"LEFT([1]회원선정결과!M21,1)&\"*\"&RIGHT([1]회원선정결과!M21,1)","v":"최*희"},"아쿠아로빅B",{"$f":"LEFT([1]회원선정결과!O21,1)&\"*\"&RIGHT([1]회원선정결과!O21,1)","v":"김*늠"},"아쿠아로빅B",{"$f":"LEFT([1]회원선정결과!Q21,1)&\"*\"&RIGHT([1]회원선정결과!Q21,1)","v":"함*경"},"청소년",{"$f":"LEFT([1]회원선정결과!S21,1)&\"*\"&RIGHT([1]회원선정결과!S21,1)","v":"조*은"},"저녁",{"$f":"LEFT([1]회원선정결과!U21,1)&\"*\"&RIGHT([1]회원선정결과!U21,1)","v":"송*진"},"야간",{"$f":"LEFT([1]회원선정결과!W21,1)&\"*\"&RIGHT([1]회원선정결과!W21,1)","v":"장*현"}]
[19,"새벽",{"$f":"LEFT([1]회원선정결과!$C22,1)&\"*\"&RIGHT([1]회원선정결과!$C22,1)","v":"신*선"},"아침",{"$f":"LEFT([1]회원선정결과!$E22,1)&\"*\"&RIGHT([1]회원선정결과!$E22,1)","v":"안*윤"},"오전A",{"$f":"LEFT([1]회원선정결과!G22,1)&\"*\"&RIGHT([1]회원선정결과!G22,1)","v":"백*란"},"오전B",{"$f":"LEFT([1]회원선정결과!I22,1)&\"*\"&RIGHT([1]회원선정결과!I22,1)","v":"이*지"},"아쿠아로빅A",{"$f":"LEFT([1]회원선정결과!K22,1)&\"*\"&RIGHT([1]회원선정결과!K22,1)","v":"김*순"},"아쿠아로빅A",{"$f":"LEFT([1]회원선정결과!M22,1)&\"*\"&RIGHT([1]회원선정결과!M22,1)","v":"한*남"},"아쿠아로빅B",{"$f":"LEFT([1]회원선정결과!O22,1)&\"*\"&RIGHT([1]회원선정결과!O22,1)","v":"박*서"},"아쿠아로빅B",{"$f":"LEFT([1]회원선정결과!Q22,1)&\"*\"&RIGHT([1]회원선정결과!Q22,1)","v":"허*자"},"청소년",{"$f":"LEFT([1]회원선정결과!S22,1)&\"*\"&RIGHT([1]회원선정결과!S22,1)","v":"조*율"},"저녁",{"$f":"LEFT([1]회원선정결과!U22,1)&\"*\"&RIGHT([1]회원선정결과!U22,1)","v":"신*화"},"야간",{"$f":"LEFT([1]회원선정결과!W22,1)&\"*\"&RIGHT([1]회원선정결과!W22,1)","v":"정*정"}]
[20,"새벽",{"$f":"LEFT([1]회원선정결과!$C23,1)&\"*\"&RIGHT([1]회원선정결과!$C23,1)","v":"안*현"},"아침",{"$f":"LEFT([1]회원선정결과!$E23,1)&\"*\"&RIGHT([1]회원선정결과!$E23,1)","v":"양*훈"},"오전A",{"$f":"LEFT([1]회원선정결과!G23,1)&\"*\"&RIGHT([1]회원선정결과!G23,1)","v":"서*정"},"오전B",{"$f":"LEFT([1]회원선정결과!I23,1)&\"*\"&RIGHT([1]회원선정결과!I23,1)","v":"이*선"},"아쿠아로빅A",{"$f":"LEFT([1]회원선정결과!K23,1)&\"*\"&RIGHT([1]회원선정결과!K23,1)","v":"김*자"},"아쿠아로빅A",{"$f":"LEFT([1]회원선정결과!M23,1)&\"*\"&RIGHT([1]회원선정결과!M23,1)","v":"황*자"},"아쿠아로빅B",{"$f":"LEFT([1]회원선정결과!O23,1)&\"*\"&RIGHT([1]회원선정결과!O23,1)","v":"박*분"},"아쿠아로빅B",{"$f":"LEFT([1]회원선정결과!Q23,1)&\"*\"&RIGHT([1]회원선정결과!Q23,1)","v":"홍*숙"},"청소년",{"$f":"LEFT([1]회원선정결과!S23,1)&\"*\"&RIGHT([1]회원선정결과!S23,1)","v":"최*환"},"저녁",{"$f":"LEFT([1]회원선정결과!U23,1)&\"*\"&RIGHT([1]회원선정결과!U23,1)","v":"유*희"},"야간",{"$f":"LEFT([1]회원선정결과!W23,1)&\"*\"&RIGHT([1]회원선정결과!W23,1)","v":"정*한"}]
[21,"새벽",{"$f":"LEFT([1]회원선정결과!$C24,1)&\"*\"&RIGHT([1]회원선정결과!$C24,1)","v":"오*창"},"아침",{"$f":"LEFT([1]회원선정결과!$E24,1)&\"*\"&RIGHT([1]회원선정결과!$E24,1)","v":"이*쁨"},"오전A",{"$f":"LEFT([1]회원선정결과!G24,1)&\"*\"&RIGHT([1]회원선정결과!G24,1)","v":"석*경"},"오전B",{"$f":"LEFT([1]회원선정결과!I24,1)&\"*\"&RIGHT([1]회원선정결과!I24,1)","v":"임*순"},"아쿠아로빅A",{"$f":"LEFT([1]회원선정결과!K24,1)&\"*\"&RIGHT([1]회원선정결과!K24,1)","v":"김*숙"},null,null,"아쿠아로빅B",{"$f":"LEFT([1]회원선정결과!O24,1)&\"*\"&RIGHT([1]회원선정결과!O24,1)","v":"박*옥"},null,null,"청소년",{"$f":"LEFT([1]회원선정결과!S24,1)&\"*\"&RIGHT([1]회원선정결과!S24,1)","v":"홍*원"},"저녁",{"$f":"LEFT([1]회원선정결과!U24,1)&\"*\"&RIGHT([1]회원선정결과!U24,1)","v":"윤*용"},"야간",{"$f":"LEFT([1]회원선정결과!W24,1)&\"*\"&RIGHT([1]회원선정결과!W24,1)","v":"조*인"}]
[22,"새벽",{"$f":"LEFT([1]회원선정결과!$C25,1)&\"*\"&RIGHT([1]회원선정결과!$C25,1)","v":"윤*생"},"아침",{"$f":"LEFT([1]회원선정결과!$E25,1)&\"*\"&RIGHT([1]회원선정결과!$E25,1)","v":"이*현"},"오전A",{"$f":"LEFT([1]회원선정결과!G25,1)&\"*\"&RIGHT([1]회원선정결과!G25,1)","v":"안*영"},"오전B",{"$f":"LEFT([1]회원선정결과!I25,1)&\"*\"&RIGHT([1]회원선정결과!I25,1)","v":"임*진"},"아쿠아로빅A",{"$f":"LEFT([1]회원선정결과!K25,1)&\"*\"&RIGHT([1]회원선정결과!K25,1)","v":"남*숙"},null,null,"아쿠아로빅B",{"$f":"LEFT([1]회원선정결과!O25,1)&\"*\"&RIGHT([1]회원선정결과!O25,1)","v":"백*옥"},null,null,"청소년",{"$f":"LEFT([1]회원선정결과!S25,1)&\"*\"&RIGHT([1]회원선정결과!S25,1)","v":"황*율"},"저녁",{"$f":"LEFT([1]회원선정결과!U25,1)&\"*\"&RIGHT([1]회원선정결과!U25,1)","v":"이*화"},"야간",{"$f":"LEFT([1]회원선정결과!W25,1)&\"*\"&RIGHT([1]회원선정결과!W25,1)","v":"진*숙"}]
[23,"새벽",{"$f":"LEFT([1]회원선정결과!$C26,1)&\"*\"&RIGHT([1]회원선정결과!$C26,1)","v":"이*숙"},"아침",{"$f":"LEFT([1]회원선정결과!$E26,1)&\"*\"&RIGHT([1]회원선정결과!$E26,1)","v":"이*란"},"오전A",{"$f":"LEFT([1]회원선정결과!G26,1)&\"*\"&RIGHT([1]회원선정결과!G26,1)","v":"오*자"},"오전B",{"$f":"LEFT([1]회원선정결과!I26,1)&\"*\"&RIGHT([1]회원선정결과!I26,1)","v":"장*희"},"아쿠아로빅A",{"$f":"LEFT([1]회원선정결과!K26,1)&\"*\"&RIGHT([1]회원선정결과!K26,1)","v":"문*희"},null,null,"아쿠아로빅B",{"$f":"LEFT([1]회원선정결과!O26,1)&\"*\"&RIGHT([1]회원선정결과!O26,1)","v":"백*년"},null,null,"청소년",null,"저녁",{"$f":"LEFT([1]회원선정결과!U26,1)&\"*\"&RIGHT([1]회원선정결과!U26,1)","v":"이*동"},"야간",{"$f":"LEFT([1]회원선정결과!W26,1)&\"*\"&RIGHT([1]회원선정결과!W26,1)","v":"최*윤"}]
[24,"새벽",{"$f":"LEFT([1]회원선정결과!$C27,1)&\"*\"&RIGHT([1]회원선정결과!$C27,1)","v":"장*영"},"아침",{"$f":"LEFT([1]회원선정결과!$E27,1)&\"*\"&RIGHT([1]회원선정결과!$E27,1)","v":"이*경"},"오전A",{"$f":"LEFT([1]회원선정결과!G27,1)&\"*\"&RIGHT([1]회원선정결과!G27,1)","v":"윤*영"},"오전B",{"$f":"LEFT([1]회원선정결과!I27,1)&\"*\"&RIGHT([1]회원선정결과!I27,1)","v":"최*화"},"아쿠아로빅A",{"$f":"LEFT([1]회원선정결과!K27,1)&\"*\"&RIGHT([1]회원선정결과!K27,1)","v":"성*순"},null,null,"아쿠아로빅B",{"$f":"LEFT([1]회원선정결과!O27,1)&\"*\"&RIGHT([1]회원선정결과!O27,1)","v":"백*숙"},null,null,"청소년",null,"저녁",{"$f":"LEFT([1]회원선정결과!U27,1)&\"*\"&RIGHT([1]회원선정결과!U27,1)","v":"이*준"},"야간",{"$f":"LEFT([1]회원선정결과!W27,1)&\"*\"&RIGHT([1]회원선정결과!W27,1)","v":"최*빈"}]
[25,"새벽",{"$f":"LEFT([1]회원선정결과!$C28,1)&\"*\"&RIGHT([1]회원선정결과!$C28,1)","v":"조*수"},"아침",{"$f":"LEFT([1]회원선정결과!$E28,1)&\"*\"&RIGHT([1]회원선정결과!$E28,1)","v":"임*민"},"오전A",{"$f":"LEFT([1]회원선정결과!G28,1)&\"*\"&RIGHT([1]회원선정결과!G28,1)","v":"윤*정"},"오전B",{"$f":"LEFT([1]회원선정결과!I28,1)&\"*\"&RIGHT([1]회원선정결과!I28,1)","v":"최*린"},"아쿠아로빅A",{"$f":"LEFT([1]회원선정결과!K28,1)&\"*\"&RIGHT([1]회원선정결과!K28,1)","v":"성*옥"},null,null,"아쿠아로빅B",{"$f":"LEFT([1]회원선정결과!O28,1)&\"*\"&RIGHT([1]회원선정결과!O28,1)","v":"서*숙"},null,null,"청소년",null,"저녁",{"$f":"LEFT([1]회원선정결과!U28,1)&\"*\"&RIGHT([1]회원선정결과!U28,1)","v":"인*지"},"야간",{"$f":"LEFT([1]회원선정결과!W28,1)&\"*\"&RIGHT([1]회원선정결과!W28,1)","v":"최*현"}]
[26,"새벽",{"$f":"LEFT([1]회원선정결과!$C29,1)&\"*\"&RIGHT([1]회원선정결과!$C29,1)","v":"차*우"},"아침",{"$f":"LEFT([1]회원선정결과!$E29,1)&\"*\"&RIGHT([1]회원선정결과!$E29,1)","v":"제*옥"},"오전A",{"$f":"LEFT([1]회원선정결과!G29,1)&\"*\"&RIGHT([1]회원선정결과!G29,1)","v":"이*숙"},"오전B",{"$f":"LEFT([1]회원선정결과!I29,1)&\"*\"&RIGHT([1]회원선정결과!I29,1)","v":"현*연"},"아쿠아로빅A",{"$f":"LEFT([1]회원선정결과!K29,1)&\"*\"&RIGHT([1]회원선정결과!K29,1)","v":"손*향"},null,null,"아쿠아로빅B",{"$f":"LEFT([1]회원선정결과!O29,1)&\"*\"&RIGHT([1]회원선정결과!O29,1)","v":"손*늠"},null,null,"청소년",null,"저녁",{"$f":"LEFT([1]회원선정결과!U29,1)&\"*\"&RIGHT([1]회원선정결과!U29,1)","v":"임*이"},"야간",{"$f":"LEFT([1]회원선정결과!W29,1)&\"*\"&RIGHT([1]회원선정결과!W29,1)","v":"최*미"}]
[27,"새벽",{"$f":"LEFT([1]회원선정결과!$C30,1)&\"*\"&RIGHT([1]회원선정결과!$C30,1)","v":"채*석"},"아침",{"$f":"LEFT([1]회원선정결과!$E30,1)&\"*\"&RIGHT([1]회원선정결과!$E30,1)","v":"최*은"},"오전A",{"$f":"LEFT([1]회원선정결과!G30,1)&\"*\"&RIGHT([1]회원선정결과!G30,1)","v":"이*숙"},"오전B",{"$f":"LEFT([1]회원선정결과!I30,1)&\"*\"&RIGHT([1]회원선정결과!I30,1)","v":"홍*숙"},"아쿠아로빅A",{"$f":"LEFT([1]회원선정결과!K30,1)&\"*\"&RIGHT([1]회원선정결과!K30,1)","v":"윤*희"},null,null,"아쿠아로빅B",{"$f":"LEFT([1]회원선정결과!O30,1)&\"*\"&RIGHT([1]회원선정결과!O30,1)","v":"손*순"},null,null,"청소년",null,"저녁",{"$f":"LEFT([1]회원선정결과!U30,1)&\"*\"&RIGHT([1]회원선정결과!U30,1)","v":"임*정"},"야간",{"$f":"LEFT([1]회원선정결과!W30,1)&\"*\"&RIGHT([1]회원선정결과!W30,1)","v":"최*숙"}]
[28,"새벽",{"$f":"LEFT([1]회원선정결과!$C31,1)&\"*\"&RIGHT([1]회원선정결과!$C31,1)","v":"최*경"},"아침",{"$f":"LEFT([1]회원선정결과!$E31,1)&\"*\"&RIGHT([1]회원선정결과!$E31,1)","v":"하*경"},"오전A",{"$f":"LEFT([1]회원선정결과!G31,1)&\"*\"&RIGHT([1]회원선정결과!G31,1)","v":"전*민"},"오전B",{"$f":"LEFT([1]회원선정결과!I31,1)&\"*\"&RIGHT([1]회원선정결과!I31,1)","v":"황*준"},"아쿠아로빅A",{"$f":"LEFT([1]회원선정결과!K31,1)&\"*\"&RIGHT([1]회원선정결과!K31,1)","v":"윤*자"},null,null,"아쿠아로빅B",{"$f":"LEFT([1]회원선정결과!O31,1)&\"*\"&RIGHT([1]회원선정결과!O31,1)","v":"송*순"},null,null,"청소년",null,"저녁",{"$f":"LEFT([1]회원선정결과!U31,1)&\"*\"&RIGHT([1]회원선정결과!U31,1)","v":"정*숙"},"야간",{"$f":"LEFT([1]회원선정결과!W31,1)&\"*\"&RIGHT([1]회원선정결과!W31,1)","v":"하*수"}]
[29,"새벽",{"$f":"LEFT([1]회원선정결과!$C32,1)&\"*\"&RIGHT([1]회원선정결과!$C32,1)","v":"최*지"},"아침",{"$f":"LEFT([1]회원선정결과!$E32,1)&\"*\"&RIGHT([1]회원선정결과!$E32,1)","v":"한*현"},"오전A",{"$f":"LEFT([1]회원선정결과!G32,1)&\"*\"&RIGHT([1]회원선정결과!G32,1)","v":"황*련"},"오전B",null,"아쿠아로빅A",{"$f":"LEFT([1]회원선정결과!K32,1)&\"*\"&RIGHT([1]회원선정결과!K32,1)","v":"이*숙"},null,null,"아쿠아로빅B",{"$f":"LEFT([1]회원선정결과!O32,1)&\"*\"&RIGHT([1]회원선정결과!O32,1)","v":"송*남"},null,null,"청소년",null,"저녁",{"$f":"LEFT([1]회원선정결과!U32,1)&\"*\"&RIGHT([1]회원선정결과!U32,1)","v":"정*섭"},"야간",{"$f":"LEFT([1]회원선정결과!W32,1)&\"*\"&RIGHT([1]회원선정결과!W32,1)","v":"한*람"}]
[30,"새벽",{"$f":"LEFT([1]회원선정결과!$C33,1)&\"*\"&RIGHT([1]회원선정결과!$C33,1)","v":"황*희"},"아침",{"$f":"LEFT([1]회원선정결과!$E33,1)&\"*\"&RIGHT([1]회원선정결과!$E33,1)","v":"황*란"},"오전A",null,"오전B",null,"아쿠아로빅A",{"$f":"LEFT([1]회원선정결과!K33,1)&\"*\"&RIGHT([1]회원선정결과!K33,1)","v":"이*순"},null,null,"아쿠아로빅B",{"$f":"LEFT([1]회원선정결과!O33,1)&\"*\"&RIGHT([1]회원선정결과!O33,1)","v":"신*옥"},null,null,"청소년",null,"저녁",{"$f":"LEFT([1]회원선정결과!U33,1)&\"*\"&RIGHT([1]회원선정결과!U33,1)","v":"하*철"},"야간",{"$f":"LEFT([1]회원선정결과!W33,1)&\"*\"&RIGHT([1]회원선정결과!W33,1)","v":"황*훈"}]