{"text_format":"3","workbook":"xlsx","n_sheets":4,"sheets":["1.사업팀제공","2.사업팀제공","3.소득기준금액계산","4.건보료자료"],"not_rendered":{"defined_names":4,"comments":1},"read":"whole","date_system":"1900"}

{"sheet":"1.사업팀제공","index":0,"n_rows":748,"n_cols":7,"rows_kept":748,"merged":[[3,0,3,4],[5,0,6,0],[5,1,6,1],[5,2,5,4],[5,6,6,6],[7,0,8,0],[7,1,8,1],[9,0,10,0],[9,1,10,1],[11,0,12,0],[11,1,12,1],[13,0,14,0],[13,1,14,1],[15,0,16,0],[15,1,16,1],[17,0,18,0],[17,1,18,1],[19,0,20,0],[19,1,20,1],[21,0,22,0],[21,1,22,1],[23,0,24,0],[23,1,24,1],[25,0,26,0],[25,1,26,1],[31,0,31,4],[33,0,34,0],[33,1,34,1],[33,2,33,4],[33,6,34,6],[35,0,36,0],[35,1,36,1],[37,0,38,0],[37,1,38,1],[39,0,40,0],[39,1,40,1],[41,0,42,0],[41,1,42,1],[43,0,44,0],[43,1,44,1],[45,0,46,0],[45,1,46,1],[47,0,48,0],[47,1,48,1],[49,0,50,0],[49,1,50,1],[51,0,52,0],[51,1,52,1],[53,0,54,0],[53,1,54,1],[59,0,59,4],[61,0,62,0],[61,1,62,1],[61,2,61,4],[61,6,62,6],[63,0,64,0],[63,1,64,1],[65,0,66,0],[65,1,66,1],[67,0,68,0],[67,1,68,1],[69,0,70,0],[69,1,70,1],[71,0,72,0],[71,1,72,1],[73,0,74,0],[73,1,74,1],[75,0,76,0],[75,1,76,1],[77,0,78,0],[77,1,78,1],[79,0,80,0],[79,1,80,1],[81,0,82,0],[81,1,82,1],[87,0,87,4],[89,0,90,0],[89,1,90,1],[89,2,89,4],[89,6,90,6],[91,0,92,0],[91,1,92,1],[93,0,94,0],[93,1,94,1],[95,0,96,0],[95,1,96,1],[97,0,98,0],[97,1,98,1],[99,0,100,0],[99,1,100,1],[101,0,102,0],[101,1,102,1],[103,0,104,0],[103,1,104,1],[105,0,106,0],[105,1,106,1],[107,0,108,0],[107,1,108,1],[109,0,110,0],[109,1,110,1],[115,0,115,4],[117,0,118,0],[117,1,118,1],[117,2,117,4],[117,6,118,6],[119,0,120,0],[119,1,120,1],[121,0,122,0],[121,1,122,1],[123,0,124,0],[123,1,124,1],[125,0,126,0],[125,1,126,1],[127,0,128,0],[127,1,128,1],[129,0,130,0],[129,1,130,1],[131,0,132,0],[131,1,132,1],[133,0,134,0],[133,1,134,1],[135,0,136,0],[135,1,136,1],[137,0,138,0],[137,1,138,1],[143,0,143,4],[145,0,146,0],[145,1,146,1],[145,2,145,4],[145,6,146,6],[147,0,148,0],[147,1,148,1],[149,0,150,0],[149,1,150,1],[151,0,152,0],[151,1,152,1],[153,0,154,0],[153,1,154,1],[155,0,156,0],[155,1,156,1],[157,0,158,0],[157,1,158,1],[159,0,160,0],[159,1,160,1],[161,0,162,0],[161,1,162,1],[163,0,164,0],[163,1,164,1],[165,0,166,0],[165,1,166,1],[171,0,171,4],[173,0,174,0],[173,1,174,1],[173,2,173,4],[173,6,174,6],[175,0,176,0],[175,1,176,1],[177,0,178,0],[177,1,178,1],[179,0,180,0],[179,1,180,1],[181,0,182,0],[181,1,182,1],[183,0,184,0],[183,1,184,1],[185,0,186,0],[185,1,186,1],[187,0,188,0],[187,1,188,1],[189,0,190,0],[189,1,190,1],[191,0,192,0],[191,1,192,1],[193,0,194,0],[193,1,194,1],[199,0,199,4],[201,0,202,0],[201,1,202,1],[201,2,201,4],[201,6,202,6],[203,0,204,0],[203,1,204,1],[205,0,206,0],[205,1,206,1],[207,0,208,0],[207,1,208,1],[209,0,210,0],[209,1,210,1],[211,0,212,0],[211,1,212,1],[213,0,214,0],[213,1,214,1],[215,0,216,0],[215,1,216,1],[217,0,218,0],[217,1,218,1],[219,0,220,0],[219,1,220,1],[221,0,222,0],[221,1,222,1],[227,0,227,4],[229,0,230,0],[229,1,230,1],[229,2,229,4],[229,6,230,6],[231,0,232,0],[231,1,232,1],[233,0,234,0],[233,1,234,1],[235,0,236,0],[235,1,236,1],[237,0,238,0],[237,1,238,1],[239,0,240,0],[239,1,240,1],[241,0,242,0],[241,1,242,1],[243,0,244,0],[243,1,244,1],[245,0,246,0],[245,1,246,1],[247,0,248,0],[247,1,248,1],[249,0,250,0],[249,1,250,1],[255,0,255,4],[257,0,258,0],[257,1,258,1],[257,2,257,4],[257,6,258,6],[259,0,260,0],[259,1,260,1],[261,0,262,0],[261,1,262,1],[263,0,264,0],[263,1,264,1],[265,0,266,0],[265,1,266,1],[267,0,268,0],[267,1,268,1],[269,0,270,0],[269,1,270,1],[271,0,272,0],[271,1,272,1],[273,0,274,0],[273,1,274,1],[275,0,276,0],[275,1,276,1],[277,0,278,0],[277,1,278,1],[283,0,283,4],[285,0,286,0],[285,1,286,1],[285,2,285,4],[285,6,286,6],[287,0,288,0],[287,1,288,1],[289,0,290,0],[289,1,290,1],[291,0,292,0],[291,1,292,1],[293,0,294,0],[293,1,294,1],[295,0,296,0],[295,1,296,1],[297,0,298,0],[297,1,298,1],[299,0,300,0],[299,1,300,1],[301,0,302,0],[301,1,302,1],[303,0,304,0],[303,1,304,1],[305,0,306,0],[305,1,306,1],[311,0,311,4],[313,0,314,0],[313,1,314,1],[313,2,313,4],[313,6,314,6],[315,0,316,0],[315,1,316,1],[317,0,318,0],[317,1,318,1],[319,0,320,0],[319,1,320,1],[321,0,322,0],[321,1,322,1],[323,0,324,0],[323,1,324,1],[325,0,326,0],[325,1,326,1],[327,0,328,0],[327,1,328,1],[329,0,330,0],[329,1,330,1],[331,0,332,0],[331,1,332,1],[333,0,334,0],[333,1,334,1],[339,0,339,4],[341,0,342,0],[341,1,342,1],[341,2,341,4],[341,6,342,6],[343,0,344,0],[343,1,344,1],[345,0,346,0],[345,1,346,1],[347,0,348,0],[347,1,348,1],[349,0,350,0],[349,1,350,1],[351,0,352,0],[351,1,352,1],[353,0,354,0],[353,1,354,1],[355,0,356,0],[355,1,356,1],[357,0,358,0],[357,1,358,1],[359,0,360,0],[359,1,360,1],[361,0,362,0],[361,1,362,1],[367,0,367,4],[369,0,370,0],[369,1,370,1],[369,2,369,4],[369,6,370,6],[371,0,372,0],[371,1,372,1],[373,0,374,0],[373,1,374,1],[375,0,376,0],[375,1,376,1],[377,0,378,0],[377,1,378,1],[379,0,380,0],[379,1,380,1],[381,0,382,0],[381,1,382,1],[383,0,384,0],[383,1,384,1],[385,0,386,0],[385,1,386,1],[387,0,388,0],[387,1,388,1],[389,0,390,0],[389,1,390,1],[395,0,395,4],[397,0,398,0],[397,1,398,1],[397,2,397,4],[397,6,398,6],[399,0,400,0],[399,1,400,1],[401,0,402,0],[401,1,402,1],[403,0,404,0],[403,1,404,1],[405,0,406,0],[405,1,406,1],[407,0,408,0],[407,1,408,1],[409,0,410,0],[409,1,410,1],[411,0,412,0],[411,1,412,1],[413,0,414,0],[413,1,414,1],[415,0,416,0],[415,1,416,1],[417,0,418,0],[417,1,418,1],[422,0,422,4],[424,0,425,0],[424,1,425,1],[424,2,424,4],[424,6,425,6],[426,0,427,0],[426,1,427,1],[428,0,429,0],[428,1,429,1],[430,0,431,0],[430,1,431,1],[432,0,433,0],[432,1,433,1],[434,0,435,0],[434,1,435,1],[436,0,437,0],[436,1,437,1],[438,0,439,0],[438,1,439,1],[440,0,441,0],[440,1,441,1],[442,0,443,0],[442,1,443,1],[444,0,445,0],[444,1,445,1],[449,0,449,4],[451,0,452,0],[451,1,452,1],[451,2,451,4],[451,6,452,6],[453,0,454,0],[453,1,454,1],[455,0,456,0],[455,1,456,1],[457,0,458,0],[457,1,458,1],[459,0,460,0],[459,1,460,1],[461,0,462,0],[461,1,462,1],[463,0,464,0],[463,1,464,1],[465,0,466,0],[465,1,466,1],[467,0,468,0],[467,1,468,1],[469,0,470,0],[469,1,470,1],[471,0,472,0],[471,1,472,1],[477,0,477,4],[479,0,480,0],[479,1,480,1],[479,2,479,4],[479,6,480,6],[481,0,482,0],[481,1,482,1],[483,0,484,0],[483,1,484,1],[485,0,486,0],[485,1,486,1],[487,0,488,0],[487,1,488,1],[489,0,490,0],[489,1,490,1],[491,0,492,0],[491,1,492,1],[493,0,494,0],[493,1,494,1],[495,0,496,0],[495,1,496,1],[497,0,498,0],[497,1,498,1],[499,0,500,0],[499,1,500,1],[504,0,504,4],[506,0,507,0],[506,1,507,1],[506,2,506,4],[506,6,507,6],[508,0,509,0],[508,1,509,1],[510,0,511,0],[510,1,511,1],[512,0,513,0],[512,1,513,1],[514,0,515,0],[514,1,515,1],[516,0,517,0],[516,1,517,1],[518,0,519,0],[518,1,519,1],[520,0,521,0],[520,1,521,1],[522,0,523,0],[522,1,523,1],[524,0,525,0],[524,1,525,1],[526,0,527,0],[526,1,527,1],[531,0,531,4],[533,0,534,0],[533,1,534,1],[533,2,533,4],[533,6,534,6],[535,0,536,0],[535,1,536,1],[537,0,538,0],[537,1,538,1],[539,0,540,0],[539,1,540,1],[541,0,542,0],[541,1,542,1],[543,0,544,0],[543,1,544,1],[545,0,546,0],[545,1,546,1],[547,0,548,0],[547,1,548,1],[549,0,550,0],[549,1,550,1],[551,0,552,0],[551,1,552,1],[553,0,554,0],[553,1,554,1],[559,0,559,4],[561,0,562,0],[561,1,562,1],[561,2,561,4],[561,6,562,6],[563,0,564,0],[563,1,564,1],[565,0,566,0],[565,1,566,1],[567,0,568,0],[567,1,568,1],[569,0,570,0],[569,1,570,1],[571,0,572,0],[571,1,572,1],[573,0,574,0],[573,1,574,1],[575,0,576,0],[575,1,576,1],[577,0,578,0],[577,1,578,1],[579,0,580,0],[579,1,580,1],[581,0,582,0],[581,1,582,1],[586,0,586,4],[588,0,589,0],[588,1,589,1],[588,2,588,4],[588,6,589,6],[590,0,591,0],[590,1,591,1],[592,0,593,0],[592,1,593,1],[594,0,595,0],[594,1,595,1],[596,0,597,0],[596,1,597,1],[598,0,599,0],[598,1,599,1],[600,0,601,0],[600,1,601,1],[602,0,603,0],[602,1,603,1],[604,0,605,0],[604,1,605,1],[606,0,607,0],[606,1,607,1],[608,0,609,0],[608,1,609,1],[613,0,613,4],[615,0,616,0],[615,1,616,1],[615,2,615,4],[615,6,616,6],[617,0,618,0],[617,1,618,1],[619,0,620,0],[619,1,620,1],[621,0,622,0],[621,1,622,1],[623,0,624,0],[623,1,624,1],[625,0,626,0],[625,1,626,1],[627,0,628,0],[627,1,628,1],[629,0,630,0],[629,1,630,1],[631,0,632,0],[631,1,632,1],[633,0,634,0],[633,1,634,1],[635,0,636,0],[635,1,636,1],[640,0,640,4],[642,0,643,0],[642,1,643,1],[642,2,642,4],[642,6,643,6],[644,0,645,0],[644,1,645,1],[646,0,647,0],[646,1,647,1],[648,0,649,0],[648,1,649,1],[650,0,651,0],[650,1,651,1],[652,0,653,0],[652,1,653,1],[654,0,655,0],[654,1,655,1],[656,0,657,0],[656,1,657,1],[658,0,659,0],[658,1,659,1],[660,0,661,0],[660,1,661,1],[662,0,663,0],[662,1,663,1],[667,0,667,4],[669,0,670,0],[669,1,670,1],[669,2,669,4],[669,6,670,6],[671,0,672,0],[671,1,672,1],[673,0,674,0],[673,1,674,1],[675,0,676,0],[675,1,676,1],[677,0,678,0],[677,1,678,1],[679,0,680,0],[679,1,680,1],[681,0,682,0],[681,1,682,1],[683,0,684,0],[683,1,684,1],[685,0,686,0],[685,1,686,1],[687,0,688,0],[687,1,688,1],[689,0,690,0],[689,1,690,1],[692,0,692,5],[697,0,697,4],[699,0,700,0],[699,1,700,1],[699,2,699,4],[699,6,700,6],[701,0,702,0],[701,1,702,1],[703,0,704,0],[703,1,704,1],[705,0,706,0],[705,1,706,1],[707,0,708,0],[707,1,708,1],[709,0,710,0],[709,1,710,1],[711,0,712,0],[711,1,712,1],[713,0,714,0],[713,1,714,1],[715,0,716,0],[715,1,716,1],[717,0,718,0],[717,1,718,1],[719,0,720,0],[719,1,720,1],[724,0,724,4],[726,0,727,0],[726,1,727,1],[726,2,726,4],[726,6,727,6],[728,0,729,0],[728,1,729,1],[730,0,731,0],[730,1,731,1],[732,0,733,0],[732,1,733,1],[734,0,735,0],[734,1,735,1],[736,0,737,0],[736,1,737,1],[738,0,739,0],[738,1,739,1],[740,0,741,0],[740,1,741,1],[742,0,743,0],[742,1,743,1],[744,0,745,0],[744,1,745,1],[746,0,747,0],[746,1,747,1]]}
[]
[]
[{"$nulls":6},"*소득액(원)은 절대 손대지 말것"]
["2014년도 기준(전국가구평균소득 40%)"]
[]
["가구원수","소득기준(가져오는 값)","건강보험료 본인부담금",{"$nulls":3},"소득액(원)"]
[null,null,"직장가입자","지역가입자","혼합"]
["1인",{"$f":"'3.소득기준금액계산'!D21","v":{"v":615000,"d":"615,000"}},{"$f":"VLOOKUP($G8,'2.사업팀제공'!$A:$D,2,FALSE)","v":{"v":19698,"d":"19,698"}},{"$f":"VLOOKUP($G8,'2.사업팀제공'!$A:$D,3,FALSE)","v":{"v":3080,"d":"3,080"}},{"$f":"VLOOKUP($G8,'2.사업팀제공'!$A:$D,4,FALSE)","v":{"v":20972,"d":"20,972"}},null,{"$f":"MIN(IF('2.사업팀제공'!$A$6:$A$205>='1.사업팀제공'!B8:B8,'2.사업팀제공'!$A$6:$A$205,\"\"))","v":{"v":657701,"d":"657,701"}}]
[null,null,{"$f":"C8*1.0655","v":{"v":20988.218999999997,"d":"20,988"}},{"$f":"D8*1.0655","v":{"v":3281.74,"d":"3,282"}},{"$f":"E8*1.0655","v":{"v":22345.665999999997,"d":"22,346"}},"노인장기요양보험료 포함"]
["2인",{"$f":"'3.소득기준금액계산'!E21","v":{"v":1165000,"d":"1,165,000"}},{"$f":"VLOOKUP($G10,'2.사업팀제공'!$A:$D,2,FALSE)","v":{"v":35197,"d":"35,197"}},{"$f":"VLOOKUP($G10,'2.사업팀제공'!$A:$D,3,FALSE)","v":{"v":15704,"d":"15,704"}},{"$f":"VLOOKUP($G10,'2.사업팀제공'!$A:$D,4,FALSE)","v":{"v":35830,"d":"35,830"}},null,{"$f":"MIN(IF('2.사업팀제공'!$A$6:$A$205>='1.사업팀제공'!B10:B10,'2.사업팀제공'!$A$6:$A$205,\"\"))","v":{"v":1175183,"d":"1,175,183"}}]
[null,null,{"$f":"C10*1.0655","v":{"v":37502.40349999999,"d":"37,502"}},{"$f":"D10*1.0655","v":{"v":16732.611999999997,"d":"16,733"}},{"$f":"E10*1.0655","v":{"v":38176.865,"d":"38,177"}}]
["3인",{"$f":"'3.소득기준금액계산'!F21","v":{"v":1713000,"d":"1,713,000"}},{"$f":"VLOOKUP($G12,'2.사업팀제공'!$A:$D,2,FALSE)","v":{"v":51352,"d":"51,352"}},{"$f":"VLOOKUP($G12,'2.사업팀제공'!$A:$D,3,FALSE)","v":{"v":36722,"d":"36,722"}},{"$f":"VLOOKUP($G12,'2.사업팀제공'!$A:$D,4,FALSE)","v":{"v":52041,"d":"52,041"}},null,{"$f":"MIN(IF('2.사업팀제공'!$A$6:$A$205>='1.사업팀제공'!B12:B12,'2.사업팀제공'!$A$6:$A$205,\"\"))","v":{"v":1714603,"d":"1,714,603"}}]
[null,null,{"$f":"C12*1.0655","v":{"v":54715.556,"d":"54,716"}},{"$f":"D12*1.0655","v":{"v":39127.291,"d":"39,127"}},{"$f":"E12*1.0655","v":{"v":55449.68549999999,"d":"55,450"}}]
["4인",{"$f":"'3.소득기준금액계산'!G21","v":{"v":1934000,"d":"1,934,000"}},{"$f":"VLOOKUP($G14,'2.사업팀제공'!$A:$D,2,FALSE)","v":{"v":58590,"d":"58,590"}},{"$f":"VLOOKUP($G14,'2.사업팀제공'!$A:$D,3,FALSE)","v":{"v":47492,"d":"47,492"}},{"$f":"VLOOKUP($G14,'2.사업팀제공'!$A:$D,4,FALSE)","v":{"v":59375,"d":"59,375"}},null,{"$f":"MIN(IF('2.사업팀제공'!$A$6:$A$205>='1.사업팀제공'!B14:B14,'2.사업팀제공'!$A$6:$A$205,\"\"))","v":{"v":1956276,"d":"1,956,276"}}]
[null,null,{"$f":"C14*1.0655","v":{"v":62427.645,"d":"62,428"}},{"$f":"D14*1.0655","v":{"v":50602.725999999995,"d":"50,603"}},{"$f":"E14*1.0655","v":{"v":63264.06249999999,"d":"63,264"}}]
["5인",{"$f":"'3.소득기준금액계산'!H21","v":{"v":2017000,"d":"2,017,000"}},{"$f":"VLOOKUP($G16,'2.사업팀제공'!$A:$D,2,FALSE)","v":{"v":60574,"d":"60,574"}},{"$f":"VLOOKUP($G16,'2.사업팀제공'!$A:$D,3,FALSE)","v":{"v":52181,"d":"52,181"}},{"$f":"VLOOKUP($G16,'2.사업팀제공'!$A:$D,4,FALSE)","v":{"v":61372,"d":"61,372"}},null,{"$f":"MIN(IF('2.사업팀제공'!$A$6:$A$205>='1.사업팀제공'!B16:B16,'2.사업팀제공'!$A$6:$A$205,\"\"))","v":{"v":2022517,"d":"2,022,517"}}]
[null,null,{"$f":"C16*1.0655","v":{"v":64541.596999999994,"d":"64,542"}},{"$f":"D16*1.0655","v":{"v":55598.8555,"d":"55,599"}},{"$f":"E16*1.0655","v":{"v":65391.865999999995,"d":"65,392"}}]
["6인",{"$f":"'3.소득기준금액계산'!I21","v":{"v":2099000,"d":"2,099,000"}},{"$f":"VLOOKUP($G18,'2.사업팀제공'!$A:$D,2,FALSE)","v":{"v":63226,"d":"63,226"}},{"$f":"VLOOKUP($G18,'2.사업팀제공'!$A:$D,3,FALSE)","v":{"v":56203,"d":"56,203"}},{"$f":"VLOOKUP($G18,'2.사업팀제공'!$A:$D,4,FALSE)","v":{"v":64087,"d":"64,087"}},null,{"$f":"MIN(IF('2.사업팀제공'!$A$6:$A$205>='1.사업팀제공'!B18:B18,'2.사업팀제공'!$A$6:$A$205,\"\"))","v":{"v":2111042,"d":"2,111,042"}}]
[null,null,{"$f":"C18*1.0655","v":{"v":67367.303,"d":"67,367"}},{"$f":"D18*1.0655","v":{"v":59884.2965,"d":"59,884"}},{"$f":"E18*1.0655","v":{"v":68284.6985,"d":"68,285"}}]
["7인",{"$f":"'3.소득기준금액계산'!J21","v":{"v":2181000,"d":"2,181,000"}},{"$f":"VLOOKUP($G20,'2.사업팀제공'!$A:$D,2,FALSE)","v":{"v":65650,"d":"65,650"}},{"$f":"VLOOKUP($G20,'2.사업팀제공'!$A:$D,3,FALSE)","v":{"v":59374,"d":"59,374"}},{"$f":"VLOOKUP($G20,'2.사업팀제공'!$A:$D,4,FALSE)","v":{"v":65927,"d":"65,927"}},null,{"$f":"MIN(IF('2.사업팀제공'!$A$6:$A$205>='1.사업팀제공'!B20:B20,'2.사업팀제공'!$A$6:$A$205,\"\"))","v":{"v":2191994,"d":"2,191,994"}}]
[null,null,{"$f":"C20*1.0655","v":{"v":69950.075,"d":"69,950"}},{"$f":"D20*1.0655","v":{"v":63262.996999999996,"d":"63,263"}},{"$f":"E20*1.0655","v":{"v":70245.21849999999,"d":"70,245"}}]
["8인",{"$f":"'3.소득기준금액계산'!K21","v":{"v":2263000,"d":"2,263,000"}},{"$f":"VLOOKUP($G22,'2.사업팀제공'!$A:$D,2,FALSE)","v":{"v":68222,"d":"68,222"}},{"$f":"VLOOKUP($G22,'2.사업팀제공'!$A:$D,3,FALSE)","v":{"v":64218,"d":"64,218"}},{"$f":"VLOOKUP($G22,'2.사업팀제공'!$A:$D,4,FALSE)","v":{"v":68874,"d":"68,874"}},null,{"$f":"MIN(IF('2.사업팀제공'!$A$6:$A$205>='1.사업팀제공'!B22:B22,'2.사업팀제공'!$A$6:$A$205,\"\"))","v":{"v":2277858,"d":"2,277,858"}}]
[null,null,{"$f":"C22*1.0655","v":{"v":72690.541,"d":"72,691"}},{"$f":"D22*1.0655","v":{"v":68424.279,"d":"68,424"}},{"$f":"E22*1.0655","v":{"v":73385.24699999999,"d":"73,385"}}]
["9인",{"$f":"'3.소득기준금액계산'!L21","v":{"v":2345000,"d":"2,345,000"}},{"$f":"VLOOKUP($G24,'2.사업팀제공'!$A:$D,2,FALSE)","v":{"v":70294,"d":"70,294"}},{"$f":"VLOOKUP($G24,'2.사업팀제공'!$A:$D,3,FALSE)","v":{"v":67703,"d":"67,703"}},{"$f":"VLOOKUP($G24,'2.사업팀제공'!$A:$D,4,FALSE)","v":{"v":71188,"d":"71,188"}},null,{"$f":"MIN(IF('2.사업팀제공'!$A$6:$A$205>='1.사업팀제공'!B24:B24,'2.사업팀제공'!$A$6:$A$205,\"\"))","v":{"v":2347059,"d":"2,347,059"}}]
[null,null,{"$f":"C24*1.0655","v":{"v":74898.257,"d":"74,898"}},{"$f":"D24*1.0655","v":{"v":72137.5465,"d":"72,138"}},{"$f":"E24*1.0655","v":{"v":75850.814,"d":"75,851"}}]
["10인",{"$f":"'3.소득기준금액계산'!M21","v":{"v":2428000,"d":"2,428,000"}},{"$f":"VLOOKUP($G26,'2.사업팀제공'!$A:$D,2,FALSE)","v":{"v":73321,"d":"73,321"}},{"$f":"VLOOKUP($G26,'2.사업팀제공'!$A:$D,3,FALSE)","v":{"v":72404,"d":"72,404"}},{"$f":"VLOOKUP($G26,'2.사업팀제공'!$A:$D,4,FALSE)","v":{"v":74266,"d":"74,266"}},null,{"$f":"MIN(IF('2.사업팀제공'!$A$6:$A$205>='1.사업팀제공'!B26:B26,'2.사업팀제공'!$A$6:$A$205,\"\"))","v":{"v":2448114,"d":"2,448,114"}}]
[null,null,{"$f":"C26*1.0655","v":{"v":78123.52549999999,"d":"78,124"}},{"$f":"D26*1.0655","v":{"v":77146.46199999998,"d":"77,146"}},{"$f":"E26*1.0655","v":{"v":79130.423,"d":"79,130"}}]
[]
[]
[]
[]
["2014년도 기준(전국가구평균소득 50%)"]
[]
["가구원수","소득기준","건강보험료 본인부담금",{"$nulls":3},"소득액(원)"]
[null,null,"직장가입자","지역가입자","혼합"]
["1인",{"$f":"'3.소득기준금액계산'!D27","v":{"v":769000,"d":"769,000"}},{"$f":"VLOOKUP($G36,'2.사업팀제공'!$A:$D,2,FALSE)","v":{"v":23463,"d":"23,463"}},{"$f":"VLOOKUP($G36,'2.사업팀제공'!$A:$D,3,FALSE)","v":{"v":3697,"d":"3,697"}},{"$f":"VLOOKUP($G36,'2.사업팀제공'!$A:$D,4,FALSE)","v":{"v":23960,"d":"23,960"}},null,{"$f":"MIN(IF('2.사업팀제공'!$A$6:$A$205>='1.사업팀제공'!B36:B36,'2.사업팀제공'!$A$6:$A$205,\"\"))","v":{"v":783389,"d":"783,389"}}]
[null,null,{"$f":"C36*1.0655","v":{"v":24999.8265,"d":"25,000"}},{"$f":"D36*1.0655","v":{"v":3939.1534999999994,"d":"3,939"}},{"$f":"E36*1.0655","v":{"v":25529.379999999997,"d":"25,529"}}]
["2인",{"$f":"'3.소득기준금액계산'!E27","v":{"v":1456000,"d":"1,456,000"}},{"$f":"VLOOKUP($G38,'2.사업팀제공'!$A:$D,2,FALSE)","v":{"v":44196,"d":"44,196"}},{"$f":"VLOOKUP($G38,'2.사업팀제공'!$A:$D,3,FALSE)","v":{"v":25248,"d":"25,248"}},{"$f":"VLOOKUP($G38,'2.사업팀제공'!$A:$D,4,FALSE)","v":{"v":44821,"d":"44,821"}},null,{"$f":"MIN(IF('2.사업팀제공'!$A$6:$A$205>='1.사업팀제공'!B38:B38,'2.사업팀제공'!$A$6:$A$205,\"\"))","v":{"v":1475672,"d":"1,475,672"}}]
[null,null,{"$f":"C38*1.0655","v":{"v":47090.837999999996,"d":"47,091"}},{"$f":"D38*1.0655","v":{"v":26901.744,"d":"26,902"}},{"$f":"E38*1.0655","v":{"v":47756.775499999996,"d":"47,757"}}]
["3인",{"$f":"'3.소득기준금액계산'!F27","v":{"v":2141000,"d":"2,141,000"}},{"$f":"VLOOKUP($G40,'2.사업팀제공'!$A:$D,2,FALSE)","v":{"v":64818,"d":"64,818"}},{"$f":"VLOOKUP($G40,'2.사업팀제공'!$A:$D,3,FALSE)","v":{"v":58462,"d":"58,462"}},{"$f":"VLOOKUP($G40,'2.사업팀제공'!$A:$D,4,FALSE)","v":{"v":65650,"d":"65,650"}},null,{"$f":"MIN(IF('2.사업팀제공'!$A$6:$A$205>='1.사업팀제공'!B40:B40,'2.사업팀제공'!$A$6:$A$205,\"\"))","v":{"v":2164216,"d":"2,164,216"}}]
[null,null,{"$f":"C40*1.0655","v":{"v":69063.579,"d":"69,064"}},{"$f":"D40*1.0655","v":{"v":62291.26099999999,"d":"62,291"}},{"$f":"E40*1.0655","v":{"v":69950.075,"d":"69,950"}}]
["4인",{"$f":"'3.소득기준금액계산'!G27","v":{"v":2418000,"d":"2,418,000"}},{"$f":"VLOOKUP($G42,'2.사업팀제공'!$A:$D,2,FALSE)","v":{"v":73321,"d":"73,321"}},{"$f":"VLOOKUP($G42,'2.사업팀제공'!$A:$D,3,FALSE)","v":{"v":72404,"d":"72,404"}},{"$f":"VLOOKUP($G42,'2.사업팀제공'!$A:$D,4,FALSE)","v":{"v":74266,"d":"74,266"}},null,{"$f":"MIN(IF('2.사업팀제공'!$A$6:$A$205>='1.사업팀제공'!B42:B42,'2.사업팀제공'!$A$6:$A$205,\"\"))","v":{"v":2448114,"d":"2,448,114"}}]
[null,null,{"$f":"C42*1.0655","v":{"v":78123.52549999999,"d":"78,124"}},{"$f":"D42*1.0655","v":{"v":77146.46199999998,"d":"77,146"}},{"$f":"E42*1.0655","v":{"v":79130.423,"d":"79,130"}}]
["5인",{"$f":"'3.소득기준금액계산'!H27","v":{"v":2521000,"d":"2,521,000"}},{"$f":"VLOOKUP($G44,'2.사업팀제공'!$A:$D,2,FALSE)","v":{"v":75950,"d":"75,950"}},{"$f":"VLOOKUP($G44,'2.사업팀제공'!$A:$D,3,FALSE)","v":{"v":77176,"d":"77,176"}},{"$f":"VLOOKUP($G44,'2.사업팀제공'!$A:$D,4,FALSE)","v":{"v":76909,"d":"76,909"}},null,{"$f":"MIN(IF('2.사업팀제공'!$A$6:$A$205>='1.사업팀제공'!B44:B44,'2.사업팀제공'!$A$6:$A$205,\"\"))","v":{"v":2535908,"d":"2,535,908"}}]
[null,null,{"$f":"C44*1.0655","v":{"v":80924.72499999999,"d":"80,925"}},{"$f":"D44*1.0655","v":{"v":82231.02799999999,"d":"82,231"}},{"$f":"E44*1.0655","v":{"v":81946.53949999998,"d":"81,947"}}]
["6인",{"$f":"'3.소득기준금액계산'!I27","v":{"v":2623000,"d":"2,623,000"}},{"$f":"VLOOKUP($G46,'2.사업팀제공'!$A:$D,2,FALSE)","v":{"v":78595,"d":"78,595"}},{"$f":"VLOOKUP($G46,'2.사업팀제공'!$A:$D,3,FALSE)","v":{"v":80839,"d":"80,839"}},{"$f":"VLOOKUP($G46,'2.사업팀제공'!$A:$D,4,FALSE)","v":{"v":79565,"d":"79,565"}},null,{"$f":"MIN(IF('2.사업팀제공'!$A$6:$A$205>='1.사업팀제공'!B46:B46,'2.사업팀제공'!$A$6:$A$205,\"\"))","v":{"v":2624208,"d":"2,624,208"}}]
[null,null,{"$f":"C46*1.0655","v":{"v":83742.97249999999,"d":"83,743"}},{"$f":"D46*1.0655","v":{"v":86133.95449999999,"d":"86,134"}},{"$f":"E46*1.0655","v":{"v":84776.50749999999,"d":"84,777"}}]
["7인",{"$f":"'3.소득기준금액계산'!J27","v":{"v":2726000,"d":"2,726,000"}},{"$f":"VLOOKUP($G48,'2.사업팀제공'!$A:$D,2,FALSE)","v":{"v":82032,"d":"82,032"}},{"$f":"VLOOKUP($G48,'2.사업팀제공'!$A:$D,3,FALSE)","v":{"v":85032,"d":"85,032"}},{"$f":"VLOOKUP($G48,'2.사업팀제공'!$A:$D,4,FALSE)","v":{"v":82979,"d":"82,979"}},null,{"$f":"MIN(IF('2.사업팀제공'!$A$6:$A$205>='1.사업팀제공'!B48:B48,'2.사업팀제공'!$A$6:$A$205,\"\"))","v":{"v":2738962,"d":"2,738,962"}}]
[null,null,{"$f":"C48*1.0655","v":{"v":87405.09599999999,"d":"87,405"}},{"$f":"D48*1.0655","v":{"v":90601.59599999999,"d":"90,602"}},{"$f":"E48*1.0655","v":{"v":88414.12449999999,"d":"88,414"}}]
["8인",{"$f":"'3.소득기준금액계산'!K27","v":{"v":2829000,"d":"2,829,000"}},{"$f":"VLOOKUP($G50,'2.사업팀제공'!$A:$D,2,FALSE)","v":{"v":84748,"d":"84,748"}},{"$f":"VLOOKUP($G50,'2.사업팀제공'!$A:$D,3,FALSE)","v":{"v":88973,"d":"88,973"}},{"$f":"VLOOKUP($G50,'2.사업팀제공'!$A:$D,4,FALSE)","v":{"v":85798,"d":"85,798"}},null,{"$f":"MIN(IF('2.사업팀제공'!$A$6:$A$205>='1.사업팀제공'!B50:B50,'2.사업팀제공'!$A$6:$A$205,\"\"))","v":{"v":2829665,"d":"2,829,665"}}]
[null,null,{"$f":"C50*1.0655","v":{"v":90298.99399999999,"d":"90,299"}},{"$f":"D50*1.0655","v":{"v":94800.7315,"d":"94,801"}},{"$f":"E50*1.0655","v":{"v":91417.76899999999,"d":"91,418"}}]
["9인",{"$f":"'3.소득기준금액계산'!L27","v":{"v":2932000,"d":"2,932,000"}},{"$f":"VLOOKUP($G52,'2.사업팀제공'!$A:$D,2,FALSE)","v":{"v":88738,"d":"88,738"}},{"$f":"VLOOKUP($G52,'2.사업팀제공'!$A:$D,3,FALSE)","v":{"v":94627,"d":"94,627"}},{"$f":"VLOOKUP($G52,'2.사업팀제공'!$A:$D,4,FALSE)","v":{"v":89734,"d":"89,734"}},null,{"$f":"MIN(IF('2.사업팀제공'!$A$6:$A$205>='1.사업팀제공'!B52:B52,'2.사업팀제공'!$A$6:$A$205,\"\"))","v":{"v":2962877,"d":"2,962,877"}}]
[null,null,{"$f":"C52*1.0655","v":{"v":94550.33899999999,"d":"94,550"}},{"$f":"D52*1.0655","v":{"v":100825.0685,"d":"100,825"}},{"$f":"E52*1.0655","v":{"v":95611.57699999999,"d":"95,612"}}]
["10인",{"$f":"'3.소득기준금액계산'!M27","v":{"v":3034000,"d":"3,034,000"}},{"$f":"VLOOKUP($G54,'2.사업팀제공'!$A:$D,2,FALSE)","v":{"v":91149,"d":"91,149"}},{"$f":"VLOOKUP($G54,'2.사업팀제공'!$A:$D,3,FALSE)","v":{"v":99031,"d":"99,031"}},{"$f":"VLOOKUP($G54,'2.사업팀제공'!$A:$D,4,FALSE)","v":{"v":92298,"d":"92,298"}},null,{"$f":"MIN(IF('2.사업팀제공'!$A$6:$A$205>='1.사업팀제공'!B54:B54,'2.사업팀제공'!$A$6:$A$205,\"\"))","v":{"v":3043368,"d":"3,043,368"}}]
[null,null,{"$f":"C54*1.0655","v":{"v":97119.25949999999,"d":"97,119"}},{"$f":"D54*1.0655","v":{"v":105517.5305,"d":"105,518"}},{"$f":"E54*1.0655","v":{"v":98343.51899999999,"d":"98,344"}}]
[]
[]
[]
[]
["2014년도 기준(전국가구평균소득 60%)"]
[]
["가구원수","소득기준","건강보험료 본인부담금",{"$nulls":3},"소득액(원)"]
[null,null,"직장가입자","지역가입자","혼합"]
["1인",{"$f":"'3.소득기준금액계산'!D33","v":{"v":923000,"d":"923,000"}},{"$f":"VLOOKUP($G64,'2.사업팀제공'!$A:$D,2,FALSE)","v":{"v":28250,"d":"28,250"}},{"$f":"VLOOKUP($G64,'2.사업팀제공'!$A:$D,3,FALSE)","v":{"v":7712,"d":"7,712"}},{"$f":"VLOOKUP($G64,'2.사업팀제공'!$A:$D,4,FALSE)","v":{"v":28788,"d":"28,788"}},null,{"$f":"MIN(IF('2.사업팀제공'!$A$6:$A$205>='1.사업팀제공'!B64:B64,'2.사업팀제공'!$A$6:$A$205,\"\"))","v":{"v":943225,"d":"943,225"}}]
[null,null,{"$f":"C64*1.0655","v":{"v":30100.374999999996,"d":"30,100"}},{"$f":"D64*1.0655","v":{"v":8217.135999999999,"d":"8,217"}},{"$f":"E64*1.0655","v":{"v":30673.613999999998,"d":"30,674"}}]
["2인",{"$f":"'3.소득기준금액계산'!E33","v":{"v":1747000,"d":"1,747,000"}},{"$f":"VLOOKUP($G66,'2.사업팀제공'!$A:$D,2,FALSE)","v":{"v":52563,"d":"52,563"}},{"$f":"VLOOKUP($G66,'2.사업팀제공'!$A:$D,3,FALSE)","v":{"v":37994,"d":"37,994"}},{"$f":"VLOOKUP($G66,'2.사업팀제공'!$A:$D,4,FALSE)","v":{"v":53261,"d":"53,261"}},null,{"$f":"MIN(IF('2.사업팀제공'!$A$6:$A$205>='1.사업팀제공'!B66:B66,'2.사업팀제공'!$A$6:$A$205,\"\"))","v":{"v":1755011,"d":"1,755,011"}}]
[null,null,{"$f":"C66*1.0655","v":{"v":56005.87649999999,"d":"56,006"}},{"$f":"D66*1.0655","v":{"v":40482.606999999996,"d":"40,483"}},{"$f":"E66*1.0655","v":{"v":56749.595499999996,"d":"56,750"}}]
["3인",{"$f":"'3.소득기준금액계산'!F33","v":{"v":2569000,"d":"2,569,000"}},{"$f":"VLOOKUP($G68,'2.사업팀제공'!$A:$D,2,FALSE)","v":{"v":77771,"d":"77,771"}},{"$f":"VLOOKUP($G68,'2.사업팀제공'!$A:$D,3,FALSE)","v":{"v":79666,"d":"79,666"}},{"$f":"VLOOKUP($G68,'2.사업팀제공'!$A:$D,4,FALSE)","v":{"v":78595,"d":"78,595"}},null,{"$f":"MIN(IF('2.사업팀제공'!$A$6:$A$205>='1.사업팀제공'!B68:B68,'2.사업팀제공'!$A$6:$A$205,\"\"))","v":{"v":2596687,"d":"2,596,687"}}]
[null,null,{"$f":"C68*1.0655","v":{"v":82865.0005,"d":"82,865"}},{"$f":"D68*1.0655","v":{"v":84884.12299999999,"d":"84,884"}},{"$f":"E68*1.0655","v":{"v":83742.97249999999,"d":"83,743"}}]
["4인",{"$f":"'3.소득기준금액계산'!G33","v":{"v":2901000,"d":"2,901,000"}},{"$f":"VLOOKUP($G70,'2.사업팀제공'!$A:$D,2,FALSE)","v":{"v":87604,"d":"87,604"}},{"$f":"VLOOKUP($G70,'2.사업팀제공'!$A:$D,3,FALSE)","v":{"v":93160,"d":"93,160"}},{"$f":"VLOOKUP($G70,'2.사업팀제공'!$A:$D,4,FALSE)","v":{"v":88738,"d":"88,738"}},null,{"$f":"MIN(IF('2.사업팀제공'!$A$6:$A$205>='1.사업팀제공'!B70:B70,'2.사업팀제공'!$A$6:$A$205,\"\"))","v":{"v":2925016,"d":"2,925,016"}}]
[null,null,{"$f":"C70*1.0655","v":{"v":93342.06199999999,"d":"93,342"}},{"$f":"D70*1.0655","v":{"v":99261.98,"d":"99,262"}},{"$f":"E70*1.0655","v":{"v":94550.33899999999,"d":"94,550"}}]
["5인",{"$f":"'3.소득기준금액계산'!H33","v":{"v":3025000,"d":"3,025,000"}},{"$f":"VLOOKUP($G72,'2.사업팀제공'!$A:$D,2,FALSE)","v":{"v":91149,"d":"91,149"}},{"$f":"VLOOKUP($G72,'2.사업팀제공'!$A:$D,3,FALSE)","v":{"v":99031,"d":"99,031"}},{"$f":"VLOOKUP($G72,'2.사업팀제공'!$A:$D,4,FALSE)","v":{"v":92298,"d":"92,298"}},null,{"$f":"MIN(IF('2.사업팀제공'!$A$6:$A$205>='1.사업팀제공'!B72:B72,'2.사업팀제공'!$A$6:$A$205,\"\"))","v":{"v":3043368,"d":"3,043,368"}}]
[null,null,{"$f":"C72*1.0655","v":{"v":97119.25949999999,"d":"97,119"}},{"$f":"D72*1.0655","v":{"v":105517.5305,"d":"105,518"}},{"$f":"E72*1.0655","v":{"v":98343.51899999999,"d":"98,344"}}]
["6인",{"$f":"'3.소득기준금액계산'!I33","v":{"v":3148000,"d":"3,148,000"}},{"$f":"VLOOKUP($G74,'2.사업팀제공'!$A:$D,2,FALSE)","v":{"v":94553,"d":"94,553"}},{"$f":"VLOOKUP($G74,'2.사업팀제공'!$A:$D,3,FALSE)","v":{"v":103561,"d":"103,561"}},{"$f":"VLOOKUP($G74,'2.사업팀제공'!$A:$D,4,FALSE)","v":{"v":95661,"d":"95,661"}},null,{"$f":"MIN(IF('2.사업팀제공'!$A$6:$A$205>='1.사업팀제공'!B74:B74,'2.사업팀제공'!$A$6:$A$205,\"\"))","v":{"v":3157015,"d":"3,157,015"}}]
[null,null,{"$f":"C74*1.0655","v":{"v":100746.22149999999,"d":"100,746"}},{"$f":"D74*1.0655","v":{"v":110344.24549999999,"d":"110,344"}},{"$f":"E74*1.0655","v":{"v":101926.7955,"d":"101,927"}}]
["7인",{"$f":"'3.소득기준금액계산'!J33","v":{"v":3271000,"d":"3,271,000"}},{"$f":"VLOOKUP($G76,'2.사업팀제공'!$A:$D,2,FALSE)","v":{"v":99038,"d":"99,038"}},{"$f":"VLOOKUP($G76,'2.사업팀제공'!$A:$D,3,FALSE)","v":{"v":109994,"d":"109,994"}},{"$f":"VLOOKUP($G76,'2.사업팀제공'!$A:$D,4,FALSE)","v":{"v":100197,"d":"100,197"}},null,{"$f":"MIN(IF('2.사업팀제공'!$A$6:$A$205>='1.사업팀제공'!B76:B76,'2.사업팀제공'!$A$6:$A$205,\"\"))","v":{"v":3306785,"d":"3,306,785"}}]
[null,null,{"$f":"C76*1.0655","v":{"v":105524.98899999999,"d":"105,525"}},{"$f":"D76*1.0655","v":{"v":117198.60699999999,"d":"117,199"}},{"$f":"E76*1.0655","v":{"v":106759.90349999999,"d":"106,760"}}]
["8인",{"$f":"'3.소득기준금액계산'!K33","v":{"v":3395000,"d":"3,395,000"}},{"$f":"VLOOKUP($G78,'2.사업팀제공'!$A:$D,2,FALSE)","v":{"v":102607,"d":"102,607"}},{"$f":"VLOOKUP($G78,'2.사업팀제공'!$A:$D,3,FALSE)","v":{"v":114979,"d":"114,979"}},{"$f":"VLOOKUP($G78,'2.사업팀제공'!$A:$D,4,FALSE)","v":{"v":103972,"d":"103,972"}},null,{"$f":"MIN(IF('2.사업팀제공'!$A$6:$A$205>='1.사업팀제공'!B78:B78,'2.사업팀제공'!$A$6:$A$205,\"\"))","v":{"v":3425959,"d":"3,425,959"}}]
[null,null,{"$f":"C78*1.0655","v":{"v":109327.75849999998,"d":"109,328"}},{"$f":"D78*1.0655","v":{"v":122510.12449999999,"d":"122,510"}},{"$f":"E78*1.0655","v":{"v":110782.16599999998,"d":"110,782"}}]
["9인",{"$f":"'3.소득기준금액계산'!L33","v":{"v":3518000,"d":"3,518,000"}},{"$f":"VLOOKUP($G80,'2.사업팀제공'!$A:$D,2,FALSE)","v":{"v":106338,"d":"106,338"}},{"$f":"VLOOKUP($G80,'2.사업팀제공'!$A:$D,3,FALSE)","v":{"v":120187,"d":"120,187"}},{"$f":"VLOOKUP($G80,'2.사업팀제공'!$A:$D,4,FALSE)","v":{"v":107731,"d":"107,731"}},null,{"$f":"MIN(IF('2.사업팀제공'!$A$6:$A$205>='1.사업팀제공'!B80:B80,'2.사업팀제공'!$A$6:$A$205,\"\"))","v":{"v":3550502,"d":"3,550,502"}}]
[null,null,{"$f":"C80*1.0655","v":{"v":113303.139,"d":"113,303"}},{"$f":"D80*1.0655","v":{"v":128059.24849999999,"d":"128,059"}},{"$f":"E80*1.0655","v":{"v":114787.38049999998,"d":"114,787"}}]
["10인",{"$f":"'3.소득기준금액계산'!M33","v":{"v":3641000,"d":"3,641,000"}},{"$f":"VLOOKUP($G82,'2.사업팀제공'!$A:$D,2,FALSE)","v":{"v":109153,"d":"109,153"}},{"$f":"VLOOKUP($G82,'2.사업팀제공'!$A:$D,3,FALSE)","v":{"v":123800,"d":"123,800"}},{"$f":"VLOOKUP($G82,'2.사업팀제공'!$A:$D,4,FALSE)","v":{"v":110600,"d":"110,600"}},null,{"$f":"MIN(IF('2.사업팀제공'!$A$6:$A$205>='1.사업팀제공'!B82:B82,'2.사업팀제공'!$A$6:$A$205,\"\"))","v":{"v":3644512,"d":"3,644,512"}}]
[null,null,{"$f":"C82*1.0655","v":{"v":116302.52149999999,"d":"116,303"}},{"$f":"D82*1.0655","v":{"v":131908.9,"d":"131,909"}},{"$f":"E82*1.0655","v":{"v":117844.29999999999,"d":"117,844"}}]
[]
[]
[]
[]
["2014년도 기준(전국가구평균소득 65%)"]
[]
["가구원수","소득기준","건강보험료 본인부담금",{"$nulls":3},"소득액(원)"]
[null,null,"직장가입자","지역가입자","혼합"]
["1인",{"$f":"'3.소득기준금액계산'!D39","v":{"v":1000000,"d":"1,000,000"}},{"$f":"VLOOKUP($G92,'2.사업팀제공'!$A:$D,2,FALSE)","v":{"v":29950,"d":"29,950"}},{"$f":"VLOOKUP($G92,'2.사업팀제공'!$A:$D,3,FALSE)","v":{"v":9834,"d":"9,834"}},{"$f":"VLOOKUP($G92,'2.사업팀제공'!$A:$D,4,FALSE)","v":{"v":29951,"d":"29,951"}},null,{"$f":"MIN(IF('2.사업팀제공'!$A$6:$A$205>='1.사업팀제공'!B92:B92,'2.사업팀제공'!$A$6:$A$205,\"\"))","v":{"v":1000000,"d":"1,000,000"}}]
[null,null,{"$f":"C92*1.0655","v":{"v":31911.725,"d":"31,912"}},{"$f":"D92*1.0655","v":{"v":10478.126999999999,"d":"10,478"}},{"$f":"E92*1.0655","v":{"v":31912.790499999996,"d":"31,913"}}]
["2인",{"$f":"'3.소득기준금액계산'!E39","v":{"v":1893000,"d":"1,893,000"}},{"$f":"VLOOKUP($G94,'2.사업팀제공'!$A:$D,2,FALSE)","v":{"v":56905,"d":"56,905"}},{"$f":"VLOOKUP($G94,'2.사업팀제공'!$A:$D,3,FALSE)","v":{"v":44726,"d":"44,726"}},{"$f":"VLOOKUP($G94,'2.사업팀제공'!$A:$D,4,FALSE)","v":{"v":57105,"d":"57,105"}},null,{"$f":"MIN(IF('2.사업팀제공'!$A$6:$A$205>='1.사업팀제공'!B94:B94,'2.사업팀제공'!$A$6:$A$205,\"\"))","v":{"v":1900000,"d":"1,900,000"}}]
[null,null,{"$f":"C94*1.0655","v":{"v":60632.2775,"d":"60,632"}},{"$f":"D94*1.0655","v":{"v":47655.55299999999,"d":"47,656"}},{"$f":"E94*1.0655","v":{"v":60845.377499999995,"d":"60,845"}}]
["3인",{"$f":"'3.소득기준금액계산'!F39","v":{"v":2783000,"d":"2,783,000"}},{"$f":"VLOOKUP($G96,'2.사업팀제공'!$A:$D,2,FALSE)","v":{"v":83867,"d":"83,867"}},{"$f":"VLOOKUP($G96,'2.사업팀제공'!$A:$D,3,FALSE)","v":{"v":87592,"d":"87,592"}},{"$f":"VLOOKUP($G96,'2.사업팀제공'!$A:$D,4,FALSE)","v":{"v":84748,"d":"84,748"}},null,{"$f":"MIN(IF('2.사업팀제공'!$A$6:$A$205>='1.사업팀제공'!B96:B96,'2.사업팀제공'!$A$6:$A$205,\"\"))","v":{"v":2800245,"d":"2,800,245"}}]
[null,null,{"$f":"C96*1.0655","v":{"v":89360.2885,"d":"89,360"}},{"$f":"D96*1.0655","v":{"v":93329.27599999998,"d":"93,329"}},{"$f":"E96*1.0655","v":{"v":90298.99399999999,"d":"90,299"}}]
["4인",{"$f":"'3.소득기준금액계산'!G39","v":{"v":3143000,"d":"3,143,000"}},{"$f":"VLOOKUP($G98,'2.사업팀제공'!$A:$D,2,FALSE)","v":{"v":94553,"d":"94,553"}},{"$f":"VLOOKUP($G98,'2.사업팀제공'!$A:$D,3,FALSE)","v":{"v":103561,"d":"103,561"}},{"$f":"VLOOKUP($G98,'2.사업팀제공'!$A:$D,4,FALSE)","v":{"v":95661,"d":"95,661"}},null,{"$f":"MIN(IF('2.사업팀제공'!$A$6:$A$205>='1.사업팀제공'!B98:B98,'2.사업팀제공'!$A$6:$A$205,\"\"))","v":{"v":3157015,"d":"3,157,015"}}]
[null,null,{"$f":"C98*1.0655","v":{"v":100746.22149999999,"d":"100,746"}},{"$f":"D98*1.0655","v":{"v":110344.24549999999,"d":"110,344"}},{"$f":"E98*1.0655","v":{"v":101926.7955,"d":"101,927"}}]
["5인",{"$f":"'3.소득기준금액계산'!H39","v":{"v":3277000,"d":"3,277,000"}},{"$f":"VLOOKUP($G100,'2.사업팀제공'!$A:$D,2,FALSE)","v":{"v":99038,"d":"99,038"}},{"$f":"VLOOKUP($G100,'2.사업팀제공'!$A:$D,3,FALSE)","v":{"v":109994,"d":"109,994"}},{"$f":"VLOOKUP($G100,'2.사업팀제공'!$A:$D,4,FALSE)","v":{"v":100197,"d":"100,197"}},null,{"$f":"MIN(IF('2.사업팀제공'!$A$6:$A$205>='1.사업팀제공'!B100:B100,'2.사업팀제공'!$A$6:$A$205,\"\"))","v":{"v":3306785,"d":"3,306,785"}}]
[null,null,{"$f":"C100*1.0655","v":{"v":105524.98899999999,"d":"105,525"}},{"$f":"D100*1.0655","v":{"v":117198.60699999999,"d":"117,199"}},{"$f":"E100*1.0655","v":{"v":106759.90349999999,"d":"106,760"}}]
["6인",{"$f":"'3.소득기준금액계산'!I39","v":{"v":3410000,"d":"3,410,000"}},{"$f":"VLOOKUP($G102,'2.사업팀제공'!$A:$D,2,FALSE)","v":{"v":102607,"d":"102,607"}},{"$f":"VLOOKUP($G102,'2.사업팀제공'!$A:$D,3,FALSE)","v":{"v":114979,"d":"114,979"}},{"$f":"VLOOKUP($G102,'2.사업팀제공'!$A:$D,4,FALSE)","v":{"v":103972,"d":"103,972"}},null,{"$f":"MIN(IF('2.사업팀제공'!$A$6:$A$205>='1.사업팀제공'!B102:B102,'2.사업팀제공'!$A$6:$A$205,\"\"))","v":{"v":3425959,"d":"3,425,959"}}]
[null,null,{"$f":"C102*1.0655","v":{"v":109327.75849999998,"d":"109,328"}},{"$f":"D102*1.0655","v":{"v":122510.12449999999,"d":"122,510"}},{"$f":"E102*1.0655","v":{"v":110782.16599999998,"d":"110,782"}}]
["7인",{"$f":"'3.소득기준금액계산'!J39","v":{"v":3544000,"d":"3,544,000"}},{"$f":"VLOOKUP($G104,'2.사업팀제공'!$A:$D,2,FALSE)","v":{"v":106338,"d":"106,338"}},{"$f":"VLOOKUP($G104,'2.사업팀제공'!$A:$D,3,FALSE)","v":{"v":120187,"d":"120,187"}},{"$f":"VLOOKUP($G104,'2.사업팀제공'!$A:$D,4,FALSE)","v":{"v":107731,"d":"107,731"}},null,{"$f":"MIN(IF('2.사업팀제공'!$A$6:$A$205>='1.사업팀제공'!B104:B104,'2.사업팀제공'!$A$6:$A$205,\"\"))","v":{"v":3550502,"d":"3,550,502"}}]
[null,null,{"$f":"C104*1.0655","v":{"v":113303.139,"d":"113,303"}},{"$f":"D104*1.0655","v":{"v":128059.24849999999,"d":"128,059"}},{"$f":"E104*1.0655","v":{"v":114787.38049999998,"d":"114,787"}}]
["8인",{"$f":"'3.소득기준금액계산'!K39","v":{"v":3678000,"d":"3,678,000"}},{"$f":"VLOOKUP($G106,'2.사업팀제공'!$A:$D,2,FALSE)","v":{"v":110600,"d":"110,600"}},{"$f":"VLOOKUP($G106,'2.사업팀제공'!$A:$D,3,FALSE)","v":{"v":125628,"d":"125,628"}},{"$f":"VLOOKUP($G106,'2.사업팀제공'!$A:$D,4,FALSE)","v":{"v":112008,"d":"112,008"}},null,{"$f":"MIN(IF('2.사업팀제공'!$A$6:$A$205>='1.사업팀제공'!B106:B106,'2.사업팀제공'!$A$6:$A$205,\"\"))","v":{"v":3692830,"d":"3,692,830"}}]
[null,null,{"$f":"C106*1.0655","v":{"v":117844.29999999999,"d":"117,844"}},{"$f":"D106*1.0655","v":{"v":133856.634,"d":"133,857"}},{"$f":"E106*1.0655","v":{"v":119344.52399999999,"d":"119,345"}}]
["9인",{"$f":"'3.소득기준금액계산'!L39","v":{"v":3811000,"d":"3,811,000"}},{"$f":"VLOOKUP($G108,'2.사업팀제공'!$A:$D,2,FALSE)","v":{"v":115131,"d":"115,131"}},{"$f":"VLOOKUP($G108,'2.사업팀제공'!$A:$D,3,FALSE)","v":{"v":131228,"d":"131,228"}},{"$f":"VLOOKUP($G108,'2.사업팀제공'!$A:$D,4,FALSE)","v":{"v":116693,"d":"116,693"}},null,{"$f":"MIN(IF('2.사업팀제공'!$A$6:$A$205>='1.사업팀제공'!B108:B108,'2.사업팀제공'!$A$6:$A$205,\"\"))","v":{"v":3844106,"d":"3,844,106"}}]
[null,null,{"$f":"C108*1.0655","v":{"v":122672.08049999998,"d":"122,672"}},{"$f":"D108*1.0655","v":{"v":139823.43399999998,"d":"139,823"}},{"$f":"E108*1.0655","v":{"v":124336.39149999998,"d":"124,336"}}]
["10인",{"$f":"'3.소득기준금액계산'!M39","v":{"v":3945000,"d":"3,945,000"}},{"$f":"VLOOKUP($G110,'2.사업팀제공'!$A:$D,2,FALSE)","v":{"v":118331,"d":"118,331"}},{"$f":"VLOOKUP($G110,'2.사업팀제공'!$A:$D,3,FALSE)","v":{"v":134891,"d":"134,891"}},{"$f":"VLOOKUP($G110,'2.사업팀제공'!$A:$D,4,FALSE)","v":{"v":119848,"d":"119,848"}},null,{"$f":"MIN(IF('2.사업팀제공'!$A$6:$A$205>='1.사업팀제공'!B110:B110,'2.사업팀제공'!$A$6:$A$205,\"\"))","v":{"v":3950935,"d":"3,950,935"}}]
[null,null,{"$f":"C110*1.0655","v":{"v":126081.68049999999,"d":"126,082"}},{"$f":"D110*1.0655","v":{"v":143726.36049999998,"d":"143,726"}},{"$f":"E110*1.0655","v":{"v":127698.04399999998,"d":"127,698"}}]
[]
[]
[]
[]
["2014년도 기준(전국가구평균소득 70%)"]
[]
["가구원수","소득기준","건강보험료 본인부담금",{"$nulls":3},"소득액(원)"]
[null,null,"직장가입자","지역가입자","혼합"]
["1인",{"$f":"'3.소득기준금액계산'!D45","v":{"v":1076000,"d":"1,076,000"}},{"$f":"VLOOKUP($G120,'2.사업팀제공'!$A:$D,2,FALSE)","v":{"v":32550,"d":"32,550"}},{"$f":"VLOOKUP($G120,'2.사업팀제공'!$A:$D,3,FALSE)","v":{"v":12299,"d":"12,299"}},{"$f":"VLOOKUP($G120,'2.사업팀제공'!$A:$D,4,FALSE)","v":{"v":32941,"d":"32,941"}},null,{"$f":"MIN(IF('2.사업팀제공'!$A$6:$A$205>='1.사업팀제공'!B120:B120,'2.사업팀제공'!$A$6:$A$205,\"\"))","v":{"v":1086821,"d":"1,086,821"}}]
[null,null,{"$f":"C120*1.0655","v":{"v":34682.024999999994,"d":"34,682"}},{"$f":"D120*1.0655","v":{"v":13104.584499999999,"d":"13,105"}},{"$f":"E120*1.0655","v":{"v":35098.6355,"d":"35,099"}}]
["2인",{"$f":"'3.소득기준금액계산'!E45","v":{"v":2038000,"d":"2,038,000"}},{"$f":"VLOOKUP($G122,'2.사업팀제공'!$A:$D,2,FALSE)","v":{"v":61372,"d":"61,372"}},{"$f":"VLOOKUP($G122,'2.사업팀제공'!$A:$D,3,FALSE)","v":{"v":53111,"d":"53,111"}},{"$f":"VLOOKUP($G122,'2.사업팀제공'!$A:$D,4,FALSE)","v":{"v":62121,"d":"62,121"}},null,{"$f":"MIN(IF('2.사업팀제공'!$A$6:$A$205>='1.사업팀제공'!B122:B122,'2.사업팀제공'!$A$6:$A$205,\"\"))","v":{"v":2049147,"d":"2,049,147"}}]
[null,null,{"$f":"C122*1.0655","v":{"v":65391.865999999995,"d":"65,392"}},{"$f":"D122*1.0655","v":{"v":56589.77049999999,"d":"56,590"}},{"$f":"E122*1.0655","v":{"v":66189.9255,"d":"66,190"}}]
["3인",{"$f":"'3.소득기준금액계산'!F45","v":{"v":2997000,"d":"2,997,000"}},{"$f":"VLOOKUP($G124,'2.사업팀제공'!$A:$D,2,FALSE)","v":{"v":90059,"d":"90,059"}},{"$f":"VLOOKUP($G124,'2.사업팀제공'!$A:$D,3,FALSE)","v":{"v":97485,"d":"97,485"}},{"$f":"VLOOKUP($G124,'2.사업팀제공'!$A:$D,4,FALSE)","v":{"v":91149,"d":"91,149"}},null,{"$f":"MIN(IF('2.사업팀제공'!$A$6:$A$205>='1.사업팀제공'!B124:B124,'2.사업팀제공'!$A$6:$A$205,\"\"))","v":{"v":3006985,"d":"3,006,985"}}]
[null,null,{"$f":"C124*1.0655","v":{"v":95957.8645,"d":"95,958"}},{"$f":"D124*1.0655","v":{"v":103870.26749999999,"d":"103,870"}},{"$f":"E124*1.0655","v":{"v":97119.25949999999,"d":"97,119"}}]
["4인",{"$f":"'3.소득기준금액계산'!G45","v":{"v":3385000,"d":"3,385,000"}},{"$f":"VLOOKUP($G126,'2.사업팀제공'!$A:$D,2,FALSE)","v":{"v":101447,"d":"101,447"}},{"$f":"VLOOKUP($G126,'2.사업팀제공'!$A:$D,3,FALSE)","v":{"v":113256,"d":"113,256"}},{"$f":"VLOOKUP($G126,'2.사업팀제공'!$A:$D,4,FALSE)","v":{"v":102607,"d":"102,607"}},null,{"$f":"MIN(IF('2.사업팀제공'!$A$6:$A$205>='1.사업팀제공'!B126:B126,'2.사업팀제공'!$A$6:$A$205,\"\"))","v":{"v":3387221,"d":"3,387,221"}}]
[null,null,{"$f":"C126*1.0655","v":{"v":108091.77849999999,"d":"108,092"}},{"$f":"D126*1.0655","v":{"v":120674.26799999998,"d":"120,674"}},{"$f":"E126*1.0655","v":{"v":109327.75849999998,"d":"109,328"}}]
["5인",{"$f":"'3.소득기준금액계산'!H45","v":{"v":3529000,"d":"3,529,000"}},{"$f":"VLOOKUP($G128,'2.사업팀제공'!$A:$D,2,FALSE)","v":{"v":106338,"d":"106,338"}},{"$f":"VLOOKUP($G128,'2.사업팀제공'!$A:$D,3,FALSE)","v":{"v":120187,"d":"120,187"}},{"$f":"VLOOKUP($G128,'2.사업팀제공'!$A:$D,4,FALSE)","v":{"v":107731,"d":"107,731"}},null,{"$f":"MIN(IF('2.사업팀제공'!$A$6:$A$205>='1.사업팀제공'!B128:B128,'2.사업팀제공'!$A$6:$A$205,\"\"))","v":{"v":3550502,"d":"3,550,502"}}]
[null,null,{"$f":"C128*1.0655","v":{"v":113303.139,"d":"113,303"}},{"$f":"D128*1.0655","v":{"v":128059.24849999999,"d":"128,059"}},{"$f":"E128*1.0655","v":{"v":114787.38049999998,"d":"114,787"}}]
["6인",{"$f":"'3.소득기준금액계산'!I45","v":{"v":3673000,"d":"3,673,000"}},{"$f":"VLOOKUP($G130,'2.사업팀제공'!$A:$D,2,FALSE)","v":{"v":110600,"d":"110,600"}},{"$f":"VLOOKUP($G130,'2.사업팀제공'!$A:$D,3,FALSE)","v":{"v":125628,"d":"125,628"}},{"$f":"VLOOKUP($G130,'2.사업팀제공'!$A:$D,4,FALSE)","v":{"v":112008,"d":"112,008"}},null,{"$f":"MIN(IF('2.사업팀제공'!$A$6:$A$205>='1.사업팀제공'!B130:B130,'2.사업팀제공'!$A$6:$A$205,\"\"))","v":{"v":3692830,"d":"3,692,830"}}]
[null,null,{"$f":"C130*1.0655","v":{"v":117844.29999999999,"d":"117,844"}},{"$f":"D130*1.0655","v":{"v":133856.634,"d":"133,857"}},{"$f":"E130*1.0655","v":{"v":119344.52399999999,"d":"119,345"}}]
["7인",{"$f":"'3.소득기준금액계산'!J45","v":{"v":3817000,"d":"3,817,000"}},{"$f":"VLOOKUP($G132,'2.사업팀제공'!$A:$D,2,FALSE)","v":{"v":115131,"d":"115,131"}},{"$f":"VLOOKUP($G132,'2.사업팀제공'!$A:$D,3,FALSE)","v":{"v":131228,"d":"131,228"}},{"$f":"VLOOKUP($G132,'2.사업팀제공'!$A:$D,4,FALSE)","v":{"v":116693,"d":"116,693"}},null,{"$f":"MIN(IF('2.사업팀제공'!$A$6:$A$205>='1.사업팀제공'!B132:B132,'2.사업팀제공'!$A$6:$A$205,\"\"))","v":{"v":3844106,"d":"3,844,106"}}]
[null,null,{"$f":"C132*1.0655","v":{"v":122672.08049999998,"d":"122,672"}},{"$f":"D132*1.0655","v":{"v":139823.43399999998,"d":"139,823"}},{"$f":"E132*1.0655","v":{"v":124336.39149999998,"d":"124,336"}}]
["8인",{"$f":"'3.소득기준금액계산'!K45","v":{"v":3961000,"d":"3,961,000"}},{"$f":"VLOOKUP($G134,'2.사업팀제공'!$A:$D,2,FALSE)","v":{"v":119848,"d":"119,848"}},{"$f":"VLOOKUP($G134,'2.사업팀제공'!$A:$D,3,FALSE)","v":{"v":136840,"d":"136,840"}},{"$f":"VLOOKUP($G134,'2.사업팀제공'!$A:$D,4,FALSE)","v":{"v":121403,"d":"121,403"}},null,{"$f":"MIN(IF('2.사업팀제공'!$A$6:$A$205>='1.사업팀제공'!B134:B134,'2.사업팀제공'!$A$6:$A$205,\"\"))","v":{"v":4001591,"d":"4,001,591"}}]
[null,null,{"$f":"C134*1.0655","v":{"v":127698.04399999998,"d":"127,698"}},{"$f":"D134*1.0655","v":{"v":145803.02,"d":"145,803"}},{"$f":"E134*1.0655","v":{"v":129354.89649999999,"d":"129,355"}}]
["9인",{"$f":"'3.소득기준금액계산'!L45","v":{"v":4104000,"d":"4,104,000"}},{"$f":"VLOOKUP($G136,'2.사업팀제공'!$A:$D,2,FALSE)","v":{"v":123163,"d":"123,163"}},{"$f":"VLOOKUP($G136,'2.사업팀제공'!$A:$D,3,FALSE)","v":{"v":140653,"d":"140,653"}},{"$f":"VLOOKUP($G136,'2.사업팀제공'!$A:$D,4,FALSE)","v":{"v":124988,"d":"124,988"}},null,{"$f":"MIN(IF('2.사업팀제공'!$A$6:$A$205>='1.사업팀제공'!B136:B136,'2.사업팀제공'!$A$6:$A$205,\"\"))","v":{"v":4112280,"d":"4,112,280"}}]
[null,null,{"$f":"C136*1.0655","v":{"v":131230.17649999997,"d":"131,230"}},{"$f":"D136*1.0655","v":{"v":149865.77149999997,"d":"149,866"}},{"$f":"E136*1.0655","v":{"v":133174.71399999998,"d":"133,175"}}]
["10인",{"$f":"'3.소득기준금액계산'!M45","v":{"v":4248000,"d":"4,248,000"}},{"$f":"VLOOKUP($G138,'2.사업팀제공'!$A:$D,2,FALSE)","v":{"v":128700,"d":"128,700"}},{"$f":"VLOOKUP($G138,'2.사업팀제공'!$A:$D,3,FALSE)","v":{"v":146611,"d":"146,611"}},{"$f":"VLOOKUP($G138,'2.사업팀제공'!$A:$D,4,FALSE)","v":{"v":130714,"d":"130,714"}},null,{"$f":"MIN(IF('2.사업팀제공'!$A$6:$A$205>='1.사업팀제공'!B138:B138,'2.사업팀제공'!$A$6:$A$205,\"\"))","v":{"v":4297149,"d":"4,297,149"}}]
[null,null,{"$f":"C138*1.0655","v":{"v":137129.84999999998,"d":"137,130"}},{"$f":"D138*1.0655","v":{"v":156214.02049999998,"d":"156,214"}},{"$f":"E138*1.0655","v":{"v":139275.767,"d":"139,276"}}]
[]
[]
[]
[]
["2014년도 기준(전국가구평균소득 80%)"]
[]
["가구원수","소득기준","건강보험료 본인부담금",{"$nulls":3},"소득액(원)"]
[null,null,"직장가입자","지역가입자","혼합"]
["1인",{"$f":"'3.소득기준금액계산'!D51","v":{"v":1230000,"d":"1,230,000"}},{"$f":"VLOOKUP($G148,'2.사업팀제공'!$A:$D,2,FALSE)","v":{"v":36947,"d":"36,947"}},{"$f":"VLOOKUP($G148,'2.사업팀제공'!$A:$D,3,FALSE)","v":{"v":18082,"d":"18,082"}},{"$f":"VLOOKUP($G148,'2.사업팀제공'!$A:$D,4,FALSE)","v":{"v":37432,"d":"37,432"}},null,{"$f":"MIN(IF('2.사업팀제공'!$A$6:$A$205>='1.사업팀제공'!B148:B148,'2.사업팀제공'!$A$6:$A$205,\"\"))","v":{"v":1233638,"d":"1,233,638"}}]
[null,null,{"$f":"C148*1.0655","v":{"v":39367.02849999999,"d":"39,367"}},{"$f":"D148*1.0655","v":{"v":19266.371,"d":"19,266"}},{"$f":"E148*1.0655","v":{"v":39883.795999999995,"d":"39,884"}}]
["2인",{"$f":"'3.소득기준금액계산'!E51","v":{"v":2329000,"d":"2,329,000"}},{"$f":"VLOOKUP($G150,'2.사업팀제공'!$A:$D,2,FALSE)","v":{"v":70294,"d":"70,294"}},{"$f":"VLOOKUP($G150,'2.사업팀제공'!$A:$D,3,FALSE)","v":{"v":67703,"d":"67,703"}},{"$f":"VLOOKUP($G150,'2.사업팀제공'!$A:$D,4,FALSE)","v":{"v":71188,"d":"71,188"}},null,{"$f":"MIN(IF('2.사업팀제공'!$A$6:$A$205>='1.사업팀제공'!B150:B150,'2.사업팀제공'!$A$6:$A$205,\"\"))","v":{"v":2347059,"d":"2,347,059"}}]
[null,null,{"$f":"C150*1.0655","v":{"v":74898.257,"d":"74,898"}},{"$f":"D150*1.0655","v":{"v":72137.5465,"d":"72,138"}},{"$f":"E150*1.0655","v":{"v":75850.814,"d":"75,851"}}]
["3인",{"$f":"'3.소득기준금액계산'!F51","v":{"v":3425000,"d":"3,425,000"}},{"$f":"VLOOKUP($G152,'2.사업팀제공'!$A:$D,2,FALSE)","v":{"v":102607,"d":"102,607"}},{"$f":"VLOOKUP($G152,'2.사업팀제공'!$A:$D,3,FALSE)","v":{"v":114979,"d":"114,979"}},{"$f":"VLOOKUP($G152,'2.사업팀제공'!$A:$D,4,FALSE)","v":{"v":103972,"d":"103,972"}},null,{"$f":"MIN(IF('2.사업팀제공'!$A$6:$A$205>='1.사업팀제공'!B152:B152,'2.사업팀제공'!$A$6:$A$205,\"\"))","v":{"v":3425959,"d":"3,425,959"}}]
[null,null,{"$f":"C152*1.0655","v":{"v":109327.75849999998,"d":"109,328"}},{"$f":"D152*1.0655","v":{"v":122510.12449999999,"d":"122,510"}},{"$f":"E152*1.0655","v":{"v":110782.16599999998,"d":"110,782"}}]
["4인",{"$f":"'3.소득기준금액계산'!G51","v":{"v":3869000,"d":"3,869,000"}},{"$f":"VLOOKUP($G154,'2.사업팀제공'!$A:$D,2,FALSE)","v":{"v":116693,"d":"116,693"}},{"$f":"VLOOKUP($G154,'2.사업팀제공'!$A:$D,3,FALSE)","v":{"v":133090,"d":"133,090"}},{"$f":"VLOOKUP($G154,'2.사업팀제공'!$A:$D,4,FALSE)","v":{"v":118331,"d":"118,331"}},null,{"$f":"MIN(IF('2.사업팀제공'!$A$6:$A$205>='1.사업팀제공'!B154:B154,'2.사업팀제공'!$A$6:$A$205,\"\"))","v":{"v":3896263,"d":"3,896,263"}}]
[null,null,{"$f":"C154*1.0655","v":{"v":124336.39149999998,"d":"124,336"}},{"$f":"D154*1.0655","v":{"v":141807.395,"d":"141,807"}},{"$f":"E154*1.0655","v":{"v":126081.68049999999,"d":"126,082"}}]
["5인",{"$f":"'3.소득기준금액계산'!H51","v":{"v":4033000,"d":"4,033,000"}},{"$f":"VLOOKUP($G156,'2.사업팀제공'!$A:$D,2,FALSE)","v":{"v":121403,"d":"121,403"}},{"$f":"VLOOKUP($G156,'2.사업팀제공'!$A:$D,3,FALSE)","v":{"v":138704,"d":"138,704"}},{"$f":"VLOOKUP($G156,'2.사업팀제공'!$A:$D,4,FALSE)","v":{"v":123163,"d":"123,163"}},null,{"$f":"MIN(IF('2.사업팀제공'!$A$6:$A$205>='1.사업팀제공'!B156:B156,'2.사업팀제공'!$A$6:$A$205,\"\"))","v":{"v":4053530,"d":"4,053,530"}}]
[null,null,{"$f":"C156*1.0655","v":{"v":129354.89649999999,"d":"129,355"}},{"$f":"D156*1.0655","v":{"v":147789.112,"d":"147,789"}},{"$f":"E156*1.0655","v":{"v":131230.17649999997,"d":"131,230"}}]
["6인",{"$f":"'3.소득기준금액계산'!I51","v":{"v":4197000,"d":"4,197,000"}},{"$f":"VLOOKUP($G158,'2.사업팀제공'!$A:$D,2,FALSE)","v":{"v":126757,"d":"126,757"}},{"$f":"VLOOKUP($G158,'2.사업팀제공'!$A:$D,3,FALSE)","v":{"v":144592,"d":"144,592"}},{"$f":"VLOOKUP($G158,'2.사업팀제공'!$A:$D,4,FALSE)","v":{"v":128700,"d":"128,700"}},null,{"$f":"MIN(IF('2.사업팀제공'!$A$6:$A$205>='1.사업팀제공'!B158:B158,'2.사업팀제공'!$A$6:$A$205,\"\"))","v":{"v":4232295,"d":"4,232,295"}}]
[null,null,{"$f":"C158*1.0655","v":{"v":135059.58349999998,"d":"135,060"}},{"$f":"D158*1.0655","v":{"v":154062.77599999998,"d":"154,063"}},{"$f":"E158*1.0655","v":{"v":137129.84999999998,"d":"137,130"}}]
["7인",{"$f":"'3.소득기준금액계산'!J51","v":{"v":4362000,"d":"4,362,000"}},{"$f":"VLOOKUP($G160,'2.사업팀제공'!$A:$D,2,FALSE)","v":{"v":130714,"d":"130,714"}},{"$f":"VLOOKUP($G160,'2.사업팀제공'!$A:$D,3,FALSE)","v":{"v":148703,"d":"148,703"}},{"$f":"VLOOKUP($G160,'2.사업팀제공'!$A:$D,4,FALSE)","v":{"v":132707,"d":"132,707"}},null,{"$f":"MIN(IF('2.사업팀제공'!$A$6:$A$205>='1.사업팀제공'!B160:B160,'2.사업팀제공'!$A$6:$A$205,\"\"))","v":{"v":4364393,"d":"4,364,393"}}]
[null,null,{"$f":"C160*1.0655","v":{"v":139275.767,"d":"139,276"}},{"$f":"D160*1.0655","v":{"v":158443.0465,"d":"158,443"}},{"$f":"E160*1.0655","v":{"v":141399.30849999998,"d":"141,399"}}]
["8인",{"$f":"'3.소득기준금액계산'!K51","v":{"v":4526000,"d":"4,526,000"}},{"$f":"VLOOKUP($G162,'2.사업팀제공'!$A:$D,2,FALSE)","v":{"v":136813,"d":"136,813"}},{"$f":"VLOOKUP($G162,'2.사업팀제공'!$A:$D,3,FALSE)","v":{"v":154998,"d":"154,998"}},{"$f":"VLOOKUP($G162,'2.사업팀제공'!$A:$D,4,FALSE)","v":{"v":138952,"d":"138,952"}},null,{"$f":"MIN(IF('2.사업팀제공'!$A$6:$A$205>='1.사업팀제공'!B162:B162,'2.사업팀제공'!$A$6:$A$205,\"\"))","v":{"v":4568031,"d":"4,568,031"}}]
[null,null,{"$f":"C162*1.0655","v":{"v":145774.25149999998,"d":"145,774"}},{"$f":"D162*1.0655","v":{"v":165150.36899999998,"d":"165,150"}},{"$f":"E162*1.0655","v":{"v":148053.35599999997,"d":"148,053"}}]
["9인",{"$f":"'3.소득기준금액계산'!L51","v":{"v":4691000,"d":"4,691,000"}},{"$f":"VLOOKUP($G164,'2.사업팀제공'!$A:$D,2,FALSE)","v":{"v":141098,"d":"141,098"}},{"$f":"VLOOKUP($G164,'2.사업팀제공'!$A:$D,3,FALSE)","v":{"v":159498,"d":"159,498"}},{"$f":"VLOOKUP($G164,'2.사업팀제공'!$A:$D,4,FALSE)","v":{"v":143354,"d":"143,354"}},null,{"$f":"MIN(IF('2.사업팀제공'!$A$6:$A$205>='1.사업팀제공'!B164:B164,'2.사업팀제공'!$A$6:$A$205,\"\"))","v":{"v":4711133,"d":"4,711,133"}}]
[null,null,{"$f":"C164*1.0655","v":{"v":150339.919,"d":"150,340"}},{"$f":"D164*1.0655","v":{"v":169945.11899999998,"d":"169,945"}},{"$f":"E164*1.0655","v":{"v":152743.68699999998,"d":"152,744"}}]
["10인",{"$f":"'3.소득기준금액계산'!M51","v":{"v":4855000,"d":"4,855,000"}},{"$f":"VLOOKUP($G166,'2.사업팀제공'!$A:$D,2,FALSE)","v":{"v":145747,"d":"145,747"}},{"$f":"VLOOKUP($G166,'2.사업팀제공'!$A:$D,3,FALSE)","v":{"v":164220,"d":"164,220"}},{"$f":"VLOOKUP($G166,'2.사업팀제공'!$A:$D,4,FALSE)","v":{"v":148029,"d":"148,029"}},null,{"$f":"MIN(IF('2.사업팀제공'!$A$6:$A$205>='1.사업팀제공'!B166:B166,'2.사업팀제공'!$A$6:$A$205,\"\"))","v":{"v":4866360,"d":"4,866,360"}}]
[null,null,{"$f":"C166*1.0655","v":{"v":155293.42849999998,"d":"155,293"}},{"$f":"D166*1.0655","v":{"v":174976.40999999997,"d":"174,976"}},{"$f":"E166*1.0655","v":{"v":157724.89949999997,"d":"157,725"}}]
[]
[]
[]
[]
["2014년도 기준(전국가구평균소득 100%)"]
[]
["가구원수","소득기준","건강보험료 본인부담금",{"$nulls":3},"소득액(원)"]
[null,null,"직장가입자","지역가입자","혼합"]
["1인",{"$f":"'3.소득기준금액계산'!D55","v":{"v":1538000,"d":"1,538,000"}},{"$f":"VLOOKUP($G176,'2.사업팀제공'!$A:$D,2,FALSE)","v":{"v":46303,"d":"46,303"}},{"$f":"VLOOKUP($G176,'2.사업팀제공'!$A:$D,3,FALSE)","v":{"v":28954,"d":"28,954"}},{"$f":"VLOOKUP($G176,'2.사업팀제공'!$A:$D,4,FALSE)","v":{"v":46837,"d":"46,837"}},null,{"$f":"MIN(IF('2.사업팀제공'!$A$6:$A$205>='1.사업팀제공'!B176:B176,'2.사업팀제공'!$A$6:$A$205,\"\"))","v":{"v":1546020,"d":"1,546,020"}}]
[null,null,{"$f":"C176*1.0655","v":{"v":49335.84649999999,"d":"49,336"}},{"$f":"D176*1.0655","v":{"v":30850.486999999997,"d":"30,850"}},{"$f":"E176*1.0655","v":{"v":49904.82349999999,"d":"49,905"}}]
["2인",{"$f":"'3.소득기준금액계산'!E55","v":{"v":2912000,"d":"2,912,000"}},{"$f":"VLOOKUP($G178,'2.사업팀제공'!$A:$D,2,FALSE)","v":{"v":87604,"d":"87,604"}},{"$f":"VLOOKUP($G178,'2.사업팀제공'!$A:$D,3,FALSE)","v":{"v":93160,"d":"93,160"}},{"$f":"VLOOKUP($G178,'2.사업팀제공'!$A:$D,4,FALSE)","v":{"v":88738,"d":"88,738"}},null,{"$f":"MIN(IF('2.사업팀제공'!$A$6:$A$205>='1.사업팀제공'!B178:B178,'2.사업팀제공'!$A$6:$A$205,\"\"))","v":{"v":2925016,"d":"2,925,016"}}]
[null,null,{"$f":"C178*1.0655","v":{"v":93342.06199999999,"d":"93,342"}},{"$f":"D178*1.0655","v":{"v":99261.98,"d":"99,262"}},{"$f":"E178*1.0655","v":{"v":94550.33899999999,"d":"94,550"}}]
["3인",{"$f":"'3.소득기준금액계산'!F55","v":{"v":4281000,"d":"4,281,000"}},{"$f":"VLOOKUP($G180,'2.사업팀제공'!$A:$D,2,FALSE)","v":{"v":128700,"d":"128,700"}},{"$f":"VLOOKUP($G180,'2.사업팀제공'!$A:$D,3,FALSE)","v":{"v":146611,"d":"146,611"}},{"$f":"VLOOKUP($G180,'2.사업팀제공'!$A:$D,4,FALSE)","v":{"v":130714,"d":"130,714"}},null,{"$f":"MIN(IF('2.사업팀제공'!$A$6:$A$205>='1.사업팀제공'!B180:B180,'2.사업팀제공'!$A$6:$A$205,\"\"))","v":{"v":4297149,"d":"4,297,149"}}]
[null,null,{"$f":"C180*1.0655","v":{"v":137129.84999999998,"d":"137,130"}},{"$f":"D180*1.0655","v":{"v":156214.02049999998,"d":"156,214"}},{"$f":"E180*1.0655","v":{"v":139275.767,"d":"139,276"}}]
["4인",{"$f":"'3.소득기준금액계산'!G55","v":{"v":4836000,"d":"4,836,000"}},{"$f":"VLOOKUP($G182,'2.사업팀제공'!$A:$D,2,FALSE)","v":{"v":145747,"d":"145,747"}},{"$f":"VLOOKUP($G182,'2.사업팀제공'!$A:$D,3,FALSE)","v":{"v":164220,"d":"164,220"}},{"$f":"VLOOKUP($G182,'2.사업팀제공'!$A:$D,4,FALSE)","v":{"v":148029,"d":"148,029"}},null,{"$f":"MIN(IF('2.사업팀제공'!$A$6:$A$205>='1.사업팀제공'!B182:B182,'2.사업팀제공'!$A$6:$A$205,\"\"))","v":{"v":4866360,"d":"4,866,360"}}]
[null,null,{"$f":"C182*1.0655","v":{"v":155293.42849999998,"d":"155,293"}},{"$f":"D182*1.0655","v":{"v":174976.40999999997,"d":"174,976"}},{"$f":"E182*1.0655","v":{"v":157724.89949999997,"d":"157,725"}}]
["5인",{"$f":"'3.소득기준금액계산'!H55","v":{"v":5041000,"d":"5,041,000"}},{"$f":"VLOOKUP($G184,'2.사업팀제공'!$A:$D,2,FALSE)","v":{"v":152509,"d":"152,509"}},{"$f":"VLOOKUP($G184,'2.사업팀제공'!$A:$D,3,FALSE)","v":{"v":171663,"d":"171,663"}},{"$f":"VLOOKUP($G184,'2.사업팀제공'!$A:$D,4,FALSE)","v":{"v":155163,"d":"155,163"}},null,{"$f":"MIN(IF('2.사업팀제공'!$A$6:$A$205>='1.사업팀제공'!B184:B184,'2.사업팀제공'!$A$6:$A$205,\"\"))","v":{"v":5092130,"d":"5,092,130"}}]
[null,null,{"$f":"C184*1.0655","v":{"v":162498.33949999997,"d":"162,498"}},{"$f":"D184*1.0655","v":{"v":182906.92649999997,"d":"182,907"}},{"$f":"E184*1.0655","v":{"v":165326.17649999997,"d":"165,326"}}]
["6인",{"$f":"'3.소득기준금액계산'!I55","v":{"v":5247000,"d":"5,247,000"}},{"$f":"VLOOKUP($G186,'2.사업팀제공'!$A:$D,2,FALSE)","v":{"v":157880,"d":"157,880"}},{"$f":"VLOOKUP($G186,'2.사업팀제공'!$A:$D,3,FALSE)","v":{"v":177007,"d":"177,007"}},{"$f":"VLOOKUP($G186,'2.사업팀제공'!$A:$D,4,FALSE)","v":{"v":160657,"d":"160,657"}},null,{"$f":"MIN(IF('2.사업팀제공'!$A$6:$A$205>='1.사업팀제공'!B186:B186,'2.사업팀제공'!$A$6:$A$205,\"\"))","v":{"v":5271449,"d":"5,271,449"}}]
[null,null,{"$f":"C186*1.0655","v":{"v":168221.13999999998,"d":"168,221"}},{"$f":"D186*1.0655","v":{"v":188600.95849999998,"d":"188,601"}},{"$f":"E186*1.0655","v":{"v":171180.0335,"d":"171,180"}}]
["7인",{"$f":"'3.소득기준금액계산'!J55","v":{"v":5452000,"d":"5,452,000"}},{"$f":"VLOOKUP($G188,'2.사업팀제공'!$A:$D,2,FALSE)","v":{"v":163402,"d":"163,402"}},{"$f":"VLOOKUP($G188,'2.사업팀제공'!$A:$D,3,FALSE)","v":{"v":182758,"d":"182,758"}},{"$f":"VLOOKUP($G188,'2.사업팀제공'!$A:$D,4,FALSE)","v":{"v":166261,"d":"166,261"}},null,{"$f":"MIN(IF('2.사업팀제공'!$A$6:$A$205>='1.사업팀제공'!B188:B188,'2.사업팀제공'!$A$6:$A$205,\"\"))","v":{"v":5455831,"d":"5,455,831"}}]
[null,null,{"$f":"C188*1.0655","v":{"v":174104.83099999998,"d":"174,105"}},{"$f":"D188*1.0655","v":{"v":194728.64899999998,"d":"194,729"}},{"$f":"E188*1.0655","v":{"v":177151.0955,"d":"177,151"}}]
["8인",{"$f":"'3.소득기준금액계산'!K55","v":{"v":5658000,"d":"5,658,000"}},{"$f":"VLOOKUP($G190,'2.사업팀제공'!$A:$D,2,FALSE)","v":{"v":172378,"d":"172,378"}},{"$f":"VLOOKUP($G190,'2.사업팀제공'!$A:$D,3,FALSE)","v":{"v":192218,"d":"192,218"}},{"$f":"VLOOKUP($G190,'2.사업팀제공'!$A:$D,4,FALSE)","v":{"v":175587,"d":"175,587"}},null,{"$f":"MIN(IF('2.사업팀제공'!$A$6:$A$205>='1.사업팀제공'!B190:B190,'2.사업팀제공'!$A$6:$A$205,\"\"))","v":{"v":5755521,"d":"5,755,521"}}]
[null,null,{"$f":"C190*1.0655","v":{"v":183668.759,"d":"183,669"}},{"$f":"D190*1.0655","v":{"v":204808.27899999998,"d":"204,808"}},{"$f":"E190*1.0655","v":{"v":187087.94849999997,"d":"187,088"}}]
["9인",{"$f":"'3.소득기준금액계산'!L55","v":{"v":5863000,"d":"5,863,000"}},{"$f":"VLOOKUP($G192,'2.사업팀제공'!$A:$D,2,FALSE)","v":{"v":178923,"d":"178,923"}},{"$f":"VLOOKUP($G192,'2.사업팀제공'!$A:$D,3,FALSE)","v":{"v":199293,"d":"199,293"}},{"$f":"VLOOKUP($G192,'2.사업팀제공'!$A:$D,4,FALSE)","v":{"v":182435,"d":"182,435"}},null,{"$f":"MIN(IF('2.사업팀제공'!$A$6:$A$205>='1.사업팀제공'!B192:B192,'2.사업팀제공'!$A$6:$A$205,\"\"))","v":{"v":5974066,"d":"5,974,066"}}]
[null,null,{"$f":"C192*1.0655","v":{"v":190642.45649999997,"d":"190,642"}},{"$f":"D192*1.0655","v":{"v":212346.6915,"d":"212,347"}},{"$f":"E192*1.0655","v":{"v":194384.4925,"d":"194,384"}}]
["10인",{"$f":"'3.소득기준금액계산'!M55","v":{"v":6069000,"d":"6,069,000"}},{"$f":"VLOOKUP($G194,'2.사업팀제공'!$A:$D,2,FALSE)","v":{"v":182435,"d":"182,435"}},{"$f":"VLOOKUP($G194,'2.사업팀제공'!$A:$D,3,FALSE)","v":{"v":203138,"d":"203,138"}},{"$f":"VLOOKUP($G194,'2.사업팀제공'!$A:$D,4,FALSE)","v":{"v":186361,"d":"186,361"}},null,{"$f":"MIN(IF('2.사업팀제공'!$A$6:$A$205>='1.사업팀제공'!B194:B194,'2.사업팀제공'!$A$6:$A$205,\"\"))","v":{"v":6091302,"d":"6,091,302"}}]
[null,null,{"$f":"C194*1.0655","v":{"v":194384.4925,"d":"194,384"}},{"$f":"D194*1.0655","v":{"v":216443.539,"d":"216,444"}},{"$f":"E194*1.0655","v":{"v":198567.64549999998,"d":"198,568"}}]
[]
[]
[]
[]
["2014년도 기준(전국가구평균소득 120%)"]
[]
["가구원수","소득기준","건강보험료 본인부담금",{"$nulls":3},"소득액(원)"]
[null,null,"직장가입자","지역가입자","혼합"]
["1인",{"$f":"'3.소득기준금액계산'!D61","v":{"v":1845000,"d":"1,845,000"}},{"$f":"VLOOKUP($G204,'2.사업팀제공'!$A:$D,2,FALSE)","v":{"v":55714,"d":"55,714"}},{"$f":"VLOOKUP($G204,'2.사업팀제공'!$A:$D,3,FALSE)","v":{"v":43030,"d":"43,030"}},{"$f":"VLOOKUP($G204,'2.사업팀제공'!$A:$D,4,FALSE)","v":{"v":56469,"d":"56,469"}},null,{"$f":"MIN(IF('2.사업팀제공'!$A$6:$A$205>='1.사업팀제공'!B204:B204,'2.사업팀제공'!$A$6:$A$205,\"\"))","v":{"v":1860229,"d":"1,860,229"}}]
[null,null,{"$f":"C204*1.0655","v":{"v":59363.26699999999,"d":"59,363"}},{"$f":"D204*1.0655","v":{"v":45848.465,"d":"45,848"}},{"$f":"E204*1.0655","v":{"v":60167.71949999999,"d":"60,168"}}]
["2인",{"$f":"'3.소득기준금액계산'!E61","v":{"v":3494000,"d":"3,494,000"}},{"$f":"VLOOKUP($G206,'2.사업팀제공'!$A:$D,2,FALSE)","v":{"v":105033,"d":"105,033"}},{"$f":"VLOOKUP($G206,'2.사업팀제공'!$A:$D,3,FALSE)","v":{"v":118455,"d":"118,455"}},{"$f":"VLOOKUP($G206,'2.사업팀제공'!$A:$D,4,FALSE)","v":{"v":106338,"d":"106,338"}},null,{"$f":"MIN(IF('2.사업팀제공'!$A$6:$A$205>='1.사업팀제공'!B206:B206,'2.사업팀제공'!$A$6:$A$205,\"\"))","v":{"v":3506933,"d":"3,506,933"}}]
[null,null,{"$f":"C206*1.0655","v":{"v":111912.66149999999,"d":"111,913"}},{"$f":"D206*1.0655","v":{"v":126213.80249999999,"d":"126,214"}},{"$f":"E206*1.0655","v":{"v":113303.139,"d":"113,303"}}]
["3인",{"$f":"'3.소득기준금액계산'!F61","v":{"v":5138000,"d":"5,138,000"}},{"$f":"VLOOKUP($G208,'2.사업팀제공'!$A:$D,2,FALSE)","v":{"v":155163,"d":"155,163"}},{"$f":"VLOOKUP($G208,'2.사업팀제공'!$A:$D,3,FALSE)","v":{"v":174303,"d":"174,303"}},{"$f":"VLOOKUP($G208,'2.사업팀제공'!$A:$D,4,FALSE)","v":{"v":157880,"d":"157,880"}},null,{"$f":"MIN(IF('2.사업팀제공'!$A$6:$A$205>='1.사업팀제공'!B208:B208,'2.사업팀제공'!$A$6:$A$205,\"\"))","v":{"v":5180742,"d":"5,180,742"}}]
[null,null,{"$f":"C208*1.0655","v":{"v":165326.17649999997,"d":"165,326"}},{"$f":"D208*1.0655","v":{"v":185719.84649999999,"d":"185,720"}},{"$f":"E208*1.0655","v":{"v":168221.13999999998,"d":"168,221"}}]
["4인",{"$f":"'3.소득기준금액계산'!G61","v":{"v":5803000,"d":"5,803,000"}},{"$f":"VLOOKUP($G210,'2.사업팀제공'!$A:$D,2,FALSE)","v":{"v":175587,"d":"175,587"}},{"$f":"VLOOKUP($G210,'2.사업팀제공'!$A:$D,3,FALSE)","v":{"v":195664,"d":"195,664"}},{"$f":"VLOOKUP($G210,'2.사업팀제공'!$A:$D,4,FALSE)","v":{"v":178923,"d":"178,923"}},null,{"$f":"MIN(IF('2.사업팀제공'!$A$6:$A$205>='1.사업팀제공'!B210:B210,'2.사업팀제공'!$A$6:$A$205,\"\"))","v":{"v":5862677,"d":"5,862,677"}}]
[null,null,{"$f":"C210*1.0655","v":{"v":187087.94849999997,"d":"187,088"}},{"$f":"D210*1.0655","v":{"v":208479.99199999997,"d":"208,480"}},{"$f":"E210*1.0655","v":{"v":190642.45649999997,"d":"190,642"}}]
["5인",{"$f":"'3.소득기준금액계산'!H61","v":{"v":6050000,"d":"6,050,000"}},{"$f":"VLOOKUP($G212,'2.사업팀제공'!$A:$D,2,FALSE)","v":{"v":182435,"d":"182,435"}},{"$f":"VLOOKUP($G212,'2.사업팀제공'!$A:$D,3,FALSE)","v":{"v":203138,"d":"203,138"}},{"$f":"VLOOKUP($G212,'2.사업팀제공'!$A:$D,4,FALSE)","v":{"v":186361,"d":"186,361"}},null,{"$f":"MIN(IF('2.사업팀제공'!$A$6:$A$205>='1.사업팀제공'!B212:B212,'2.사업팀제공'!$A$6:$A$205,\"\"))","v":{"v":6091302,"d":"6,091,302"}}]
[null,null,{"$f":"C212*1.0655","v":{"v":194384.4925,"d":"194,384"}},{"$f":"D212*1.0655","v":{"v":216443.539,"d":"216,444"}},{"$f":"E212*1.0655","v":{"v":198567.64549999998,"d":"198,568"}}]
["6인",{"$f":"'3.소득기준금액계산'!I61","v":{"v":6296000,"d":"6,296,000"}},{"$f":"VLOOKUP($G214,'2.사업팀제공'!$A:$D,2,FALSE)","v":{"v":190523,"d":"190,523"}},{"$f":"VLOOKUP($G214,'2.사업팀제공'!$A:$D,3,FALSE)","v":{"v":211470,"d":"211,470"}},{"$f":"VLOOKUP($G214,'2.사업팀제공'!$A:$D,4,FALSE)","v":{"v":195047,"d":"195,047"}},null,{"$f":"MIN(IF('2.사업팀제공'!$A$6:$A$205>='1.사업팀제공'!B214:B214,'2.사업팀제공'!$A$6:$A$205,\"\"))","v":{"v":6361375,"d":"6,361,375"}}]
[null,null,{"$f":"C214*1.0655","v":{"v":203002.2565,"d":"203,002"}},{"$f":"D214*1.0655","v":{"v":225321.28499999997,"d":"225,321"}},{"$f":"E214*1.0655","v":{"v":207822.57849999997,"d":"207,823"}}]
["7인",{"$f":"'3.소득기준금액계산'!J61","v":{"v":6543000,"d":"6,543,000"}},{"$f":"VLOOKUP($G216,'2.사업팀제공'!$A:$D,2,FALSE)","v":{"v":200021,"d":"200,021"}},{"$f":"VLOOKUP($G216,'2.사업팀제공'!$A:$D,3,FALSE)","v":{"v":221111,"d":"221,111"}},{"$f":"VLOOKUP($G216,'2.사업팀제공'!$A:$D,4,FALSE)","v":{"v":205656,"d":"205,656"}},null,{"$f":"MIN(IF('2.사업팀제공'!$A$6:$A$205>='1.사업팀제공'!B216:B216,'2.사업팀제공'!$A$6:$A$205,\"\"))","v":{"v":6678504,"d":"6,678,504"}}]
[null,null,{"$f":"C216*1.0655","v":{"v":213122.37549999997,"d":"213,122"}},{"$f":"D216*1.0655","v":{"v":235593.77049999998,"d":"235,594"}},{"$f":"E216*1.0655","v":{"v":219126.46799999996,"d":"219,126"}}]
["8인",{"$f":"'3.소득기준금액계산'!K61","v":{"v":6789000,"d":"6,789,000"}},{"$f":"VLOOKUP($G218,'2.사업팀제공'!$A:$D,2,FALSE)","v":{"v":205656,"d":"205,656"}},{"$f":"VLOOKUP($G218,'2.사업팀제공'!$A:$D,3,FALSE)","v":{"v":226542,"d":"226,542"}},{"$f":"VLOOKUP($G218,'2.사업팀제공'!$A:$D,4,FALSE)","v":{"v":211711,"d":"211,711"}},null,{"$f":"MIN(IF('2.사업팀제공'!$A$6:$A$205>='1.사업팀제공'!B218:B218,'2.사업팀제공'!$A$6:$A$205,\"\"))","v":{"v":6866661,"d":"6,866,661"}}]
[null,null,{"$f":"C218*1.0655","v":{"v":219126.46799999996,"d":"219,126"}},{"$f":"D218*1.0655","v":{"v":241380.501,"d":"241,381"}},{"$f":"E218*1.0655","v":{"v":225578.07049999997,"d":"225,578"}}]
["9인",{"$f":"'3.소득기준금액계산'!L61","v":{"v":7036000,"d":"7,036,000"}},{"$f":"VLOOKUP($G220,'2.사업팀제공'!$A:$D,2,FALSE)","v":{"v":211711,"d":"211,711"}},{"$f":"VLOOKUP($G220,'2.사업팀제공'!$A:$D,3,FALSE)","v":{"v":232429,"d":"232,429"}},{"$f":"VLOOKUP($G220,'2.사업팀제공'!$A:$D,4,FALSE)","v":{"v":218647,"d":"218,647"}},null,{"$f":"MIN(IF('2.사업팀제공'!$A$6:$A$205>='1.사업팀제공'!B220:B220,'2.사업팀제공'!$A$6:$A$205,\"\"))","v":{"v":7068805,"d":"7,068,805"}}]
[null,null,{"$f":"C220*1.0655","v":{"v":225578.07049999997,"d":"225,578"}},{"$f":"D220*1.0655","v":{"v":247653.09949999998,"d":"247,653"}},{"$f":"E220*1.0655","v":{"v":232968.37849999996,"d":"232,968"}}]
["10인",{"$f":"'3.소득기준금액계산'!M61","v":{"v":7283000,"d":"7,283,000"}},{"$f":"VLOOKUP($G222,'2.사업팀제공'!$A:$D,2,FALSE)","v":{"v":218647,"d":"218,647"}},{"$f":"VLOOKUP($G222,'2.사업팀제공'!$A:$D,3,FALSE)","v":{"v":238939,"d":"238,939"}},{"$f":"VLOOKUP($G222,'2.사업팀제공'!$A:$D,4,FALSE)","v":{"v":226482,"d":"226,482"}},null,{"$f":"MIN(IF('2.사업팀제공'!$A$6:$A$205>='1.사업팀제공'!B222:B222,'2.사업팀제공'!$A$6:$A$205,\"\"))","v":{"v":7300417,"d":"7,300,417"}}]
[null,null,{"$f":"C222*1.0655","v":{"v":232968.37849999996,"d":"232,968"}},{"$f":"D222*1.0655","v":{"v":254589.50449999998,"d":"254,590"}},{"$f":"E222*1.0655","v":{"v":241316.57099999997,"d":"241,317"}}]
[]
[]
[]
[]
["2014년도 기준(전국가구평균소득 130%)"]
[]
["가구원수","소득기준","건강보험료 본인부담금",{"$nulls":3},"소득액(원)"]
[null,null,"직장가입자","지역가입자","혼합"]
["1인",{"$f":"'3.소득기준금액계산'!D67","v":{"v":1999000,"d":"1,999,000"}},{"$f":"VLOOKUP($G232,'2.사업팀제공'!$A:$D,2,FALSE)","v":{"v":59893,"d":"59,893"}},{"$f":"VLOOKUP($G232,'2.사업팀제공'!$A:$D,3,FALSE)","v":{"v":49383,"d":"49,383"}},{"$f":"VLOOKUP($G232,'2.사업팀제공'!$A:$D,4,FALSE)","v":{"v":59900,"d":"59,900"}},null,{"$f":"MIN(IF('2.사업팀제공'!$A$6:$A$205>='1.사업팀제공'!B232:B232,'2.사업팀제공'!$A$6:$A$205,\"\"))","v":{"v":1999764,"d":"1,999,764"}}]
[null,null,{"$f":"C232*1.0655","v":{"v":63815.9915,"d":"63,816"}},{"$f":"D232*1.0655","v":{"v":52617.5865,"d":"52,618"}},{"$f":"E232*1.0655","v":{"v":63823.45,"d":"63,823"}}]
["2인",{"$f":"'3.소득기준금액계산'!E67","v":{"v":3785000,"d":"3,785,000"}},{"$f":"VLOOKUP($G234,'2.사업팀제공'!$A:$D,2,FALSE)","v":{"v":113548,"d":"113,548"}},{"$f":"VLOOKUP($G234,'2.사업팀제공'!$A:$D,3,FALSE)","v":{"v":129345,"d":"129,345"}},{"$f":"VLOOKUP($G234,'2.사업팀제공'!$A:$D,4,FALSE)","v":{"v":115131,"d":"115,131"}},null,{"$f":"MIN(IF('2.사업팀제공'!$A$6:$A$205>='1.사업팀제공'!B234:B234,'2.사업팀제공'!$A$6:$A$205,\"\"))","v":{"v":3791237,"d":"3,791,237"}}]
[null,null,{"$f":"C234*1.0655","v":{"v":120985.39399999999,"d":"120,985"}},{"$f":"D234*1.0655","v":{"v":137817.09749999997,"d":"137,817"}},{"$f":"E234*1.0655","v":{"v":122672.08049999998,"d":"122,672"}}]
["3인",{"$f":"'3.소득기준금액계산'!F67","v":{"v":5566000,"d":"5,566,000"}},{"$f":"VLOOKUP($G236,'2.사업팀제공'!$A:$D,2,FALSE)","v":{"v":169320,"d":"169,320"}},{"$f":"VLOOKUP($G236,'2.사업팀제공'!$A:$D,3,FALSE)","v":{"v":188937,"d":"188,937"}},{"$f":"VLOOKUP($G236,'2.사업팀제공'!$A:$D,4,FALSE)","v":{"v":172378,"d":"172,378"}},null,{"$f":"MIN(IF('2.사업팀제공'!$A$6:$A$205>='1.사업팀제공'!B236:B236,'2.사업팀제공'!$A$6:$A$205,\"\"))","v":{"v":5653408,"d":"5,653,408"}}]
[null,null,{"$f":"C236*1.0655","v":{"v":180410.46,"d":"180,410"}},{"$f":"D236*1.0655","v":{"v":201312.3735,"d":"201,312"}},{"$f":"E236*1.0655","v":{"v":183668.759,"d":"183,669"}}]
["4인",{"$f":"'3.소득기준금액계산'!G67","v":{"v":6286000,"d":"6,286,000"}},{"$f":"VLOOKUP($G238,'2.사업팀제공'!$A:$D,2,FALSE)","v":{"v":190523,"d":"190,523"}},{"$f":"VLOOKUP($G238,'2.사업팀제공'!$A:$D,3,FALSE)","v":{"v":211470,"d":"211,470"}},{"$f":"VLOOKUP($G238,'2.사업팀제공'!$A:$D,4,FALSE)","v":{"v":195047,"d":"195,047"}},null,{"$f":"MIN(IF('2.사업팀제공'!$A$6:$A$205>='1.사업팀제공'!B238:B238,'2.사업팀제공'!$A$6:$A$205,\"\"))","v":{"v":6361375,"d":"6,361,375"}}]
[null,null,{"$f":"C238*1.0655","v":{"v":203002.2565,"d":"203,002"}},{"$f":"D238*1.0655","v":{"v":225321.28499999997,"d":"225,321"}},{"$f":"E238*1.0655","v":{"v":207822.57849999997,"d":"207,823"}}]
["5인",{"$f":"'3.소득기준금액계산'!H67","v":{"v":6554000,"d":"6,554,000"}},{"$f":"VLOOKUP($G240,'2.사업팀제공'!$A:$D,2,FALSE)","v":{"v":200021,"d":"200,021"}},{"$f":"VLOOKUP($G240,'2.사업팀제공'!$A:$D,3,FALSE)","v":{"v":221111,"d":"221,111"}},{"$f":"VLOOKUP($G240,'2.사업팀제공'!$A:$D,4,FALSE)","v":{"v":205656,"d":"205,656"}},null,{"$f":"MIN(IF('2.사업팀제공'!$A$6:$A$205>='1.사업팀제공'!B240:B240,'2.사업팀제공'!$A$6:$A$205,\"\"))","v":{"v":6678504,"d":"6,678,504"}}]
[null,null,{"$f":"C240*1.0655","v":{"v":213122.37549999997,"d":"213,122"}},{"$f":"D240*1.0655","v":{"v":235593.77049999998,"d":"235,594"}},{"$f":"E240*1.0655","v":{"v":219126.46799999996,"d":"219,126"}}]
["6인",{"$f":"'3.소득기준금액계산'!I67","v":{"v":6821000,"d":"6,821,000"}},{"$f":"VLOOKUP($G242,'2.사업팀제공'!$A:$D,2,FALSE)","v":{"v":205656,"d":"205,656"}},{"$f":"VLOOKUP($G242,'2.사업팀제공'!$A:$D,3,FALSE)","v":{"v":226542,"d":"226,542"}},{"$f":"VLOOKUP($G242,'2.사업팀제공'!$A:$D,4,FALSE)","v":{"v":211711,"d":"211,711"}},null,{"$f":"MIN(IF('2.사업팀제공'!$A$6:$A$205>='1.사업팀제공'!B242:B242,'2.사업팀제공'!$A$6:$A$205,\"\"))","v":{"v":6866661,"d":"6,866,661"}}]
[null,null,{"$f":"C242*1.0655","v":{"v":219126.46799999996,"d":"219,126"}},{"$f":"D242*1.0655","v":{"v":241380.501,"d":"241,381"}},{"$f":"E242*1.0655","v":{"v":225578.07049999997,"d":"225,578"}}]
["7인",{"$f":"'3.소득기준금액계산'!J67","v":{"v":7088000,"d":"7,088,000"}},{"$f":"VLOOKUP($G244,'2.사업팀제공'!$A:$D,2,FALSE)","v":{"v":218647,"d":"218,647"}},{"$f":"VLOOKUP($G244,'2.사업팀제공'!$A:$D,3,FALSE)","v":{"v":238939,"d":"238,939"}},{"$f":"VLOOKUP($G244,'2.사업팀제공'!$A:$D,4,FALSE)","v":{"v":226482,"d":"226,482"}},null,{"$f":"MIN(IF('2.사업팀제공'!$A$6:$A$205>='1.사업팀제공'!B244:B244,'2.사업팀제공'!$A$6:$A$205,\"\"))","v":{"v":7300417,"d":"7,300,417"}}]
[null,null,{"$f":"C244*1.0655","v":{"v":232968.37849999996,"d":"232,968"}},{"$f":"D244*1.0655","v":{"v":254589.50449999998,"d":"254,590"}},{"$f":"E244*1.0655","v":{"v":241316.57099999997,"d":"241,317"}}]
["8인",{"$f":"'3.소득기준금액계산'!K67","v":{"v":7355000,"d":"7,355,000"}},{"$f":"VLOOKUP($G246,'2.사업팀제공'!$A:$D,2,FALSE)","v":{"v":226482,"d":"226,482"}},{"$f":"VLOOKUP($G246,'2.사업팀제공'!$A:$D,3,FALSE)","v":{"v":246237,"d":"246,237"}},{"$f":"VLOOKUP($G246,'2.사업팀제공'!$A:$D,4,FALSE)","v":{"v":235069,"d":"235,069"}},null,{"$f":"MIN(IF('2.사업팀제공'!$A$6:$A$205>='1.사업팀제공'!B246:B246,'2.사업팀제공'!$A$6:$A$205,\"\"))","v":{"v":7562017,"d":"7,562,017"}}]
[null,null,{"$f":"C246*1.0655","v":{"v":241316.57099999997,"d":"241,317"}},{"$f":"D246*1.0655","v":{"v":262365.52349999995,"d":"262,366"}},{"$f":"E246*1.0655","v":{"v":250466.01949999997,"d":"250,466"}}]
["9인",{"$f":"'3.소득기준금액계산'!L67","v":{"v":7622000,"d":"7,622,000"}},{"$f":"VLOOKUP($G248,'2.사업팀제공'!$A:$D,2,FALSE)","v":{"v":235069,"d":"235,069"}},{"$f":"VLOOKUP($G248,'2.사업팀제공'!$A:$D,3,FALSE)","v":{"v":254344,"d":"254,344"}},{"$f":"VLOOKUP($G248,'2.사업팀제공'!$A:$D,4,FALSE)","v":{"v":244086,"d":"244,086"}},null,{"$f":"MIN(IF('2.사업팀제공'!$A$6:$A$205>='1.사업팀제공'!B248:B248,'2.사업팀제공'!$A$6:$A$205,\"\"))","v":{"v":7848702,"d":"7,848,702"}}]
[null,null,{"$f":"C248*1.0655","v":{"v":250466.01949999997,"d":"250,466"}},{"$f":"D248*1.0655","v":{"v":271003.53199999995,"d":"271,004"}},{"$f":"E248*1.0655","v":{"v":260073.63299999997,"d":"260,074"}}]
["10인",{"$f":"'3.소득기준금액계산'!M67","v":{"v":7890000,"d":"7,890,000"}},{"$f":"VLOOKUP($G250,'2.사업팀제공'!$A:$D,2,FALSE)","v":{"v":244086,"d":"244,086"}},{"$f":"VLOOKUP($G250,'2.사업팀제공'!$A:$D,3,FALSE)","v":{"v":263557,"d":"263,557"}},{"$f":"VLOOKUP($G250,'2.사업팀제공'!$A:$D,4,FALSE)","v":{"v":254678,"d":"254,678"}},null,{"$f":"MIN(IF('2.사업팀제공'!$A$6:$A$205>='1.사업팀제공'!B250:B250,'2.사업팀제공'!$A$6:$A$205,\"\"))","v":{"v":8149781,"d":"8,149,781"}}]
[null,null,{"$f":"C250*1.0655","v":{"v":260073.63299999997,"d":"260,074"}},{"$f":"D250*1.0655","v":{"v":280819.9835,"d":"280,820"}},{"$f":"E250*1.0655","v":{"v":271359.409,"d":"271,359"}}]
[]
[]
[]
[]
["2014년도 기준(전국가구평균소득 150%)"]
[]
["가구원수","소득기준","건강보험료 본인부담금",{"$nulls":3},"소득액(원)"]
[null,null,"직장가입자","지역가입자","혼합"]
["1인",{"$f":"'3.소득기준금액계산'!D73","v":{"v":2307000,"d":"2,307,000"}},{"$f":"VLOOKUP($G260,'2.사업팀제공'!$A:$D,2,FALSE)","v":{"v":69454,"d":"69,454"}},{"$f":"VLOOKUP($G260,'2.사업팀제공'!$A:$D,3,FALSE)","v":{"v":66705,"d":"66,705"}},{"$f":"VLOOKUP($G260,'2.사업팀제공'!$A:$D,4,FALSE)","v":{"v":70294,"d":"70,294"}},null,{"$f":"MIN(IF('2.사업팀제공'!$A$6:$A$205>='1.사업팀제공'!B260:B260,'2.사업팀제공'!$A$6:$A$205,\"\"))","v":{"v":2318995,"d":"2,318,995"}}]
[null,null,{"$f":"C260*1.0655","v":{"v":74003.237,"d":"74,003"}},{"$f":"D260*1.0655","v":{"v":71074.17749999999,"d":"71,074"}},{"$f":"E260*1.0655","v":{"v":74898.257,"d":"74,898"}}]
["2인",{"$f":"'3.소득기준금액계산'!E73","v":{"v":4368000,"d":"4,368,000"}},{"$f":"VLOOKUP($G262,'2.사업팀제공'!$A:$D,2,FALSE)","v":{"v":132707,"d":"132,707"}},{"$f":"VLOOKUP($G262,'2.사업팀제공'!$A:$D,3,FALSE)","v":{"v":150713,"d":"150,713"}},{"$f":"VLOOKUP($G262,'2.사업팀제공'!$A:$D,4,FALSE)","v":{"v":134681,"d":"134,681"}},null,{"$f":"MIN(IF('2.사업팀제공'!$A$6:$A$205>='1.사업팀제공'!B262:B262,'2.사업팀제공'!$A$6:$A$205,\"\"))","v":{"v":4430949,"d":"4,430,949"}}]
[null,null,{"$f":"C262*1.0655","v":{"v":141399.30849999998,"d":"141,399"}},{"$f":"D262*1.0655","v":{"v":160584.7015,"d":"160,585"}},{"$f":"E262*1.0655","v":{"v":143502.60549999998,"d":"143,503"}}]
["3인",{"$f":"'3.소득기준금액계산'!F73","v":{"v":6422000,"d":"6,422,000"}},{"$f":"VLOOKUP($G264,'2.사업팀제공'!$A:$D,2,FALSE)","v":{"v":195047,"d":"195,047"}},{"$f":"VLOOKUP($G264,'2.사업팀제공'!$A:$D,3,FALSE)","v":{"v":216117,"d":"216,117"}},{"$f":"VLOOKUP($G264,'2.사업팀제공'!$A:$D,4,FALSE)","v":{"v":200021,"d":"200,021"}},null,{"$f":"MIN(IF('2.사업팀제공'!$A$6:$A$205>='1.사업팀제공'!B264:B264,'2.사업팀제공'!$A$6:$A$205,\"\"))","v":{"v":6512422,"d":"6,512,422"}}]
[null,null,{"$f":"C264*1.0655","v":{"v":207822.57849999997,"d":"207,823"}},{"$f":"D264*1.0655","v":{"v":230272.66349999997,"d":"230,273"}},{"$f":"E264*1.0655","v":{"v":213122.37549999997,"d":"213,122"}}]
["4인",{"$f":"'3.소득기준금액계산'!G73","v":{"v":7254000,"d":"7,254,000"}},{"$f":"VLOOKUP($G266,'2.사업팀제공'!$A:$D,2,FALSE)","v":{"v":218647,"d":"218,647"}},{"$f":"VLOOKUP($G266,'2.사업팀제공'!$A:$D,3,FALSE)","v":{"v":238939,"d":"238,939"}},{"$f":"VLOOKUP($G266,'2.사업팀제공'!$A:$D,4,FALSE)","v":{"v":226482,"d":"226,482"}},null,{"$f":"MIN(IF('2.사업팀제공'!$A$6:$A$205>='1.사업팀제공'!B266:B266,'2.사업팀제공'!$A$6:$A$205,\"\"))","v":{"v":7300417,"d":"7,300,417"}}]
[null,null,{"$f":"C266*1.0655","v":{"v":232968.37849999996,"d":"232,968"}},{"$f":"D266*1.0655","v":{"v":254589.50449999998,"d":"254,590"}},{"$f":"E266*1.0655","v":{"v":241316.57099999997,"d":"241,317"}}]
["5인",{"$f":"'3.소득기준금액계산'!H73","v":{"v":7562000,"d":"7,562,000"}},{"$f":"VLOOKUP($G268,'2.사업팀제공'!$A:$D,2,FALSE)","v":{"v":226482,"d":"226,482"}},{"$f":"VLOOKUP($G268,'2.사업팀제공'!$A:$D,3,FALSE)","v":{"v":246237,"d":"246,237"}},{"$f":"VLOOKUP($G268,'2.사업팀제공'!$A:$D,4,FALSE)","v":{"v":235069,"d":"235,069"}},null,{"$f":"MIN(IF('2.사업팀제공'!$A$6:$A$205>='1.사업팀제공'!B268:B268,'2.사업팀제공'!$A$6:$A$205,\"\"))","v":{"v":7562017,"d":"7,562,017"}}]
[null,null,{"$f":"C268*1.0655","v":{"v":241316.57099999997,"d":"241,317"}},{"$f":"D268*1.0655","v":{"v":262365.52349999995,"d":"262,366"}},{"$f":"E268*1.0655","v":{"v":250466.01949999997,"d":"250,466"}}]
["6인",{"$f":"'3.소득기준금액계산'!I73","v":{"v":7870000,"d":"7,870,000"}},{"$f":"VLOOKUP($G270,'2.사업팀제공'!$A:$D,2,FALSE)","v":{"v":244086,"d":"244,086"}},{"$f":"VLOOKUP($G270,'2.사업팀제공'!$A:$D,3,FALSE)","v":{"v":263557,"d":"263,557"}},{"$f":"VLOOKUP($G270,'2.사업팀제공'!$A:$D,4,FALSE)","v":{"v":254678,"d":"254,678"}},null,{"$f":"MIN(IF('2.사업팀제공'!$A$6:$A$205>='1.사업팀제공'!B270:B270,'2.사업팀제공'!$A$6:$A$205,\"\"))","v":{"v":8149781,"d":"8,149,781"}}]
[null,null,{"$f":"C270*1.0655","v":{"v":260073.63299999997,"d":"260,074"}},{"$f":"D270*1.0655","v":{"v":280819.9835,"d":"280,820"}},{"$f":"E270*1.0655","v":{"v":271359.409,"d":"271,359"}}]
["7인",{"$f":"'3.소득기준금액계산'!J73","v":{"v":8179000,"d":"8,179,000"}},{"$f":"VLOOKUP($G272,'2.사업팀제공'!$A:$D,2,FALSE)","v":{"v":254678,"d":"254,678"}},{"$f":"VLOOKUP($G272,'2.사업팀제공'!$A:$D,3,FALSE)","v":{"v":274177,"d":"274,177"}},{"$f":"VLOOKUP($G272,'2.사업팀제공'!$A:$D,4,FALSE)","v":{"v":267342,"d":"267,342"}},null,{"$f":"MIN(IF('2.사업팀제공'!$A$6:$A$205>='1.사업팀제공'!B272:B272,'2.사업팀제공'!$A$6:$A$205,\"\"))","v":{"v":8503424,"d":"8,503,424"}}]
[null,null,{"$f":"C272*1.0655","v":{"v":271359.409,"d":"271,359"}},{"$f":"D272*1.0655","v":{"v":292135.59349999996,"d":"292,136"}},{"$f":"E272*1.0655","v":{"v":284852.90099999995,"d":"284,853"}}]
["8인",{"$f":"'3.소득기준금액계산'!K73","v":{"v":8487000,"d":"8,487,000"}},{"$f":"VLOOKUP($G274,'2.사업팀제공'!$A:$D,2,FALSE)","v":{"v":254678,"d":"254,678"}},{"$f":"VLOOKUP($G274,'2.사업팀제공'!$A:$D,3,FALSE)","v":{"v":274177,"d":"274,177"}},{"$f":"VLOOKUP($G274,'2.사업팀제공'!$A:$D,4,FALSE)","v":{"v":267342,"d":"267,342"}},null,{"$f":"MIN(IF('2.사업팀제공'!$A$6:$A$205>='1.사업팀제공'!B274:B274,'2.사업팀제공'!$A$6:$A$205,\"\"))","v":{"v":8503424,"d":"8,503,424"}}]
[null,null,{"$f":"C274*1.0655","v":{"v":271359.409,"d":"271,359"}},{"$f":"D274*1.0655","v":{"v":292135.59349999996,"d":"292,136"}},{"$f":"E274*1.0655","v":{"v":284852.90099999995,"d":"284,853"}}]
["9인",{"$f":"'3.소득기준금액계산'!L73","v":{"v":8795000,"d":"8,795,000"}},{"$f":"VLOOKUP($G276,'2.사업팀제공'!$A:$D,2,FALSE)","v":{"v":267342,"d":"267,342"}},{"$f":"VLOOKUP($G276,'2.사업팀제공'!$A:$D,3,FALSE)","v":{"v":286630,"d":"286,630"}},{"$f":"VLOOKUP($G276,'2.사업팀제공'!$A:$D,4,FALSE)","v":{"v":282933,"d":"282,933"}},null,{"$f":"MIN(IF('2.사업팀제공'!$A$6:$A$205>='1.사업팀제공'!B276:B276,'2.사업팀제공'!$A$6:$A$205,\"\"))","v":{"v":8926273,"d":"8,926,273"}}]
[null,null,{"$f":"C276*1.0655","v":{"v":284852.90099999995,"d":"284,853"}},{"$f":"D276*1.0655","v":{"v":305404.26499999996,"d":"305,404"}},{"$f":"E276*1.0655","v":{"v":301465.11149999994,"d":"301,465"}}]
["10인",{"$f":"'3.소득기준금액계산'!M73","v":{"v":9103000,"d":"9,103,000"}},{"$f":"VLOOKUP($G278,'2.사업팀제공'!$A:$D,2,FALSE)","v":{"v":282933,"d":"282,933"}},{"$f":"VLOOKUP($G278,'2.사업팀제공'!$A:$D,3,FALSE)","v":{"v":301713,"d":"301,713"}},{"$f":"VLOOKUP($G278,'2.사업팀제공'!$A:$D,4,FALSE)","v":{"v":302964,"d":"302,964"}},null,{"$f":"MIN(IF('2.사업팀제공'!$A$6:$A$205>='1.사업팀제공'!B278:B278,'2.사업팀제공'!$A$6:$A$205,\"\"))","v":{"v":9446851,"d":"9,446,851"}}]
[null,null,{"$f":"C278*1.0655","v":{"v":301465.11149999994,"d":"301,465"}},{"$f":"D278*1.0655","v":{"v":321475.20149999997,"d":"321,475"}},{"$f":"E278*1.0655","v":{"v":322808.142,"d":"322,808"}}]
[]
[]
[]
[]
["2014년도 기준(전국가구평균소득 160%)"]
[]
["가구원수","소득기준","건강보험료 본인부담금",{"$nulls":3},"소득액(원)"]
[null,null,"직장가입자","지역가입자","혼합"]
["1인",{"$f":"'3.소득기준금액계산'!D79","v":{"v":2460000,"d":"2,460,000"}},{"$f":"VLOOKUP($G288,'2.사업팀제공'!$A:$D,2,FALSE)","v":{"v":74266,"d":"74,266"}},{"$f":"VLOOKUP($G288,'2.사업팀제공'!$A:$D,3,FALSE)","v":{"v":73837,"d":"73,837"}},{"$f":"VLOOKUP($G288,'2.사업팀제공'!$A:$D,4,FALSE)","v":{"v":74871,"d":"74,871"}},null,{"$f":"MIN(IF('2.사업팀제공'!$A$6:$A$205>='1.사업팀제공'!B288:B288,'2.사업팀제공'!$A$6:$A$205,\"\"))","v":{"v":2479675,"d":"2,479,675"}}]
[null,null,{"$f":"C288*1.0655","v":{"v":79130.423,"d":"79,130"}},{"$f":"D288*1.0655","v":{"v":78673.3235,"d":"78,673"}},{"$f":"E288*1.0655","v":{"v":79775.0505,"d":"79,775"}}]
["2인",{"$f":"'3.소득기준금액계산'!E79","v":{"v":4659000,"d":"4,659,000"}},{"$f":"VLOOKUP($G290,'2.사업팀제공'!$A:$D,2,FALSE)","v":{"v":141098,"d":"141,098"}},{"$f":"VLOOKUP($G290,'2.사업팀제공'!$A:$D,3,FALSE)","v":{"v":159498,"d":"159,498"}},{"$f":"VLOOKUP($G290,'2.사업팀제공'!$A:$D,4,FALSE)","v":{"v":143354,"d":"143,354"}},null,{"$f":"MIN(IF('2.사업팀제공'!$A$6:$A$205>='1.사업팀제공'!B290:B290,'2.사업팀제공'!$A$6:$A$205,\"\"))","v":{"v":4711133,"d":"4,711,133"}}]
[null,null,{"$f":"C290*1.0655","v":{"v":150339.919,"d":"150,340"}},{"$f":"D290*1.0655","v":{"v":169945.11899999998,"d":"169,945"}},{"$f":"E290*1.0655","v":{"v":152743.68699999998,"d":"152,744"}}]
["3인",{"$f":"'3.소득기준금액계산'!F79","v":{"v":6850000,"d":"6,850,000"}},{"$f":"VLOOKUP($G292,'2.사업팀제공'!$A:$D,2,FALSE)","v":{"v":205656,"d":"205,656"}},{"$f":"VLOOKUP($G292,'2.사업팀제공'!$A:$D,3,FALSE)","v":{"v":226542,"d":"226,542"}},{"$f":"VLOOKUP($G292,'2.사업팀제공'!$A:$D,4,FALSE)","v":{"v":211711,"d":"211,711"}},null,{"$f":"MIN(IF('2.사업팀제공'!$A$6:$A$205>='1.사업팀제공'!B292:B292,'2.사업팀제공'!$A$6:$A$205,\"\"))","v":{"v":6866661,"d":"6,866,661"}}]
[null,null,{"$f":"C292*1.0655","v":{"v":219126.46799999996,"d":"219,126"}},{"$f":"D292*1.0655","v":{"v":241380.501,"d":"241,381"}},{"$f":"E292*1.0655","v":{"v":225578.07049999997,"d":"225,578"}}]
["4인",{"$f":"'3.소득기준금액계산'!G79","v":{"v":7737000,"d":"7,737,000"}},{"$f":"VLOOKUP($G294,'2.사업팀제공'!$A:$D,2,FALSE)","v":{"v":235069,"d":"235,069"}},{"$f":"VLOOKUP($G294,'2.사업팀제공'!$A:$D,3,FALSE)","v":{"v":254344,"d":"254,344"}},{"$f":"VLOOKUP($G294,'2.사업팀제공'!$A:$D,4,FALSE)","v":{"v":244086,"d":"244,086"}},null,{"$f":"MIN(IF('2.사업팀제공'!$A$6:$A$205>='1.사업팀제공'!B294:B294,'2.사업팀제공'!$A$6:$A$205,\"\"))","v":{"v":7848702,"d":"7,848,702"}}]
[null,null,{"$f":"C294*1.0655","v":{"v":250466.01949999997,"d":"250,466"}},{"$f":"D294*1.0655","v":{"v":271003.53199999995,"d":"271,004"}},{"$f":"E294*1.0655","v":{"v":260073.63299999997,"d":"260,074"}}]
["5인",{"$f":"'3.소득기준금액계산'!H79","v":{"v":8066000,"d":"8,066,000"}},{"$f":"VLOOKUP($G296,'2.사업팀제공'!$A:$D,2,FALSE)","v":{"v":244086,"d":"244,086"}},{"$f":"VLOOKUP($G296,'2.사업팀제공'!$A:$D,3,FALSE)","v":{"v":263557,"d":"263,557"}},{"$f":"VLOOKUP($G296,'2.사업팀제공'!$A:$D,4,FALSE)","v":{"v":254678,"d":"254,678"}},null,{"$f":"MIN(IF('2.사업팀제공'!$A$6:$A$205>='1.사업팀제공'!B296:B296,'2.사업팀제공'!$A$6:$A$205,\"\"))","v":{"v":8149781,"d":"8,149,781"}}]
[null,null,{"$f":"C296*1.0655","v":{"v":260073.63299999997,"d":"260,074"}},{"$f":"D296*1.0655","v":{"v":280819.9835,"d":"280,820"}},{"$f":"E296*1.0655","v":{"v":271359.409,"d":"271,359"}}]
["6인",{"$f":"'3.소득기준금액계산'!I79","v":{"v":8395000,"d":"8,395,000"}},{"$f":"VLOOKUP($G298,'2.사업팀제공'!$A:$D,2,FALSE)","v":{"v":254678,"d":"254,678"}},{"$f":"VLOOKUP($G298,'2.사업팀제공'!$A:$D,3,FALSE)","v":{"v":274177,"d":"274,177"}},{"$f":"VLOOKUP($G298,'2.사업팀제공'!$A:$D,4,FALSE)","v":{"v":267342,"d":"267,342"}},null,{"$f":"MIN(IF('2.사업팀제공'!$A$6:$A$205>='1.사업팀제공'!B298:B298,'2.사업팀제공'!$A$6:$A$205,\"\"))","v":{"v":8503424,"d":"8,503,424"}}]
[null,null,{"$f":"C298*1.0655","v":{"v":271359.409,"d":"271,359"}},{"$f":"D298*1.0655","v":{"v":292135.59349999996,"d":"292,136"}},{"$f":"E298*1.0655","v":{"v":284852.90099999995,"d":"284,853"}}]
["7인",{"$f":"'3.소득기준금액계산'!J79","v":{"v":8724000,"d":"8,724,000"}},{"$f":"VLOOKUP($G300,'2.사업팀제공'!$A:$D,2,FALSE)","v":{"v":267342,"d":"267,342"}},{"$f":"VLOOKUP($G300,'2.사업팀제공'!$A:$D,3,FALSE)","v":{"v":286630,"d":"286,630"}},{"$f":"VLOOKUP($G300,'2.사업팀제공'!$A:$D,4,FALSE)","v":{"v":282933,"d":"282,933"}},null,{"$f":"MIN(IF('2.사업팀제공'!$A$6:$A$205>='1.사업팀제공'!B300:B300,'2.사업팀제공'!$A$6:$A$205,\"\"))","v":{"v":8926273,"d":"8,926,273"}}]
[null,null,{"$f":"C300*1.0655","v":{"v":284852.90099999995,"d":"284,853"}},{"$f":"D300*1.0655","v":{"v":305404.26499999996,"d":"305,404"}},{"$f":"E300*1.0655","v":{"v":301465.11149999994,"d":"301,465"}}]
["8인",{"$f":"'3.소득기준금액계산'!K79","v":{"v":9053000,"d":"9,053,000"}},{"$f":"VLOOKUP($G302,'2.사업팀제공'!$A:$D,2,FALSE)","v":{"v":282933,"d":"282,933"}},{"$f":"VLOOKUP($G302,'2.사업팀제공'!$A:$D,3,FALSE)","v":{"v":301713,"d":"301,713"}},{"$f":"VLOOKUP($G302,'2.사업팀제공'!$A:$D,4,FALSE)","v":{"v":302964,"d":"302,964"}},null,{"$f":"MIN(IF('2.사업팀제공'!$A$6:$A$205>='1.사업팀제공'!B302:B302,'2.사업팀제공'!$A$6:$A$205,\"\"))","v":{"v":9446851,"d":"9,446,851"}}]
[null,null,{"$f":"C302*1.0655","v":{"v":301465.11149999994,"d":"301,465"}},{"$f":"D302*1.0655","v":{"v":321475.20149999997,"d":"321,475"}},{"$f":"E302*1.0655","v":{"v":322808.142,"d":"322,808"}}]
["9인",{"$f":"'3.소득기준금액계산'!L79","v":{"v":9382000,"d":"9,382,000"}},{"$f":"VLOOKUP($G304,'2.사업팀제공'!$A:$D,2,FALSE)","v":{"v":282933,"d":"282,933"}},{"$f":"VLOOKUP($G304,'2.사업팀제공'!$A:$D,3,FALSE)","v":{"v":301713,"d":"301,713"}},{"$f":"VLOOKUP($G304,'2.사업팀제공'!$A:$D,4,FALSE)","v":{"v":302964,"d":"302,964"}},null,{"$f":"MIN(IF('2.사업팀제공'!$A$6:$A$205>='1.사업팀제공'!B304:B304,'2.사업팀제공'!$A$6:$A$205,\"\"))","v":{"v":9446851,"d":"9,446,851"}}]
[null,null,{"$f":"C304*1.0655","v":{"v":301465.11149999994,"d":"301,465"}},{"$f":"D304*1.0655","v":{"v":321475.20149999997,"d":"321,475"}},{"$f":"E304*1.0655","v":{"v":322808.142,"d":"322,808"}}]
["10인",{"$f":"'3.소득기준금액계산'!M79","v":{"v":9710000,"d":"9,710,000"}},{"$f":"VLOOKUP($G306,'2.사업팀제공'!$A:$D,2,FALSE)","v":{"v":302964,"d":"302,964"}},{"$f":"VLOOKUP($G306,'2.사업팀제공'!$A:$D,3,FALSE)","v":{"v":320869,"d":"320,869"}},{"$f":"VLOOKUP($G306,'2.사업팀제공'!$A:$D,4,FALSE)","v":{"v":337000,"d":"337,000"}},null,{"$f":"MIN(IF('2.사업팀제공'!$A$6:$A$205>='1.사업팀제공'!B306:B306,'2.사업팀제공'!$A$6:$A$205,\"\"))","v":{"v":10115660,"d":"10,115,660"}}]
[null,null,{"$f":"C306*1.0655","v":{"v":322808.142,"d":"322,808"}},{"$f":"D306*1.0655","v":{"v":341885.91949999996,"d":"341,886"}},{"$f":"E306*1.0655","v":{"v":359073.49999999994,"d":"359,074"}}]
[]
[]
[]
[]
["2014년도 기준(전국가구평균소득 180%)"]
[]
["가구원수","소득기준","건강보험료 본인부담금",{"$nulls":3},"소득액(원)"]
[null,null,"직장가입자","지역가입자","혼합"]
["1인",{"$f":"'3.소득기준금액계산'!D85","v":2768000},{"$f":"VLOOKUP($G316,'2.사업팀제공'!$A:$D,2,FALSE)","v":{"v":82979,"d":"82,979"}},{"$f":"VLOOKUP($G316,'2.사업팀제공'!$A:$D,3,FALSE)","v":{"v":86395,"d":"86,395"}},{"$f":"VLOOKUP($G316,'2.사업팀제공'!$A:$D,4,FALSE)","v":{"v":83867,"d":"83,867"}},null,{"$f":"MIN(IF('2.사업팀제공'!$A$6:$A$205>='1.사업팀제공'!B316:B316,'2.사업팀제공'!$A$6:$A$205,\"\"))","v":{"v":2770592,"d":"2,770,592"}}]
[null,null,{"$f":"C316*1.0655","v":{"v":88414.12449999999,"d":"88,414"}},{"$f":"D316*1.0655","v":{"v":92053.8725,"d":"92,054"}},{"$f":"E316*1.0655","v":{"v":89360.2885,"d":"89,360"}}]
["2인",{"$f":"'3.소득기준금액계산'!E85","v":5241000},{"$f":"VLOOKUP($G318,'2.사업팀제공'!$A:$D,2,FALSE)","v":{"v":157880,"d":"157,880"}},{"$f":"VLOOKUP($G318,'2.사업팀제공'!$A:$D,3,FALSE)","v":{"v":177007,"d":"177,007"}},{"$f":"VLOOKUP($G318,'2.사업팀제공'!$A:$D,4,FALSE)","v":{"v":160657,"d":"160,657"}},null,{"$f":"MIN(IF('2.사업팀제공'!$A$6:$A$205>='1.사업팀제공'!B318:B318,'2.사업팀제공'!$A$6:$A$205,\"\"))","v":{"v":5271449,"d":"5,271,449"}}]
[null,null,{"$f":"C318*1.0655","v":{"v":168221.13999999998,"d":"168,221"}},{"$f":"D318*1.0655","v":{"v":188600.95849999998,"d":"188,601"}},{"$f":"E318*1.0655","v":{"v":171180.0335,"d":"171,180"}}]
["3인",{"$f":"'3.소득기준금액계산'!F85","v":7707000},{"$f":"VLOOKUP($G320,'2.사업팀제공'!$A:$D,2,FALSE)","v":{"v":235069,"d":"235,069"}},{"$f":"VLOOKUP($G320,'2.사업팀제공'!$A:$D,3,FALSE)","v":{"v":254344,"d":"254,344"}},{"$f":"VLOOKUP($G320,'2.사업팀제공'!$A:$D,4,FALSE)","v":{"v":244086,"d":"244,086"}},null,{"$f":"MIN(IF('2.사업팀제공'!$A$6:$A$205>='1.사업팀제공'!B320:B320,'2.사업팀제공'!$A$6:$A$205,\"\"))","v":{"v":7848702,"d":"7,848,702"}}]
[null,null,{"$f":"C320*1.0655","v":{"v":250466.01949999997,"d":"250,466"}},{"$f":"D320*1.0655","v":{"v":271003.53199999995,"d":"271,004"}},{"$f":"E320*1.0655","v":{"v":260073.63299999997,"d":"260,074"}}]
["4인",{"$f":"'3.소득기준금액계산'!G85","v":8704000},{"$f":"VLOOKUP($G322,'2.사업팀제공'!$A:$D,2,FALSE)","v":{"v":267342,"d":"267,342"}},{"$f":"VLOOKUP($G322,'2.사업팀제공'!$A:$D,3,FALSE)","v":{"v":286630,"d":"286,630"}},{"$f":"VLOOKUP($G322,'2.사업팀제공'!$A:$D,4,FALSE)","v":{"v":282933,"d":"282,933"}},null,{"$f":"MIN(IF('2.사업팀제공'!$A$6:$A$205>='1.사업팀제공'!B322:B322,'2.사업팀제공'!$A$6:$A$205,\"\"))","v":{"v":8926273,"d":"8,926,273"}}]
[null,null,{"$f":"C322*1.0655","v":{"v":284852.90099999995,"d":"284,853"}},{"$f":"D322*1.0655","v":{"v":305404.26499999996,"d":"305,404"}},{"$f":"E322*1.0655","v":{"v":301465.11149999994,"d":"301,465"}}]
["5인",{"$f":"'3.소득기준금액계산'!H85","v":9074000},{"$f":"VLOOKUP($G324,'2.사업팀제공'!$A:$D,2,FALSE)","v":{"v":282933,"d":"282,933"}},{"$f":"VLOOKUP($G324,'2.사업팀제공'!$A:$D,3,FALSE)","v":{"v":301713,"d":"301,713"}},{"$f":"VLOOKUP($G324,'2.사업팀제공'!$A:$D,4,FALSE)","v":{"v":302964,"d":"302,964"}},null,{"$f":"MIN(IF('2.사업팀제공'!$A$6:$A$205>='1.사업팀제공'!B324:B324,'2.사업팀제공'!$A$6:$A$205,\"\"))","v":{"v":9446851,"d":"9,446,851"}}]
[null,null,{"$f":"C324*1.0655","v":{"v":301465.11149999994,"d":"301,465"}},{"$f":"D324*1.0655","v":{"v":321475.20149999997,"d":"321,475"}},{"$f":"E324*1.0655","v":{"v":322808.142,"d":"322,808"}}]
["6인",{"$f":"'3.소득기준금액계산'!I85","v":9444000},{"$f":"VLOOKUP($G326,'2.사업팀제공'!$A:$D,2,FALSE)","v":{"v":282933,"d":"282,933"}},{"$f":"VLOOKUP($G326,'2.사업팀제공'!$A:$D,3,FALSE)","v":{"v":301713,"d":"301,713"}},{"$f":"VLOOKUP($G326,'2.사업팀제공'!$A:$D,4,FALSE)","v":{"v":302964,"d":"302,964"}},null,{"$f":"MIN(IF('2.사업팀제공'!$A$6:$A$205>='1.사업팀제공'!B326:B326,'2.사업팀제공'!$A$6:$A$205,\"\"))","v":{"v":9446851,"d":"9,446,851"}}]
[null,null,{"$f":"C326*1.0655","v":{"v":301465.11149999994,"d":"301,465"}},{"$f":"D326*1.0655","v":{"v":321475.20149999997,"d":"321,475"}},{"$f":"E326*1.0655","v":{"v":322808.142,"d":"322,808"}}]
["7인",{"$f":"'3.소득기준금액계산'!J85","v":9814000},{"$f":"VLOOKUP($G328,'2.사업팀제공'!$A:$D,2,FALSE)","v":{"v":302964,"d":"302,964"}},{"$f":"VLOOKUP($G328,'2.사업팀제공'!$A:$D,3,FALSE)","v":{"v":320869,"d":"320,869"}},{"$f":"VLOOKUP($G328,'2.사업팀제공'!$A:$D,4,FALSE)","v":{"v":337000,"d":"337,000"}},null,{"$f":"MIN(IF('2.사업팀제공'!$A$6:$A$205>='1.사업팀제공'!B328:B328,'2.사업팀제공'!$A$6:$A$205,\"\"))","v":{"v":10115660,"d":"10,115,660"}}]
[null,null,{"$f":"C328*1.0655","v":{"v":322808.142,"d":"322,808"}},{"$f":"D328*1.0655","v":{"v":341885.91949999996,"d":"341,886"}},{"$f":"E328*1.0655","v":{"v":359073.49999999994,"d":"359,074"}}]
["8인",{"$f":"'3.소득기준금액계산'!K85","v":10184000},{"$f":"VLOOKUP($G330,'2.사업팀제공'!$A:$D,2,FALSE)","v":{"v":337000,"d":"337,000"}},{"$f":"VLOOKUP($G330,'2.사업팀제공'!$A:$D,3,FALSE)","v":{"v":347056,"d":"347,056"}},{"$f":"VLOOKUP($G330,'2.사업팀제공'!$A:$D,4,FALSE)","v":{"v":412280,"d":"412,280"}},null,{"$f":"MIN(IF('2.사업팀제공'!$A$6:$A$205>='1.사업팀제공'!B330:B330,'2.사업팀제공'!$A$6:$A$205,\"\"))","v":{"v":11252085,"d":"11,252,085"}}]
[null,null,{"$f":"C330*1.0655","v":{"v":359073.49999999994,"d":"359,074"}},{"$f":"D330*1.0655","v":{"v":369788.16799999995,"d":"369,788"}},{"$f":"E330*1.0655","v":{"v":439284.33999999997,"d":"439,284"}}]
["9인",{"$f":"'3.소득기준금액계산'!L85","v":10554000},{"$f":"VLOOKUP($G332,'2.사업팀제공'!$A:$D,2,FALSE)","v":{"v":337000,"d":"337,000"}},{"$f":"VLOOKUP($G332,'2.사업팀제공'!$A:$D,3,FALSE)","v":{"v":347056,"d":"347,056"}},{"$f":"VLOOKUP($G332,'2.사업팀제공'!$A:$D,4,FALSE)","v":{"v":412280,"d":"412,280"}},null,{"$f":"MIN(IF('2.사업팀제공'!$A$6:$A$205>='1.사업팀제공'!B332:B332,'2.사업팀제공'!$A$6:$A$205,\"\"))","v":{"v":11252085,"d":"11,252,085"}}]
[null,null,{"$f":"C332*1.0655","v":{"v":359073.49999999994,"d":"359,074"}},{"$f":"D332*1.0655","v":{"v":369788.16799999995,"d":"369,788"}},{"$f":"E332*1.0655","v":{"v":439284.33999999997,"d":"439,284"}}]
["10인",{"$f":"'3.소득기준금액계산'!M85","v":10924000},{"$f":"VLOOKUP($G334,'2.사업팀제공'!$A:$D,2,FALSE)","v":{"v":337000,"d":"337,000"}},{"$f":"VLOOKUP($G334,'2.사업팀제공'!$A:$D,3,FALSE)","v":{"v":347056,"d":"347,056"}},{"$f":"VLOOKUP($G334,'2.사업팀제공'!$A:$D,4,FALSE)","v":{"v":412280,"d":"412,280"}},null,{"$f":"MIN(IF('2.사업팀제공'!$A$6:$A$205>='1.사업팀제공'!B334:B334,'2.사업팀제공'!$A$6:$A$205,\"\"))","v":{"v":11252085,"d":"11,252,085"}}]
[null,null,{"$f":"C334*1.0655","v":{"v":359073.49999999994,"d":"359,074"}},{"$f":"D334*1.0655","v":{"v":369788.16799999995,"d":"369,788"}},{"$f":"E334*1.0655","v":{"v":439284.33999999997,"d":"439,284"}}]
[]
[]
[]
[]
["2014년도 기준(전국가구평균소득 200%)"]
[]
["가구원수","소득기준","건강보험료 본인부담금",{"$nulls":3},"소득액(원)"]
[null,null,"직장가입자","지역가입자","혼합"]
["1인",{"$f":"'3.소득기준금액계산'!D91","v":{"v":3076000,"d":"3,076,000"}},{"$f":"VLOOKUP($G344,'2.사업팀제공'!$A:$D,2,FALSE)","v":{"v":92298,"d":"92,298"}},{"$f":"VLOOKUP($G344,'2.사업팀제공'!$A:$D,3,FALSE)","v":{"v":100511,"d":"100,511"}},{"$f":"VLOOKUP($G344,'2.사업팀제공'!$A:$D,4,FALSE)","v":{"v":93355,"d":"93,355"}},null,{"$f":"MIN(IF('2.사업팀제공'!$A$6:$A$205>='1.사업팀제공'!B344:B344,'2.사업팀제공'!$A$6:$A$205,\"\"))","v":{"v":3081739,"d":"3,081,739"}}]
[null,null,{"$f":"C344*1.0655","v":{"v":98343.51899999999,"d":"98,344"}},{"$f":"D344*1.0655","v":{"v":107094.4705,"d":"107,094"}},{"$f":"E344*1.0655","v":{"v":99469.75249999999,"d":"99,470"}}]
["2인",{"$f":"'3.소득기준금액계산'!E91","v":{"v":5824000,"d":"5,824,000"}},{"$f":"VLOOKUP($G346,'2.사업팀제공'!$A:$D,2,FALSE)","v":{"v":175587,"d":"175,587"}},{"$f":"VLOOKUP($G346,'2.사업팀제공'!$A:$D,3,FALSE)","v":{"v":195664,"d":"195,664"}},{"$f":"VLOOKUP($G346,'2.사업팀제공'!$A:$D,4,FALSE)","v":{"v":178923,"d":"178,923"}},null,{"$f":"MIN(IF('2.사업팀제공'!$A$6:$A$205>='1.사업팀제공'!B346:B346,'2.사업팀제공'!$A$6:$A$205,\"\"))","v":{"v":5862677,"d":"5,862,677"}}]
[null,null,{"$f":"C346*1.0655","v":{"v":187087.94849999997,"d":"187,088"}},{"$f":"D346*1.0655","v":{"v":208479.99199999997,"d":"208,480"}},{"$f":"E346*1.0655","v":{"v":190642.45649999997,"d":"190,642"}}]
["3인",{"$f":"'3.소득기준금액계산'!F91","v":{"v":8563000,"d":"8,563,000"}},{"$f":"VLOOKUP($G348,'2.사업팀제공'!$A:$D,2,FALSE)","v":{"v":267342,"d":"267,342"}},{"$f":"VLOOKUP($G348,'2.사업팀제공'!$A:$D,3,FALSE)","v":{"v":286630,"d":"286,630"}},{"$f":"VLOOKUP($G348,'2.사업팀제공'!$A:$D,4,FALSE)","v":{"v":282933,"d":"282,933"}},null,{"$f":"MIN(IF('2.사업팀제공'!$A$6:$A$205>='1.사업팀제공'!B348:B348,'2.사업팀제공'!$A$6:$A$205,\"\"))","v":{"v":8926273,"d":"8,926,273"}}]
[null,null,{"$f":"C348*1.0655","v":{"v":284852.90099999995,"d":"284,853"}},{"$f":"D348*1.0655","v":{"v":305404.26499999996,"d":"305,404"}},{"$f":"E348*1.0655","v":{"v":301465.11149999994,"d":"301,465"}}]
["4인",{"$f":"'3.소득기준금액계산'!G91","v":{"v":9672000,"d":"9,672,000"}},{"$f":"VLOOKUP($G350,'2.사업팀제공'!$A:$D,2,FALSE)","v":{"v":302964,"d":"302,964"}},{"$f":"VLOOKUP($G350,'2.사업팀제공'!$A:$D,3,FALSE)","v":{"v":320869,"d":"320,869"}},{"$f":"VLOOKUP($G350,'2.사업팀제공'!$A:$D,4,FALSE)","v":{"v":337000,"d":"337,000"}},null,{"$f":"MIN(IF('2.사업팀제공'!$A$6:$A$205>='1.사업팀제공'!B350:B350,'2.사업팀제공'!$A$6:$A$205,\"\"))","v":{"v":10115660,"d":"10,115,660"}}]
[null,null,{"$f":"C350*1.0655","v":{"v":322808.142,"d":"322,808"}},{"$f":"D350*1.0655","v":{"v":341885.91949999996,"d":"341,886"}},{"$f":"E350*1.0655","v":{"v":359073.49999999994,"d":"359,074"}}]
["5인",{"$f":"'3.소득기준금액계산'!H91","v":{"v":10083000,"d":"10,083,000"}},{"$f":"VLOOKUP($G352,'2.사업팀제공'!$A:$D,2,FALSE)","v":{"v":302964,"d":"302,964"}},{"$f":"VLOOKUP($G352,'2.사업팀제공'!$A:$D,3,FALSE)","v":{"v":320869,"d":"320,869"}},{"$f":"VLOOKUP($G352,'2.사업팀제공'!$A:$D,4,FALSE)","v":{"v":337000,"d":"337,000"}},null,{"$f":"MIN(IF('2.사업팀제공'!$A$6:$A$205>='1.사업팀제공'!B352:B352,'2.사업팀제공'!$A$6:$A$205,\"\"))","v":{"v":10115660,"d":"10,115,660"}}]
[null,null,{"$f":"C352*1.0655","v":{"v":322808.142,"d":"322,808"}},{"$f":"D352*1.0655","v":{"v":341885.91949999996,"d":"341,886"}},{"$f":"E352*1.0655","v":{"v":359073.49999999994,"d":"359,074"}}]
["6인",{"$f":"'3.소득기준금액계산'!I91","v":{"v":10494000,"d":"10,494,000"}},{"$f":"VLOOKUP($G354,'2.사업팀제공'!$A:$D,2,FALSE)","v":{"v":337000,"d":"337,000"}},{"$f":"VLOOKUP($G354,'2.사업팀제공'!$A:$D,3,FALSE)","v":{"v":347056,"d":"347,056"}},{"$f":"VLOOKUP($G354,'2.사업팀제공'!$A:$D,4,FALSE)","v":{"v":412280,"d":"412,280"}},null,{"$f":"MIN(IF('2.사업팀제공'!$A$6:$A$205>='1.사업팀제공'!B354:B354,'2.사업팀제공'!$A$6:$A$205,\"\"))","v":{"v":11252085,"d":"11,252,085"}}]
[null,null,{"$f":"C354*1.0655","v":{"v":359073.49999999994,"d":"359,074"}},{"$f":"D354*1.0655","v":{"v":369788.16799999995,"d":"369,788"}},{"$f":"E354*1.0655","v":{"v":439284.33999999997,"d":"439,284"}}]
["7인",{"$f":"'3.소득기준금액계산'!J91","v":{"v":10905000,"d":"10,905,000"}},{"$f":"VLOOKUP($G356,'2.사업팀제공'!$A:$D,2,FALSE)","v":{"v":337000,"d":"337,000"}},{"$f":"VLOOKUP($G356,'2.사업팀제공'!$A:$D,3,FALSE)","v":{"v":347056,"d":"347,056"}},{"$f":"VLOOKUP($G356,'2.사업팀제공'!$A:$D,4,FALSE)","v":{"v":412280,"d":"412,280"}},null,{"$f":"MIN(IF('2.사업팀제공'!$A$6:$A$205>='1.사업팀제공'!B356:B356,'2.사업팀제공'!$A$6:$A$205,\"\"))","v":{"v":11252085,"d":"11,252,085"}}]
[null,null,{"$f":"C356*1.0655","v":{"v":359073.49999999994,"d":"359,074"}},{"$f":"D356*1.0655","v":{"v":369788.16799999995,"d":"369,788"}},{"$f":"E356*1.0655","v":{"v":439284.33999999997,"d":"439,284"}}]
["8인",{"$f":"'3.소득기준금액계산'!K91","v":{"v":11316000,"d":"11,316,000"}},{"$f":"VLOOKUP($G358,'2.사업팀제공'!$A:$D,2,FALSE)","v":{"v":412280,"d":"412,280"}},{"$f":"VLOOKUP($G358,'2.사업팀제공'!$A:$D,3,FALSE)","v":{"v":388559,"d":"388,559"}},{"$f":"VLOOKUP($G358,'2.사업팀제공'!$A:$D,4,FALSE)","v":{"v":909930,"d":"909,930"}},null,{"$f":"MIN(IF('2.사업팀제공'!$A$6:$A$205>='1.사업팀제공'!B358:B358,'2.사업팀제공'!$A$6:$A$205,\"\"))","v":{"v":13765603,"d":"13,765,603"}}]
[null,null,{"$f":"C358*1.0655","v":{"v":439284.33999999997,"d":"439,284"}},{"$f":"D358*1.0655","v":{"v":414009.61449999997,"d":"414,010"}},{"$f":"E358*1.0655","v":{"v":969530.4149999999,"d":"969,530"}}]
["9인",{"$f":"'3.소득기준금액계산'!L91","v":{"v":11727000,"d":"11,727,000"}},{"$f":"VLOOKUP($G360,'2.사업팀제공'!$A:$D,2,FALSE)","v":{"v":412280,"d":"412,280"}},{"$f":"VLOOKUP($G360,'2.사업팀제공'!$A:$D,3,FALSE)","v":{"v":388559,"d":"388,559"}},{"$f":"VLOOKUP($G360,'2.사업팀제공'!$A:$D,4,FALSE)","v":{"v":909930,"d":"909,930"}},null,{"$f":"MIN(IF('2.사업팀제공'!$A$6:$A$205>='1.사업팀제공'!B360:B360,'2.사업팀제공'!$A$6:$A$205,\"\"))","v":{"v":13765603,"d":"13,765,603"}}]
[null,null,{"$f":"C360*1.0655","v":{"v":439284.33999999997,"d":"439,284"}},{"$f":"D360*1.0655","v":{"v":414009.61449999997,"d":"414,010"}},{"$f":"E360*1.0655","v":{"v":969530.4149999999,"d":"969,530"}}]
["10인",{"$f":"'3.소득기준금액계산'!M91","v":{"v":12138000,"d":"12,138,000"}},{"$f":"VLOOKUP($G362,'2.사업팀제공'!$A:$D,2,FALSE)","v":{"v":412280,"d":"412,280"}},{"$f":"VLOOKUP($G362,'2.사업팀제공'!$A:$D,3,FALSE)","v":{"v":388559,"d":"388,559"}},{"$f":"VLOOKUP($G362,'2.사업팀제공'!$A:$D,4,FALSE)","v":{"v":909930,"d":"909,930"}},null,{"$f":"MIN(IF('2.사업팀제공'!$A$6:$A$205>='1.사업팀제공'!B362:B362,'2.사업팀제공'!$A$6:$A$205,\"\"))","v":{"v":13765603,"d":"13,765,603"}}]
[null,null,{"$f":"C362*1.0655","v":{"v":439284.33999999997,"d":"439,284"}},{"$f":"D362*1.0655","v":{"v":414009.61449999997,"d":"414,010"}},{"$f":"E362*1.0655","v":{"v":969530.4149999999,"d":"969,530"}}]
[]
[]
[]
[]
["2014년도 기준(전국가구평균소득 220%)"]
[]
["가구원수","소득기준","건강보험료 본인부담금",{"$nulls":3},"소득액(원)"]
[null,null,"직장가입자","지역가입자","혼합"]
["1인",{"$f":"'3.소득기준금액계산'!D97","v":{"v":3383000,"d":"3,383,000"}},{"$f":"VLOOKUP($G372,'2.사업팀제공'!$A:$D,2,FALSE)","v":{"v":101447,"d":"101,447"}},{"$f":"VLOOKUP($G372,'2.사업팀제공'!$A:$D,3,FALSE)","v":{"v":113256,"d":"113,256"}},{"$f":"VLOOKUP($G372,'2.사업팀제공'!$A:$D,4,FALSE)","v":{"v":102607,"d":"102,607"}},null,{"$f":"MIN(IF('2.사업팀제공'!$A$6:$A$205>='1.사업팀제공'!B372:B372,'2.사업팀제공'!$A$6:$A$205,\"\"))","v":{"v":3387221,"d":"3,387,221"}}]
[null,null,{"$f":"C372*1.0655","v":{"v":108091.77849999999,"d":"108,092"}},{"$f":"D372*1.0655","v":{"v":120674.26799999998,"d":"120,674"}},{"$f":"E372*1.0655","v":{"v":109327.75849999998,"d":"109,328"}}]
["2인",{"$f":"'3.소득기준금액계산'!E97","v":{"v":6406000,"d":"6,406,000"}},{"$f":"VLOOKUP($G374,'2.사업팀제공'!$A:$D,2,FALSE)","v":{"v":195047,"d":"195,047"}},{"$f":"VLOOKUP($G374,'2.사업팀제공'!$A:$D,3,FALSE)","v":{"v":216117,"d":"216,117"}},{"$f":"VLOOKUP($G374,'2.사업팀제공'!$A:$D,4,FALSE)","v":{"v":200021,"d":"200,021"}},null,{"$f":"MIN(IF('2.사업팀제공'!$A$6:$A$205>='1.사업팀제공'!B374:B374,'2.사업팀제공'!$A$6:$A$205,\"\"))","v":{"v":6512422,"d":"6,512,422"}}]
[null,null,{"$f":"C374*1.0655","v":{"v":207822.57849999997,"d":"207,823"}},{"$f":"D374*1.0655","v":{"v":230272.66349999997,"d":"230,273"}},{"$f":"E374*1.0655","v":{"v":213122.37549999997,"d":"213,122"}}]
["3인",{"$f":"'3.소득기준금액계산'!F97","v":{"v":9419000,"d":"9,419,000"}},{"$f":"VLOOKUP($G376,'2.사업팀제공'!$A:$D,2,FALSE)","v":{"v":282933,"d":"282,933"}},{"$f":"VLOOKUP($G376,'2.사업팀제공'!$A:$D,3,FALSE)","v":{"v":301713,"d":"301,713"}},{"$f":"VLOOKUP($G376,'2.사업팀제공'!$A:$D,4,FALSE)","v":{"v":302964,"d":"302,964"}},null,{"$f":"MIN(IF('2.사업팀제공'!$A$6:$A$205>='1.사업팀제공'!B376:B376,'2.사업팀제공'!$A$6:$A$205,\"\"))","v":{"v":9446851,"d":"9,446,851"}}]
[null,null,{"$f":"C376*1.0655","v":{"v":301465.11149999994,"d":"301,465"}},{"$f":"D376*1.0655","v":{"v":321475.20149999997,"d":"321,475"}},{"$f":"E376*1.0655","v":{"v":322808.142,"d":"322,808"}}]
["4인",{"$f":"'3.소득기준금액계산'!G97","v":{"v":10639000,"d":"10,639,000"}},{"$f":"VLOOKUP($G378,'2.사업팀제공'!$A:$D,2,FALSE)","v":{"v":337000,"d":"337,000"}},{"$f":"VLOOKUP($G378,'2.사업팀제공'!$A:$D,3,FALSE)","v":{"v":347056,"d":"347,056"}},{"$f":"VLOOKUP($G378,'2.사업팀제공'!$A:$D,4,FALSE)","v":{"v":412280,"d":"412,280"}},null,{"$f":"MIN(IF('2.사업팀제공'!$A$6:$A$205>='1.사업팀제공'!B378:B378,'2.사업팀제공'!$A$6:$A$205,\"\"))","v":{"v":11252085,"d":"11,252,085"}}]
[null,null,{"$f":"C378*1.0655","v":{"v":359073.49999999994,"d":"359,074"}},{"$f":"D378*1.0655","v":{"v":369788.16799999995,"d":"369,788"}},{"$f":"E378*1.0655","v":{"v":439284.33999999997,"d":"439,284"}}]
["5인",{"$f":"'3.소득기준금액계산'!H97","v":{"v":11091000,"d":"11,091,000"}},{"$f":"VLOOKUP($G380,'2.사업팀제공'!$A:$D,2,FALSE)","v":{"v":337000,"d":"337,000"}},{"$f":"VLOOKUP($G380,'2.사업팀제공'!$A:$D,3,FALSE)","v":{"v":347056,"d":"347,056"}},{"$f":"VLOOKUP($G380,'2.사업팀제공'!$A:$D,4,FALSE)","v":{"v":412280,"d":"412,280"}},null,{"$f":"MIN(IF('2.사업팀제공'!$A$6:$A$205>='1.사업팀제공'!B380:B380,'2.사업팀제공'!$A$6:$A$205,\"\"))","v":{"v":11252085,"d":"11,252,085"}}]
[null,null,{"$f":"C380*1.0655","v":{"v":359073.49999999994,"d":"359,074"}},{"$f":"D380*1.0655","v":{"v":369788.16799999995,"d":"369,788"}},{"$f":"E380*1.0655","v":{"v":439284.33999999997,"d":"439,284"}}]
["6인",{"$f":"'3.소득기준금액계산'!I97","v":{"v":11543000,"d":"11,543,000"}},{"$f":"VLOOKUP($G382,'2.사업팀제공'!$A:$D,2,FALSE)","v":{"v":412280,"d":"412,280"}},{"$f":"VLOOKUP($G382,'2.사업팀제공'!$A:$D,3,FALSE)","v":{"v":388559,"d":"388,559"}},{"$f":"VLOOKUP($G382,'2.사업팀제공'!$A:$D,4,FALSE)","v":{"v":909930,"d":"909,930"}},null,{"$f":"MIN(IF('2.사업팀제공'!$A$6:$A$205>='1.사업팀제공'!B382:B382,'2.사업팀제공'!$A$6:$A$205,\"\"))","v":{"v":13765603,"d":"13,765,603"}}]
[null,null,{"$f":"C382*1.0655","v":{"v":439284.33999999997,"d":"439,284"}},{"$f":"D382*1.0655","v":{"v":414009.61449999997,"d":"414,010"}},{"$f":"E382*1.0655","v":{"v":969530.4149999999,"d":"969,530"}}]
["7인",{"$f":"'3.소득기준금액계산'!J97","v":{"v":11995000,"d":"11,995,000"}},{"$f":"VLOOKUP($G384,'2.사업팀제공'!$A:$D,2,FALSE)","v":{"v":412280,"d":"412,280"}},{"$f":"VLOOKUP($G384,'2.사업팀제공'!$A:$D,3,FALSE)","v":{"v":388559,"d":"388,559"}},{"$f":"VLOOKUP($G384,'2.사업팀제공'!$A:$D,4,FALSE)","v":{"v":909930,"d":"909,930"}},null,{"$f":"MIN(IF('2.사업팀제공'!$A$6:$A$205>='1.사업팀제공'!B384:B384,'2.사업팀제공'!$A$6:$A$205,\"\"))","v":{"v":13765603,"d":"13,765,603"}}]
[null,null,{"$f":"C384*1.0655","v":{"v":439284.33999999997,"d":"439,284"}},{"$f":"D384*1.0655","v":{"v":414009.61449999997,"d":"414,010"}},{"$f":"E384*1.0655","v":{"v":969530.4149999999,"d":"969,530"}}]
["8인",{"$f":"'3.소득기준금액계산'!K97","v":{"v":12447000,"d":"12,447,000"}},{"$f":"VLOOKUP($G386,'2.사업팀제공'!$A:$D,2,FALSE)","v":{"v":412280,"d":"412,280"}},{"$f":"VLOOKUP($G386,'2.사업팀제공'!$A:$D,3,FALSE)","v":{"v":388559,"d":"388,559"}},{"$f":"VLOOKUP($G386,'2.사업팀제공'!$A:$D,4,FALSE)","v":{"v":909930,"d":"909,930"}},null,{"$f":"MIN(IF('2.사업팀제공'!$A$6:$A$205>='1.사업팀제공'!B386:B386,'2.사업팀제공'!$A$6:$A$205,\"\"))","v":{"v":13765603,"d":"13,765,603"}}]
[null,null,{"$f":"C386*1.0655","v":{"v":439284.33999999997,"d":"439,284"}},{"$f":"D386*1.0655","v":{"v":414009.61449999997,"d":"414,010"}},{"$f":"E386*1.0655","v":{"v":969530.4149999999,"d":"969,530"}}]
["9인",{"$f":"'3.소득기준금액계산'!L97","v":{"v":12900000,"d":"12,900,000"}},{"$f":"VLOOKUP($G388,'2.사업팀제공'!$A:$D,2,FALSE)","v":{"v":412280,"d":"412,280"}},{"$f":"VLOOKUP($G388,'2.사업팀제공'!$A:$D,3,FALSE)","v":{"v":388559,"d":"388,559"}},{"$f":"VLOOKUP($G388,'2.사업팀제공'!$A:$D,4,FALSE)","v":{"v":909930,"d":"909,930"}},null,{"$f":"MIN(IF('2.사업팀제공'!$A$6:$A$205>='1.사업팀제공'!B388:B388,'2.사업팀제공'!$A$6:$A$205,\"\"))","v":{"v":13765603,"d":"13,765,603"}}]
[null,null,{"$f":"C388*1.0655","v":{"v":439284.33999999997,"d":"439,284"}},{"$f":"D388*1.0655","v":{"v":414009.61449999997,"d":"414,010"}},{"$f":"E388*1.0655","v":{"v":969530.4149999999,"d":"969,530"}}]
["10인",{"$f":"'3.소득기준금액계산'!M97","v":{"v":13352000,"d":"13,352,000"}},{"$f":"VLOOKUP($G390,'2.사업팀제공'!$A:$D,2,FALSE)","v":{"v":412280,"d":"412,280"}},{"$f":"VLOOKUP($G390,'2.사업팀제공'!$A:$D,3,FALSE)","v":{"v":388559,"d":"388,559"}},{"$f":"VLOOKUP($G390,'2.사업팀제공'!$A:$D,4,FALSE)","v":{"v":909930,"d":"909,930"}},null,{"$f":"MIN(IF('2.사업팀제공'!$A$6:$A$205>='1.사업팀제공'!B390:B390,'2.사업팀제공'!$A$6:$A$205,\"\"))","v":{"v":13765603,"d":"13,765,603"}}]
[null,null,{"$f":"C390*1.0655","v":{"v":439284.33999999997,"d":"439,284"}},{"$f":"D390*1.0655","v":{"v":414009.61449999997,"d":"414,010"}},{"$f":"E390*1.0655","v":{"v":969530.4149999999,"d":"969,530"}}]
[]
[]
[]
[]
["2014년도 기준(최저생계비 100%)"]
[]
["가구원수","소득기준","건강보험료 본인부담금",{"$nulls":3},"소득액(원)"]
[null,null,"직장가입자","지역가입자","혼합"]
["1인",{"$f":"'3.소득기준금액계산'!D103","v":{"v":603403,"d":"603,403"}},{"$f":"VLOOKUP($G400,'2.사업팀제공'!$A:$D,2,FALSE)","v":{"v":19698,"d":"19,698"}},{"$f":"VLOOKUP($G400,'2.사업팀제공'!$A:$D,3,FALSE)","v":{"v":3080,"d":"3,080"}},{"$f":"VLOOKUP($G400,'2.사업팀제공'!$A:$D,4,FALSE)","v":{"v":20972,"d":"20,972"}},null,{"$f":"MIN(IF('2.사업팀제공'!$A$6:$A$205>='1.사업팀제공'!B400:B400,'2.사업팀제공'!$A$6:$A$205,\"\"))","v":{"v":657701,"d":"657,701"}}]
[null,null,{"$f":"C400*1.0655","v":{"v":20988.218999999997,"d":"20,988"}},{"$f":"D400*1.0655","v":{"v":3281.74,"d":"3,282"}},{"$f":"E400*1.0655","v":{"v":22345.665999999997,"d":"22,346"}}]
["2인",{"$f":"'3.소득기준금액계산'!E103","v":{"v":1027417,"d":"1,027,417"}},{"$f":"VLOOKUP($G402,'2.사업팀제공'!$A:$D,2,FALSE)","v":{"v":31054,"d":"31,054"}},{"$f":"VLOOKUP($G402,'2.사업팀제공'!$A:$D,3,FALSE)","v":{"v":11940,"d":"11,940"}},{"$f":"VLOOKUP($G402,'2.사업팀제공'!$A:$D,4,FALSE)","v":{"v":31445,"d":"31,445"}},null,{"$f":"MIN(IF('2.사업팀제공'!$A$6:$A$205>='1.사업팀제공'!B402:B402,'2.사업팀제공'!$A$6:$A$205,\"\"))","v":{"v":1036849,"d":"1,036,849"}}]
[null,null,{"$f":"C402*1.0655","v":{"v":33088.037,"d":"33,088"}},{"$f":"D402*1.0655","v":{"v":12722.069999999998,"d":"12,722"}},{"$f":"E402*1.0655","v":{"v":33504.6475,"d":"33,505"}}]
["3인",{"$f":"'3.소득기준금액계산'!F103","v":{"v":1329118,"d":"1,329,118"}},{"$f":"VLOOKUP($G404,'2.사업팀제공'!$A:$D,2,FALSE)","v":{"v":40244,"d":"40,244"}},{"$f":"VLOOKUP($G404,'2.사업팀제공'!$A:$D,3,FALSE)","v":{"v":20861,"d":"20,861"}},{"$f":"VLOOKUP($G404,'2.사업팀제공'!$A:$D,4,FALSE)","v":{"v":40705,"d":"40,705"}},null,{"$f":"MIN(IF('2.사업팀제공'!$A$6:$A$205>='1.사업팀제공'!B404:B404,'2.사업팀제공'!$A$6:$A$205,\"\"))","v":{"v":1343708,"d":"1,343,708"}}]
[null,null,{"$f":"C404*1.0655","v":{"v":42879.981999999996,"d":"42,880"}},{"$f":"D404*1.0655","v":{"v":22227.3955,"d":"22,227"}},{"$f":"E404*1.0655","v":{"v":43371.1775,"d":"43,371"}}]
["4인",{"$f":"'3.소득기준금액계산'!G103","v":{"v":1630820,"d":"1,630,820"}},{"$f":"VLOOKUP($G406,'2.사업팀제공'!$A:$D,2,FALSE)","v":{"v":49237,"d":"49,237"}},{"$f":"VLOOKUP($G406,'2.사업팀제공'!$A:$D,3,FALSE)","v":{"v":32573,"d":"32,573"}},{"$f":"VLOOKUP($G406,'2.사업팀제공'!$A:$D,4,FALSE)","v":{"v":49716,"d":"49,716"}},null,{"$f":"MIN(IF('2.사업팀제공'!$A$6:$A$205>='1.사업팀제공'!B406:B406,'2.사업팀제공'!$A$6:$A$205,\"\"))","v":{"v":1643981,"d":"1,643,981"}}]
[null,null,{"$f":"C406*1.0655","v":{"v":52462.023499999996,"d":"52,462"}},{"$f":"D406*1.0655","v":{"v":34706.5315,"d":"34,707"}},{"$f":"E406*1.0655","v":{"v":52972.397999999994,"d":"52,972"}}]
["5인",{"$f":"'3.소득기준금액계산'!H103","v":{"v":1932522,"d":"1,932,522"}},{"$f":"VLOOKUP($G408,'2.사업팀제공'!$A:$D,2,FALSE)","v":{"v":58590,"d":"58,590"}},{"$f":"VLOOKUP($G408,'2.사업팀제공'!$A:$D,3,FALSE)","v":{"v":47492,"d":"47,492"}},{"$f":"VLOOKUP($G408,'2.사업팀제공'!$A:$D,4,FALSE)","v":{"v":59375,"d":"59,375"}},null,{"$f":"MIN(IF('2.사업팀제공'!$A$6:$A$205>='1.사업팀제공'!B408:B408,'2.사업팀제공'!$A$6:$A$205,\"\"))","v":{"v":1956276,"d":"1,956,276"}}]
[null,null,{"$f":"C408*1.0655","v":{"v":62427.645,"d":"62,428"}},{"$f":"D408*1.0655","v":{"v":50602.725999999995,"d":"50,603"}},{"$f":"E408*1.0655","v":{"v":63264.06249999999,"d":"63,264"}}]
["6인",{"$f":"'3.소득기준금액계산'!I103","v":{"v":2234223,"d":"2,234,223"}},{"$f":"VLOOKUP($G410,'2.사업팀제공'!$A:$D,2,FALSE)","v":{"v":67360,"d":"67,360"}},{"$f":"VLOOKUP($G410,'2.사업팀제공'!$A:$D,3,FALSE)","v":{"v":63038,"d":"63,038"}},{"$f":"VLOOKUP($G410,'2.사업팀제공'!$A:$D,4,FALSE)","v":{"v":68222,"d":"68,222"}},null,{"$f":"MIN(IF('2.사업팀제공'!$A$6:$A$205>='1.사업팀제공'!B410:B410,'2.사업팀제공'!$A$6:$A$205,\"\"))","v":{"v":2249084,"d":"2,249,084"}}]
[null,null,{"$f":"C410*1.0655","v":{"v":71772.07999999999,"d":"71,772"}},{"$f":"D410*1.0655","v":{"v":67166.98899999999,"d":"67,167"}},{"$f":"E410*1.0655","v":{"v":72690.541,"d":"72,691"}}]
["7인",{"$f":"'3.소득기준금액계산'!J103","v":{"v":2535925,"d":"2,535,925"}},{"$f":"VLOOKUP($G412,'2.사업팀제공'!$A:$D,2,FALSE)","v":{"v":76909,"d":"76,909"}},{"$f":"VLOOKUP($G412,'2.사업팀제공'!$A:$D,3,FALSE)","v":{"v":78386,"d":"78,386"}},{"$f":"VLOOKUP($G412,'2.사업팀제공'!$A:$D,4,FALSE)","v":{"v":77771,"d":"77,771"}},null,{"$f":"MIN(IF('2.사업팀제공'!$A$6:$A$205>='1.사업팀제공'!B412:B412,'2.사업팀제공'!$A$6:$A$205,\"\"))","v":{"v":2567920,"d":"2,567,920"}}]
[null,null,{"$f":"C412*1.0655","v":{"v":81946.53949999998,"d":"81,947"}},{"$f":"D412*1.0655","v":{"v":83520.283,"d":"83,520"}},{"$f":"E412*1.0655","v":{"v":82865.0005,"d":"82,865"}}]
["8인",{"$f":"'3.소득기준금액계산'!K103","v":{"v":2837627,"d":"2,837,627"}},{"$f":"VLOOKUP($G414,'2.사업팀제공'!$A:$D,2,FALSE)","v":{"v":85798,"d":"85,798"}},{"$f":"VLOOKUP($G414,'2.사업팀제공'!$A:$D,3,FALSE)","v":{"v":90364,"d":"90,364"}},{"$f":"VLOOKUP($G414,'2.사업팀제공'!$A:$D,4,FALSE)","v":{"v":86772,"d":"86,772"}},null,{"$f":"MIN(IF('2.사업팀제공'!$A$6:$A$205>='1.사업팀제공'!B414:B414,'2.사업팀제공'!$A$6:$A$205,\"\"))","v":{"v":2864721,"d":"2,864,721"}}]
[null,null,{"$f":"C414*1.0655","v":{"v":91417.76899999999,"d":"91,418"}},{"$f":"D414*1.0655","v":{"v":96282.84199999999,"d":"96,283"}},{"$f":"E414*1.0655","v":{"v":92455.56599999999,"d":"92,456"}}]
["9인",{"$f":"'3.소득기준금액계산'!L103","v":{"v":3139329,"d":"3,139,329"}},{"$f":"VLOOKUP($G416,'2.사업팀제공'!$A:$D,2,FALSE)","v":{"v":94553,"d":"94,553"}},{"$f":"VLOOKUP($G416,'2.사업팀제공'!$A:$D,3,FALSE)","v":{"v":103561,"d":"103,561"}},{"$f":"VLOOKUP($G416,'2.사업팀제공'!$A:$D,4,FALSE)","v":{"v":95661,"d":"95,661"}},null,{"$f":"MIN(IF('2.사업팀제공'!$A$6:$A$205>='1.사업팀제공'!B416:B416,'2.사업팀제공'!$A$6:$A$205,\"\"))","v":{"v":3157015,"d":"3,157,015"}}]
[null,null,{"$f":"C416*1.0655","v":{"v":100746.22149999999,"d":"100,746"}},{"$f":"D416*1.0655","v":{"v":110344.24549999999,"d":"110,344"}},{"$f":"E416*1.0655","v":{"v":101926.7955,"d":"101,927"}}]
["10인",{"$f":"'3.소득기준금액계산'!M103","v":{"v":3441031,"d":"3,441,031"}},{"$f":"VLOOKUP($G418,'2.사업팀제공'!$A:$D,2,FALSE)","v":{"v":103972,"d":"103,972"}},{"$f":"VLOOKUP($G418,'2.사업팀제공'!$A:$D,3,FALSE)","v":{"v":116683,"d":"116,683"}},{"$f":"VLOOKUP($G418,'2.사업팀제공'!$A:$D,4,FALSE)","v":{"v":105033,"d":"105,033"}},null,{"$f":"MIN(IF('2.사업팀제공'!$A$6:$A$205>='1.사업팀제공'!B418:B418,'2.사업팀제공'!$A$6:$A$205,\"\"))","v":{"v":3471528,"d":"3,471,528"}}]
[null,null,{"$f":"C418*1.0655","v":{"v":110782.16599999998,"d":"110,782"}},{"$f":"D418*1.0655","v":{"v":124325.73649999998,"d":"124,326"}},{"$f":"E418*1.0655","v":{"v":111912.66149999999,"d":"111,913"}}]
[]
[]
[]
["2014년도 기준(최저생계비 110%)"]
[]
["가구원수","소득기준","건강보험료 본인부담금",{"$nulls":3},"소득액(원)"]
[null,null,"직장가입자","지역가입자","혼합"]
["1인",{"$f":"'3.소득기준금액계산'!D108","v":{"v":664000,"d":"664,000"}},{"$f":"VLOOKUP($G427,'2.사업팀제공'!$A:$D,2,FALSE)","v":{"v":20972,"d":"20,972"}},{"$f":"VLOOKUP($G427,'2.사업팀제공'!$A:$D,3,FALSE)","v":{"v":3509,"d":"3,509"}},{"$f":"VLOOKUP($G427,'2.사업팀제공'!$A:$D,4,FALSE)","v":{"v":22041,"d":"22,041"}},null,{"$f":"MIN(IF('2.사업팀제공'!$A$6:$A$205>='1.사업팀제공'!B427:B427,'2.사업팀제공'!$A$6:$A$205,\"\"))","v":{"v":700225,"d":"700,225"}}]
[null,null,{"$f":"C427*1.0655","v":{"v":22345.665999999997,"d":"22,346"}},{"$f":"D427*1.0655","v":{"v":3738.8394999999996,"d":"3,739"}},{"$f":"E427*1.0655","v":{"v":23484.685499999996,"d":"23,485"}}]
["2인",{"$f":"'3.소득기준금액계산'!E108","v":{"v":1130000,"d":"1,130,000"}},{"$f":"VLOOKUP($G429,'2.사업팀제공'!$A:$D,2,FALSE)","v":{"v":34065,"d":"34,065"}},{"$f":"VLOOKUP($G429,'2.사업팀제공'!$A:$D,3,FALSE)","v":{"v":14180,"d":"14,180"}},{"$f":"VLOOKUP($G429,'2.사업팀제공'!$A:$D,4,FALSE)","v":{"v":34572,"d":"34,572"}},null,{"$f":"MIN(IF('2.사업팀제공'!$A$6:$A$205>='1.사업팀제공'!B429:B429,'2.사업팀제공'!$A$6:$A$205,\"\"))","v":{"v":1137381,"d":"1,137,381"}}]
[null,null,{"$f":"C429*1.0655","v":{"v":36296.2575,"d":"36,296"}},{"$f":"D429*1.0655","v":{"v":15108.789999999999,"d":"15,109"}},{"$f":"E429*1.0655","v":{"v":36836.46599999999,"d":"36,836"}}]
["3인",{"$f":"'3.소득기준금액계산'!F108","v":{"v":1462000,"d":"1,462,000"}},{"$f":"VLOOKUP($G431,'2.사업팀제공'!$A:$D,2,FALSE)","v":{"v":44196,"d":"44,196"}},{"$f":"VLOOKUP($G431,'2.사업팀제공'!$A:$D,3,FALSE)","v":{"v":25248,"d":"25,248"}},{"$f":"VLOOKUP($G431,'2.사업팀제공'!$A:$D,4,FALSE)","v":{"v":44821,"d":"44,821"}},null,{"$f":"MIN(IF('2.사업팀제공'!$A$6:$A$205>='1.사업팀제공'!B431:B431,'2.사업팀제공'!$A$6:$A$205,\"\"))","v":{"v":1475672,"d":"1,475,672"}}]
[null,null,{"$f":"C431*1.0655","v":{"v":47090.837999999996,"d":"47,091"}},{"$f":"D431*1.0655","v":{"v":26901.744,"d":"26,902"}},{"$f":"E431*1.0655","v":{"v":47756.775499999996,"d":"47,757"}}]
["4인",{"$f":"'3.소득기준금액계산'!G108","v":{"v":1794000,"d":"1,794,000"}},{"$f":"VLOOKUP($G433,'2.사업팀제공'!$A:$D,2,FALSE)","v":{"v":53871,"d":"53,871"}},{"$f":"VLOOKUP($G433,'2.사업팀제공'!$A:$D,3,FALSE)","v":{"v":39647,"d":"39,647"}},{"$f":"VLOOKUP($G433,'2.사업팀제공'!$A:$D,4,FALSE)","v":{"v":53919,"d":"53,919"}},null,{"$f":"MIN(IF('2.사업팀제공'!$A$6:$A$205>='1.사업팀제공'!B433:B433,'2.사업팀제공'!$A$6:$A$205,\"\"))","v":{"v":1798687,"d":"1,798,687"}}]
[null,null,{"$f":"C433*1.0655","v":{"v":57399.5505,"d":"57,400"}},{"$f":"D433*1.0655","v":{"v":42243.8785,"d":"42,244"}},{"$f":"E433*1.0655","v":{"v":57450.6945,"d":"57,451"}}]
["5인",{"$f":"'3.소득기준금액계산'!H108","v":{"v":2126000,"d":"2,126,000"}},{"$f":"VLOOKUP($G435,'2.사업팀제공'!$A:$D,2,FALSE)","v":{"v":64087,"d":"64,087"}},{"$f":"VLOOKUP($G435,'2.사업팀제공'!$A:$D,3,FALSE)","v":{"v":57308,"d":"57,308"}},{"$f":"VLOOKUP($G435,'2.사업팀제공'!$A:$D,4,FALSE)","v":{"v":64818,"d":"64,818"}},null,{"$f":"MIN(IF('2.사업팀제공'!$A$6:$A$205>='1.사업팀제공'!B435:B435,'2.사업팀제공'!$A$6:$A$205,\"\"))","v":{"v":2139783,"d":"2,139,783"}}]
[null,null,{"$f":"C435*1.0655","v":{"v":68284.6985,"d":"68,285"}},{"$f":"D435*1.0655","v":{"v":61061.67399999999,"d":"61,062"}},{"$f":"E435*1.0655","v":{"v":69063.579,"d":"69,064"}}]
["6인",{"$f":"'3.소득기준금액계산'!I108","v":{"v":2458000,"d":"2,458,000"}},{"$f":"VLOOKUP($G437,'2.사업팀제공'!$A:$D,2,FALSE)","v":{"v":74266,"d":"74,266"}},{"$f":"VLOOKUP($G437,'2.사업팀제공'!$A:$D,3,FALSE)","v":{"v":73837,"d":"73,837"}},{"$f":"VLOOKUP($G437,'2.사업팀제공'!$A:$D,4,FALSE)","v":{"v":74871,"d":"74,871"}},null,{"$f":"MIN(IF('2.사업팀제공'!$A$6:$A$205>='1.사업팀제공'!B437:B437,'2.사업팀제공'!$A$6:$A$205,\"\"))","v":{"v":2479675,"d":"2,479,675"}}]
[null,null,{"$f":"C437*1.0655","v":{"v":79130.423,"d":"79,130"}},{"$f":"D437*1.0655","v":{"v":78673.3235,"d":"78,673"}},{"$f":"E437*1.0655","v":{"v":79775.0505,"d":"79,775"}}]
["7인",{"$f":"'3.소득기준금액계산'!J108","v":{"v":2790000,"d":"2,790,000"}},{"$f":"VLOOKUP($G439,'2.사업팀제공'!$A:$D,2,FALSE)","v":{"v":83867,"d":"83,867"}},{"$f":"VLOOKUP($G439,'2.사업팀제공'!$A:$D,3,FALSE)","v":{"v":87592,"d":"87,592"}},{"$f":"VLOOKUP($G439,'2.사업팀제공'!$A:$D,4,FALSE)","v":{"v":84748,"d":"84,748"}},null,{"$f":"MIN(IF('2.사업팀제공'!$A$6:$A$205>='1.사업팀제공'!B439:B439,'2.사업팀제공'!$A$6:$A$205,\"\"))","v":{"v":2800245,"d":"2,800,245"}}]
[null,null,{"$f":"C439*1.0655","v":{"v":89360.2885,"d":"89,360"}},{"$f":"D439*1.0655","v":{"v":93329.27599999998,"d":"93,329"}},{"$f":"E439*1.0655","v":{"v":90298.99399999999,"d":"90,299"}}]
["8인",{"$f":"'3.소득기준금액계산'!K108","v":{"v":3121000,"d":"3,121,000"}},{"$f":"VLOOKUP($G441,'2.사업팀제공'!$A:$D,2,FALSE)","v":{"v":94553,"d":"94,553"}},{"$f":"VLOOKUP($G441,'2.사업팀제공'!$A:$D,3,FALSE)","v":{"v":103561,"d":"103,561"}},{"$f":"VLOOKUP($G441,'2.사업팀제공'!$A:$D,4,FALSE)","v":{"v":95661,"d":"95,661"}},null,{"$f":"MIN(IF('2.사업팀제공'!$A$6:$A$205>='1.사업팀제공'!B441:B441,'2.사업팀제공'!$A$6:$A$205,\"\"))","v":{"v":3157015,"d":"3,157,015"}}]
[null,null,{"$f":"C441*1.0655","v":{"v":100746.22149999999,"d":"100,746"}},{"$f":"D441*1.0655","v":{"v":110344.24549999999,"d":"110,344"}},{"$f":"E441*1.0655","v":{"v":101926.7955,"d":"101,927"}}]
["9인",{"$f":"'3.소득기준금액계산'!L108","v":{"v":3453000,"d":"3,453,000"}},{"$f":"VLOOKUP($G443,'2.사업팀제공'!$A:$D,2,FALSE)","v":{"v":103972,"d":"103,972"}},{"$f":"VLOOKUP($G443,'2.사업팀제공'!$A:$D,3,FALSE)","v":{"v":116683,"d":"116,683"}},{"$f":"VLOOKUP($G443,'2.사업팀제공'!$A:$D,4,FALSE)","v":{"v":105033,"d":"105,033"}},null,{"$f":"MIN(IF('2.사업팀제공'!$A$6:$A$205>='1.사업팀제공'!B443:B443,'2.사업팀제공'!$A$6:$A$205,\"\"))","v":{"v":3471528,"d":"3,471,528"}}]
[null,null,{"$f":"C443*1.0655","v":{"v":110782.16599999998,"d":"110,782"}},{"$f":"D443*1.0655","v":{"v":124325.73649999998,"d":"124,326"}},{"$f":"E443*1.0655","v":{"v":111912.66149999999,"d":"111,913"}}]
["10인",{"$f":"'3.소득기준금액계산'!M108","v":{"v":3785000,"d":"3,785,000"}},{"$f":"VLOOKUP($G445,'2.사업팀제공'!$A:$D,2,FALSE)","v":{"v":113548,"d":"113,548"}},{"$f":"VLOOKUP($G445,'2.사업팀제공'!$A:$D,3,FALSE)","v":{"v":129345,"d":"129,345"}},{"$f":"VLOOKUP($G445,'2.사업팀제공'!$A:$D,4,FALSE)","v":{"v":115131,"d":"115,131"}},null,{"$f":"MIN(IF('2.사업팀제공'!$A$6:$A$205>='1.사업팀제공'!B445:B445,'2.사업팀제공'!$A$6:$A$205,\"\"))","v":{"v":3791237,"d":"3,791,237"}}]
[null,null,{"$f":"C445*1.0655","v":{"v":120985.39399999999,"d":"120,985"}},{"$f":"D445*1.0655","v":{"v":137817.09749999997,"d":"137,817"}},{"$f":"E445*1.0655","v":{"v":122672.08049999998,"d":"122,672"}}]
[]
[]
[]
["2014년도 기준(최저생계비 120%)"]
[]
["가구원수","소득기준","건강보험료 본인부담금",{"$nulls":3},"소득액(원)"]
[null,null,"직장가입자","지역가입자","혼합"]
["1인",{"$f":"'3.소득기준금액계산'!D113","v":{"v":724000,"d":"724,000"}},{"$f":"VLOOKUP($G454,'2.사업팀제공'!$A:$D,2,FALSE)","v":{"v":22041,"d":"22,041"}},{"$f":"VLOOKUP($G454,'2.사업팀제공'!$A:$D,3,FALSE)","v":{"v":3509,"d":"3,509"}},{"$f":"VLOOKUP($G454,'2.사업팀제공'!$A:$D,4,FALSE)","v":{"v":23463,"d":"23,463"}},null,{"$f":"MIN(IF('2.사업팀제공'!$A$6:$A$205>='1.사업팀제공'!B454:B454,'2.사업팀제공'!$A$6:$A$205,\"\"))","v":{"v":735910,"d":"735,910"}}]
[null,null,{"$f":"C454*1.0655","v":{"v":23484.685499999996,"d":"23,485"}},{"$f":"D454*1.0655","v":{"v":3738.8394999999996,"d":"3,739"}},{"$f":"E454*1.0655","v":{"v":24999.8265,"d":"25,000"}}]
["2인",{"$f":"'3.소득기준금액계산'!E113","v":{"v":1233000,"d":"1,233,000"}},{"$f":"VLOOKUP($G456,'2.사업팀제공'!$A:$D,2,FALSE)","v":{"v":36947,"d":"36,947"}},{"$f":"VLOOKUP($G456,'2.사업팀제공'!$A:$D,3,FALSE)","v":{"v":18082,"d":"18,082"}},{"$f":"VLOOKUP($G456,'2.사업팀제공'!$A:$D,4,FALSE)","v":{"v":37432,"d":"37,432"}},null,{"$f":"MIN(IF('2.사업팀제공'!$A$6:$A$205>='1.사업팀제공'!B456:B456,'2.사업팀제공'!$A$6:$A$205,\"\"))","v":{"v":1233638,"d":"1,233,638"}}]
[null,null,{"$f":"C456*1.0655","v":{"v":39367.02849999999,"d":"39,367"}},{"$f":"D456*1.0655","v":{"v":19266.371,"d":"19,266"}},{"$f":"E456*1.0655","v":{"v":39883.795999999995,"d":"39,884"}}]
["3인",{"$f":"'3.소득기준금액계산'!F113","v":{"v":1595000,"d":"1,595,000"}},{"$f":"VLOOKUP($G458,'2.사업팀제공'!$A:$D,2,FALSE)","v":{"v":47908,"d":"47,908"}},{"$f":"VLOOKUP($G458,'2.사업팀제공'!$A:$D,3,FALSE)","v":{"v":30823,"d":"30,823"}},{"$f":"VLOOKUP($G458,'2.사업팀제공'!$A:$D,4,FALSE)","v":{"v":47985,"d":"47,985"}},null,{"$f":"MIN(IF('2.사업팀제공'!$A$6:$A$205>='1.사업팀제공'!B458:B458,'2.사업팀제공'!$A$6:$A$205,\"\"))","v":{"v":1599605,"d":"1,599,605"}}]
[null,null,{"$f":"C458*1.0655","v":{"v":51045.973999999995,"d":"51,046"}},{"$f":"D458*1.0655","v":{"v":32841.9065,"d":"32,842"}},{"$f":"E458*1.0655","v":{"v":51128.017499999994,"d":"51,128"}}]
["4인",{"$f":"'3.소득기준금액계산'!G113","v":{"v":1957000,"d":"1,957,000"}},{"$f":"VLOOKUP($G460,'2.사업팀제공'!$A:$D,2,FALSE)","v":{"v":59375,"d":"59,375"}},{"$f":"VLOOKUP($G460,'2.사업팀제공'!$A:$D,3,FALSE)","v":{"v":48466,"d":"48,466"}},{"$f":"VLOOKUP($G460,'2.사업팀제공'!$A:$D,4,FALSE)","v":{"v":59893,"d":"59,893"}},null,{"$f":"MIN(IF('2.사업팀제공'!$A$6:$A$205>='1.사업팀제공'!B460:B460,'2.사업팀제공'!$A$6:$A$205,\"\"))","v":{"v":1982457,"d":"1,982,457"}}]
[null,null,{"$f":"C460*1.0655","v":{"v":63264.06249999999,"d":"63,264"}},{"$f":"D460*1.0655","v":{"v":51640.522999999994,"d":"51,641"}},{"$f":"E460*1.0655","v":{"v":63815.9915,"d":"63,816"}}]
["5인",{"$f":"'3.소득기준금액계산'!H113","v":{"v":2319000,"d":"2,319,000"}},{"$f":"VLOOKUP($G462,'2.사업팀제공'!$A:$D,2,FALSE)","v":{"v":70294,"d":"70,294"}},{"$f":"VLOOKUP($G462,'2.사업팀제공'!$A:$D,3,FALSE)","v":{"v":67703,"d":"67,703"}},{"$f":"VLOOKUP($G462,'2.사업팀제공'!$A:$D,4,FALSE)","v":{"v":71188,"d":"71,188"}},null,{"$f":"MIN(IF('2.사업팀제공'!$A$6:$A$205>='1.사업팀제공'!B462:B462,'2.사업팀제공'!$A$6:$A$205,\"\"))","v":{"v":2347059,"d":"2,347,059"}}]
[null,null,{"$f":"C462*1.0655","v":{"v":74898.257,"d":"74,898"}},{"$f":"D462*1.0655","v":{"v":72137.5465,"d":"72,138"}},{"$f":"E462*1.0655","v":{"v":75850.814,"d":"75,851"}}]
["6인",{"$f":"'3.소득기준금액계산'!I113","v":{"v":2681000,"d":"2,681,000"}},{"$f":"VLOOKUP($G464,'2.사업팀제공'!$A:$D,2,FALSE)","v":{"v":80509,"d":"80,509"}},{"$f":"VLOOKUP($G464,'2.사업팀제공'!$A:$D,3,FALSE)","v":{"v":82656,"d":"82,656"}},{"$f":"VLOOKUP($G464,'2.사업팀제공'!$A:$D,4,FALSE)","v":{"v":81067,"d":"81,067"}},null,{"$f":"MIN(IF('2.사업팀제공'!$A$6:$A$205>='1.사업팀제공'!B464:B464,'2.사업팀제공'!$A$6:$A$205,\"\"))","v":{"v":2688097,"d":"2,688,097"}}]
[null,null,{"$f":"C464*1.0655","v":{"v":85782.33949999999,"d":"85,782"}},{"$f":"D464*1.0655","v":{"v":88069.968,"d":"88,070"}},{"$f":"E464*1.0655","v":{"v":86376.88849999999,"d":"86,377"}}]
["7인",{"$f":"'3.소득기준금액계산'!J113","v":{"v":3043000,"d":"3,043,000"}},{"$f":"VLOOKUP($G466,'2.사업팀제공'!$A:$D,2,FALSE)","v":{"v":91149,"d":"91,149"}},{"$f":"VLOOKUP($G466,'2.사업팀제공'!$A:$D,3,FALSE)","v":{"v":99031,"d":"99,031"}},{"$f":"VLOOKUP($G466,'2.사업팀제공'!$A:$D,4,FALSE)","v":{"v":92298,"d":"92,298"}},null,{"$f":"MIN(IF('2.사업팀제공'!$A$6:$A$205>='1.사업팀제공'!B466:B466,'2.사업팀제공'!$A$6:$A$205,\"\"))","v":{"v":3043368,"d":"3,043,368"}}]
[null,null,{"$f":"C466*1.0655","v":{"v":97119.25949999999,"d":"97,119"}},{"$f":"D466*1.0655","v":{"v":105517.5305,"d":"105,518"}},{"$f":"E466*1.0655","v":{"v":98343.51899999999,"d":"98,344"}}]
["8인",{"$f":"'3.소득기준금액계산'!K113","v":{"v":3405000,"d":"3,405,000"}},{"$f":"VLOOKUP($G468,'2.사업팀제공'!$A:$D,2,FALSE)","v":{"v":102607,"d":"102,607"}},{"$f":"VLOOKUP($G468,'2.사업팀제공'!$A:$D,3,FALSE)","v":{"v":114979,"d":"114,979"}},{"$f":"VLOOKUP($G468,'2.사업팀제공'!$A:$D,4,FALSE)","v":{"v":103972,"d":"103,972"}},null,{"$f":"MIN(IF('2.사업팀제공'!$A$6:$A$205>='1.사업팀제공'!B468:B468,'2.사업팀제공'!$A$6:$A$205,\"\"))","v":{"v":3425959,"d":"3,425,959"}}]
[null,null,{"$f":"C468*1.0655","v":{"v":109327.75849999998,"d":"109,328"}},{"$f":"D468*1.0655","v":{"v":122510.12449999999,"d":"122,510"}},{"$f":"E468*1.0655","v":{"v":110782.16599999998,"d":"110,782"}}]
["9인",{"$f":"'3.소득기준금액계산'!L113","v":{"v":3767000,"d":"3,767,000"}},{"$f":"VLOOKUP($G470,'2.사업팀제공'!$A:$D,2,FALSE)","v":{"v":113548,"d":"113,548"}},{"$f":"VLOOKUP($G470,'2.사업팀제공'!$A:$D,3,FALSE)","v":{"v":129345,"d":"129,345"}},{"$f":"VLOOKUP($G470,'2.사업팀제공'!$A:$D,4,FALSE)","v":{"v":115131,"d":"115,131"}},null,{"$f":"MIN(IF('2.사업팀제공'!$A$6:$A$205>='1.사업팀제공'!B470:B470,'2.사업팀제공'!$A$6:$A$205,\"\"))","v":{"v":3791237,"d":"3,791,237"}}]
[null,null,{"$f":"C470*1.0655","v":{"v":120985.39399999999,"d":"120,985"}},{"$f":"D470*1.0655","v":{"v":137817.09749999997,"d":"137,817"}},{"$f":"E470*1.0655","v":{"v":122672.08049999998,"d":"122,672"}}]
["10인",{"$f":"'3.소득기준금액계산'!M113","v":{"v":4129000,"d":"4,129,000"}},{"$f":"VLOOKUP($G472,'2.사업팀제공'!$A:$D,2,FALSE)","v":{"v":124988,"d":"124,988"}},{"$f":"VLOOKUP($G472,'2.사업팀제공'!$A:$D,3,FALSE)","v":{"v":142640,"d":"142,640"}},{"$f":"VLOOKUP($G472,'2.사업팀제공'!$A:$D,4,FALSE)","v":{"v":126757,"d":"126,757"}},null,{"$f":"MIN(IF('2.사업팀제공'!$A$6:$A$205>='1.사업팀제공'!B472:B472,'2.사업팀제공'!$A$6:$A$205,\"\"))","v":{"v":4173210,"d":"4,173,210"}}]
[null,null,{"$f":"C472*1.0655","v":{"v":133174.71399999998,"d":"133,175"}},{"$f":"D472*1.0655","v":{"v":151982.91999999998,"d":"151,983"}},{"$f":"E472*1.0655","v":{"v":135059.58349999998,"d":"135,060"}}]
[]
[]
[]
[]
["2014년도 기준(최저생계비 130%)"]
[]
["가구원수","소득기준","건강보험료 본인부담금",{"$nulls":3},"소득액(원)"]
[null,null,"직장가입자","지역가입자","혼합"]
["1인",{"$f":"'3.소득기준금액계산'!D118","v":{"v":784000,"d":"784,000"}},{"$f":"VLOOKUP($G482,'2.사업팀제공'!$A:$D,2,FALSE)","v":{"v":23960,"d":"23,960"}},{"$f":"VLOOKUP($G482,'2.사업팀제공'!$A:$D,3,FALSE)","v":{"v":4496,"d":"4,496"}},{"$f":"VLOOKUP($G482,'2.사업팀제공'!$A:$D,4,FALSE)","v":{"v":24620,"d":"24,620"}},null,{"$f":"MIN(IF('2.사업팀제공'!$A$6:$A$205>='1.사업팀제공'!B482:B482,'2.사업팀제공'!$A$6:$A$205,\"\"))","v":{"v":800000,"d":"800,000"}}]
[null,null,{"$f":"C482*1.0655","v":{"v":25529.379999999997,"d":"25,529"}},{"$f":"D482*1.0655","v":{"v":4790.487999999999,"d":"4,790"}},{"$f":"E482*1.0655","v":{"v":26232.609999999997,"d":"26,233"}}]
["2인",{"$f":"'3.소득기준금액계산'!E118","v":{"v":1336000,"d":"1,336,000"}},{"$f":"VLOOKUP($G484,'2.사업팀제공'!$A:$D,2,FALSE)","v":{"v":40244,"d":"40,244"}},{"$f":"VLOOKUP($G484,'2.사업팀제공'!$A:$D,3,FALSE)","v":{"v":20861,"d":"20,861"}},{"$f":"VLOOKUP($G484,'2.사업팀제공'!$A:$D,4,FALSE)","v":{"v":40705,"d":"40,705"}},null,{"$f":"MIN(IF('2.사업팀제공'!$A$6:$A$205>='1.사업팀제공'!B484:B484,'2.사업팀제공'!$A$6:$A$205,\"\"))","v":{"v":1343708,"d":"1,343,708"}}]
[null,null,{"$f":"C484*1.0655","v":{"v":42879.981999999996,"d":"42,880"}},{"$f":"D484*1.0655","v":{"v":22227.3955,"d":"22,227"}},{"$f":"E484*1.0655","v":{"v":43371.1775,"d":"43,371"}}]
["3인",{"$f":"'3.소득기준금액계산'!F118","v":{"v":1728000,"d":"1,728,000"}},{"$f":"VLOOKUP($G486,'2.사업팀제공'!$A:$D,2,FALSE)","v":{"v":52041,"d":"52,041"}},{"$f":"VLOOKUP($G486,'2.사업팀제공'!$A:$D,3,FALSE)","v":{"v":37208,"d":"37,208"}},{"$f":"VLOOKUP($G486,'2.사업팀제공'!$A:$D,4,FALSE)","v":{"v":52563,"d":"52,563"}},null,{"$f":"MIN(IF('2.사업팀제공'!$A$6:$A$205>='1.사업팀제공'!B486:B486,'2.사업팀제공'!$A$6:$A$205,\"\"))","v":{"v":1737596,"d":"1,737,596"}}]
[null,null,{"$f":"C486*1.0655","v":{"v":55449.68549999999,"d":"55,450"}},{"$f":"D486*1.0655","v":{"v":39645.123999999996,"d":"39,645"}},{"$f":"E486*1.0655","v":{"v":56005.87649999999,"d":"56,006"}}]
["4인",{"$f":"'3.소득기준금액계산'!G118","v":{"v":2120000,"d":"2,120,000"}},{"$f":"VLOOKUP($G488,'2.사업팀제공'!$A:$D,2,FALSE)","v":{"v":64087,"d":"64,087"}},{"$f":"VLOOKUP($G488,'2.사업팀제공'!$A:$D,3,FALSE)","v":{"v":57308,"d":"57,308"}},{"$f":"VLOOKUP($G488,'2.사업팀제공'!$A:$D,4,FALSE)","v":{"v":64818,"d":"64,818"}},null,{"$f":"MIN(IF('2.사업팀제공'!$A$6:$A$205>='1.사업팀제공'!B488:B488,'2.사업팀제공'!$A$6:$A$205,\"\"))","v":{"v":2139783,"d":"2,139,783"}}]
[null,null,{"$f":"C488*1.0655","v":{"v":68284.6985,"d":"68,285"}},{"$f":"D488*1.0655","v":{"v":61061.67399999999,"d":"61,062"}},{"$f":"E488*1.0655","v":{"v":69063.579,"d":"69,064"}}]
["5인",{"$f":"'3.소득기준금액계산'!H118","v":{"v":2512000,"d":"2,512,000"}},{"$f":"VLOOKUP($G490,'2.사업팀제공'!$A:$D,2,FALSE)","v":{"v":75950,"d":"75,950"}},{"$f":"VLOOKUP($G490,'2.사업팀제공'!$A:$D,3,FALSE)","v":{"v":77176,"d":"77,176"}},{"$f":"VLOOKUP($G490,'2.사업팀제공'!$A:$D,4,FALSE)","v":{"v":76909,"d":"76,909"}},null,{"$f":"MIN(IF('2.사업팀제공'!$A$6:$A$205>='1.사업팀제공'!B490:B490,'2.사업팀제공'!$A$6:$A$205,\"\"))","v":{"v":2535908,"d":"2,535,908"}}]
[null,null,{"$f":"C490*1.0655","v":{"v":80924.72499999999,"d":"80,925"}},{"$f":"D490*1.0655","v":{"v":82231.02799999999,"d":"82,231"}},{"$f":"E490*1.0655","v":{"v":81946.53949999998,"d":"81,947"}}]
["6인",{"$f":"'3.소득기준금액계산'!I118","v":{"v":2904000,"d":"2,904,000"}},{"$f":"VLOOKUP($G492,'2.사업팀제공'!$A:$D,2,FALSE)","v":{"v":87604,"d":"87,604"}},{"$f":"VLOOKUP($G492,'2.사업팀제공'!$A:$D,3,FALSE)","v":{"v":93160,"d":"93,160"}},{"$f":"VLOOKUP($G492,'2.사업팀제공'!$A:$D,4,FALSE)","v":{"v":88738,"d":"88,738"}},null,{"$f":"MIN(IF('2.사업팀제공'!$A$6:$A$205>='1.사업팀제공'!B492:B492,'2.사업팀제공'!$A$6:$A$205,\"\"))","v":{"v":2925016,"d":"2,925,016"}}]
[null,null,{"$f":"C492*1.0655","v":{"v":93342.06199999999,"d":"93,342"}},{"$f":"D492*1.0655","v":{"v":99261.98,"d":"99,262"}},{"$f":"E492*1.0655","v":{"v":94550.33899999999,"d":"94,550"}}]
["7인",{"$f":"'3.소득기준금액계산'!J118","v":{"v":3297000,"d":"3,297,000"}},{"$f":"VLOOKUP($G494,'2.사업팀제공'!$A:$D,2,FALSE)","v":{"v":99038,"d":"99,038"}},{"$f":"VLOOKUP($G494,'2.사업팀제공'!$A:$D,3,FALSE)","v":{"v":109994,"d":"109,994"}},{"$f":"VLOOKUP($G494,'2.사업팀제공'!$A:$D,4,FALSE)","v":{"v":100197,"d":"100,197"}},null,{"$f":"MIN(IF('2.사업팀제공'!$A$6:$A$205>='1.사업팀제공'!B494:B494,'2.사업팀제공'!$A$6:$A$205,\"\"))","v":{"v":3306785,"d":"3,306,785"}}]
[null,null,{"$f":"C494*1.0655","v":{"v":105524.98899999999,"d":"105,525"}},{"$f":"D494*1.0655","v":{"v":117198.60699999999,"d":"117,199"}},{"$f":"E494*1.0655","v":{"v":106759.90349999999,"d":"106,760"}}]
["8인",{"$f":"'3.소득기준금액계산'!K118","v":{"v":3689000,"d":"3,689,000"}},{"$f":"VLOOKUP($G496,'2.사업팀제공'!$A:$D,2,FALSE)","v":{"v":110600,"d":"110,600"}},{"$f":"VLOOKUP($G496,'2.사업팀제공'!$A:$D,3,FALSE)","v":{"v":125628,"d":"125,628"}},{"$f":"VLOOKUP($G496,'2.사업팀제공'!$A:$D,4,FALSE)","v":{"v":112008,"d":"112,008"}},null,{"$f":"MIN(IF('2.사업팀제공'!$A$6:$A$205>='1.사업팀제공'!B496:B496,'2.사업팀제공'!$A$6:$A$205,\"\"))","v":{"v":3692830,"d":"3,692,830"}}]
[null,null,{"$f":"C496*1.0655","v":{"v":117844.29999999999,"d":"117,844"}},{"$f":"D496*1.0655","v":{"v":133856.634,"d":"133,857"}},{"$f":"E496*1.0655","v":{"v":119344.52399999999,"d":"119,345"}}]
["9인",{"$f":"'3.소득기준금액계산'!L118","v":{"v":4081000,"d":"4,081,000"}},{"$f":"VLOOKUP($G498,'2.사업팀제공'!$A:$D,2,FALSE)","v":{"v":123163,"d":"123,163"}},{"$f":"VLOOKUP($G498,'2.사업팀제공'!$A:$D,3,FALSE)","v":{"v":140653,"d":"140,653"}},{"$f":"VLOOKUP($G498,'2.사업팀제공'!$A:$D,4,FALSE)","v":{"v":124988,"d":"124,988"}},null,{"$f":"MIN(IF('2.사업팀제공'!$A$6:$A$205>='1.사업팀제공'!B498:B498,'2.사업팀제공'!$A$6:$A$205,\"\"))","v":{"v":4112280,"d":"4,112,280"}}]
[null,null,{"$f":"C498*1.0655","v":{"v":131230.17649999997,"d":"131,230"}},{"$f":"D498*1.0655","v":{"v":149865.77149999997,"d":"149,866"}},{"$f":"E498*1.0655","v":{"v":133174.71399999998,"d":"133,175"}}]
["10인",{"$f":"'3.소득기준금액계산'!M118","v":{"v":4473000,"d":"4,473,000"}},{"$f":"VLOOKUP($G500,'2.사업팀제공'!$A:$D,2,FALSE)","v":{"v":134681,"d":"134,681"}},{"$f":"VLOOKUP($G500,'2.사업팀제공'!$A:$D,3,FALSE)","v":{"v":152942,"d":"152,942"}},{"$f":"VLOOKUP($G500,'2.사업팀제공'!$A:$D,4,FALSE)","v":{"v":136813,"d":"136,813"}},null,{"$f":"MIN(IF('2.사업팀제공'!$A$6:$A$205>='1.사업팀제공'!B500:B500,'2.사업팀제공'!$A$6:$A$205,\"\"))","v":{"v":4496873,"d":"4,496,873"}}]
[null,null,{"$f":"C500*1.0655","v":{"v":143502.60549999998,"d":"143,503"}},{"$f":"D500*1.0655","v":{"v":162959.70099999997,"d":"162,960"}},{"$f":"E500*1.0655","v":{"v":145774.25149999998,"d":"145,774"}}]
[]
[]
[]
["2014년도 기준(최저생계비 140%)"]
[]
["가구원수","소득기준","건강보험료 본인부담금",{"$nulls":3},"소득액(원)"]
[null,null,"직장가입자","지역가입자","혼합"]
["1인",{"$f":"'3.소득기준금액계산'!D123","v":{"v":845000,"d":"845,000"}},{"$f":"VLOOKUP($G509,'2.사업팀제공'!$A:$D,2,FALSE)","v":{"v":25757,"d":"25,757"}},{"$f":"VLOOKUP($G509,'2.사업팀제공'!$A:$D,3,FALSE)","v":{"v":6142,"d":"6,142"}},{"$f":"VLOOKUP($G509,'2.사업팀제공'!$A:$D,4,FALSE)","v":{"v":26835,"d":"26,835"}},null,{"$f":"MIN(IF('2.사업팀제공'!$A$6:$A$205>='1.사업팀제공'!B509:B509,'2.사업팀제공'!$A$6:$A$205,\"\"))","v":{"v":859995,"d":"859,995"}}]
[null,null,{"$f":"C509*1.0655","v":{"v":27444.083499999997,"d":"27,444"}},{"$f":"D509*1.0655","v":{"v":6544.3009999999995,"d":"6,544"}},{"$f":"E509*1.0655","v":{"v":28592.692499999997,"d":"28,593"}}]
["2인",{"$f":"'3.소득기준금액계산'!E123","v":{"v":1438000,"d":"1,438,000"}},{"$f":"VLOOKUP($G511,'2.사업팀제공'!$A:$D,2,FALSE)","v":{"v":43570,"d":"43,570"}},{"$f":"VLOOKUP($G511,'2.사업팀제공'!$A:$D,3,FALSE)","v":{"v":24479,"d":"24,479"}},{"$f":"VLOOKUP($G511,'2.사업팀제공'!$A:$D,4,FALSE)","v":{"v":44196,"d":"44,196"}},null,{"$f":"MIN(IF('2.사업팀제공'!$A$6:$A$205>='1.사업팀제공'!B511:B511,'2.사업팀제공'!$A$6:$A$205,\"\"))","v":{"v":1454747,"d":"1,454,747"}}]
[null,null,{"$f":"C511*1.0655","v":{"v":46423.83499999999,"d":"46,424"}},{"$f":"D511*1.0655","v":{"v":26082.374499999998,"d":"26,082"}},{"$f":"E511*1.0655","v":{"v":47090.837999999996,"d":"47,091"}}]
["3인",{"$f":"'3.소득기준금액계산'!F123","v":{"v":1861000,"d":"1,861,000"}},{"$f":"VLOOKUP($G513,'2.사업팀제공'!$A:$D,2,FALSE)","v":{"v":56469,"d":"56,469"}},{"$f":"VLOOKUP($G513,'2.사업팀제공'!$A:$D,3,FALSE)","v":{"v":43797,"d":"43,797"}},{"$f":"VLOOKUP($G513,'2.사업팀제공'!$A:$D,4,FALSE)","v":{"v":56905,"d":"56,905"}},null,{"$f":"MIN(IF('2.사업팀제공'!$A$6:$A$205>='1.사업팀제공'!B513:B513,'2.사업팀제공'!$A$6:$A$205,\"\"))","v":{"v":1885458,"d":"1,885,458"}}]
[null,null,{"$f":"C513*1.0655","v":{"v":60167.71949999999,"d":"60,168"}},{"$f":"D513*1.0655","v":{"v":46665.703499999996,"d":"46,666"}},{"$f":"E513*1.0655","v":{"v":60632.2775,"d":"60,632"}}]
["4인",{"$f":"'3.소득기준금액계산'!G123","v":{"v":2283000,"d":"2,283,000"}},{"$f":"VLOOKUP($G515,'2.사업팀제공'!$A:$D,2,FALSE)","v":{"v":68874,"d":"68,874"}},{"$f":"VLOOKUP($G515,'2.사업팀제공'!$A:$D,3,FALSE)","v":{"v":65575,"d":"65,575"}},{"$f":"VLOOKUP($G515,'2.사업팀제공'!$A:$D,4,FALSE)","v":{"v":69454,"d":"69,454"}},null,{"$f":"MIN(IF('2.사업팀제공'!$A$6:$A$205>='1.사업팀제공'!B515:B515,'2.사업팀제공'!$A$6:$A$205,\"\"))","v":{"v":2299647,"d":"2,299,647"}}]
[null,null,{"$f":"C515*1.0655","v":{"v":73385.24699999999,"d":"73,385"}},{"$f":"D515*1.0655","v":{"v":69870.16249999999,"d":"69,870"}},{"$f":"E515*1.0655","v":{"v":74003.237,"d":"74,003"}}]
["5인",{"$f":"'3.소득기준금액계산'!H123","v":{"v":2706000,"d":"2,706,000"}},{"$f":"VLOOKUP($G517,'2.사업팀제공'!$A:$D,2,FALSE)","v":{"v":81067,"d":"81,067"}},{"$f":"VLOOKUP($G517,'2.사업팀제공'!$A:$D,3,FALSE)","v":{"v":83809,"d":"83,809"}},{"$f":"VLOOKUP($G517,'2.사업팀제공'!$A:$D,4,FALSE)","v":{"v":82032,"d":"82,032"}},null,{"$f":"MIN(IF('2.사업팀제공'!$A$6:$A$205>='1.사업팀제공'!B517:B517,'2.사업팀제공'!$A$6:$A$205,\"\"))","v":{"v":2706757,"d":"2,706,757"}}]
[null,null,{"$f":"C517*1.0655","v":{"v":86376.88849999999,"d":"86,377"}},{"$f":"D517*1.0655","v":{"v":89298.4895,"d":"89,298"}},{"$f":"E517*1.0655","v":{"v":87405.09599999999,"d":"87,405"}}]
["6인",{"$f":"'3.소득기준금액계산'!I123","v":{"v":3128000,"d":"3,128,000"}},{"$f":"VLOOKUP($G519,'2.사업팀제공'!$A:$D,2,FALSE)","v":{"v":94553,"d":"94,553"}},{"$f":"VLOOKUP($G519,'2.사업팀제공'!$A:$D,3,FALSE)","v":{"v":103561,"d":"103,561"}},{"$f":"VLOOKUP($G519,'2.사업팀제공'!$A:$D,4,FALSE)","v":{"v":95661,"d":"95,661"}},null,{"$f":"MIN(IF('2.사업팀제공'!$A$6:$A$205>='1.사업팀제공'!B519:B519,'2.사업팀제공'!$A$6:$A$205,\"\"))","v":{"v":3157015,"d":"3,157,015"}}]
[null,null,{"$f":"C519*1.0655","v":{"v":100746.22149999999,"d":"100,746"}},{"$f":"D519*1.0655","v":{"v":110344.24549999999,"d":"110,344"}},{"$f":"E519*1.0655","v":{"v":101926.7955,"d":"101,927"}}]
["7인",{"$f":"'3.소득기준금액계산'!J123","v":{"v":3550000,"d":"3,550,000"}},{"$f":"VLOOKUP($G521,'2.사업팀제공'!$A:$D,2,FALSE)","v":{"v":106338,"d":"106,338"}},{"$f":"VLOOKUP($G521,'2.사업팀제공'!$A:$D,3,FALSE)","v":{"v":120187,"d":"120,187"}},{"$f":"VLOOKUP($G521,'2.사업팀제공'!$A:$D,4,FALSE)","v":{"v":107731,"d":"107,731"}},null,{"$f":"MIN(IF('2.사업팀제공'!$A$6:$A$205>='1.사업팀제공'!B521:B521,'2.사업팀제공'!$A$6:$A$205,\"\"))","v":{"v":3550502,"d":"3,550,502"}}]
[null,null,{"$f":"C521*1.0655","v":{"v":113303.139,"d":"113,303"}},{"$f":"D521*1.0655","v":{"v":128059.24849999999,"d":"128,059"}},{"$f":"E521*1.0655","v":{"v":114787.38049999998,"d":"114,787"}}]
["8인",{"$f":"'3.소득기준금액계산'!K123","v":{"v":3973000,"d":"3,973,000"}},{"$f":"VLOOKUP($G523,'2.사업팀제공'!$A:$D,2,FALSE)","v":{"v":119848,"d":"119,848"}},{"$f":"VLOOKUP($G523,'2.사업팀제공'!$A:$D,3,FALSE)","v":{"v":136840,"d":"136,840"}},{"$f":"VLOOKUP($G523,'2.사업팀제공'!$A:$D,4,FALSE)","v":{"v":121403,"d":"121,403"}},null,{"$f":"MIN(IF('2.사업팀제공'!$A$6:$A$205>='1.사업팀제공'!B523:B523,'2.사업팀제공'!$A$6:$A$205,\"\"))","v":{"v":4001591,"d":"4,001,591"}}]
[null,null,{"$f":"C523*1.0655","v":{"v":127698.04399999998,"d":"127,698"}},{"$f":"D523*1.0655","v":{"v":145803.02,"d":"145,803"}},{"$f":"E523*1.0655","v":{"v":129354.89649999999,"d":"129,355"}}]
["9인",{"$f":"'3.소득기준금액계산'!L123","v":{"v":4395000,"d":"4,395,000"}},{"$f":"VLOOKUP($G525,'2.사업팀제공'!$A:$D,2,FALSE)","v":{"v":132707,"d":"132,707"}},{"$f":"VLOOKUP($G525,'2.사업팀제공'!$A:$D,3,FALSE)","v":{"v":150713,"d":"150,713"}},{"$f":"VLOOKUP($G525,'2.사업팀제공'!$A:$D,4,FALSE)","v":{"v":134681,"d":"134,681"}},null,{"$f":"MIN(IF('2.사업팀제공'!$A$6:$A$205>='1.사업팀제공'!B525:B525,'2.사업팀제공'!$A$6:$A$205,\"\"))","v":{"v":4430949,"d":"4,430,949"}}]
[null,null,{"$f":"C525*1.0655","v":{"v":141399.30849999998,"d":"141,399"}},{"$f":"D525*1.0655","v":{"v":160584.7015,"d":"160,585"}},{"$f":"E525*1.0655","v":{"v":143502.60549999998,"d":"143,503"}}]
["10인",{"$f":"'3.소득기준금액계산'!M123","v":{"v":4817000,"d":"4,817,000"}},{"$f":"VLOOKUP($G527,'2.사업팀제공'!$A:$D,2,FALSE)","v":{"v":145747,"d":"145,747"}},{"$f":"VLOOKUP($G527,'2.사업팀제공'!$A:$D,3,FALSE)","v":{"v":164220,"d":"164,220"}},{"$f":"VLOOKUP($G527,'2.사업팀제공'!$A:$D,4,FALSE)","v":{"v":148029,"d":"148,029"}},null,{"$f":"MIN(IF('2.사업팀제공'!$A$6:$A$205>='1.사업팀제공'!B527:B527,'2.사업팀제공'!$A$6:$A$205,\"\"))","v":{"v":4866360,"d":"4,866,360"}}]
[null,null,{"$f":"C527*1.0655","v":{"v":155293.42849999998,"d":"155,293"}},{"$f":"D527*1.0655","v":{"v":174976.40999999997,"d":"174,976"}},{"$f":"E527*1.0655","v":{"v":157724.89949999997,"d":"157,725"}}]
[]
[]
[]
["2014년도 기준(최저생계비 150%)"]
[]
["가구원수","소득기준","건강보험료 본인부담금",{"$nulls":3},"소득액(원)"]
[null,null,"직장가입자","지역가입자","혼합"]
["1인",{"$f":"'3.소득기준금액계산'!D128","v":{"v":905000,"d":"905,000"}},{"$f":"VLOOKUP($G536,'2.사업팀제공'!$A:$D,2,FALSE)","v":{"v":27321,"d":"27,321"}},{"$f":"VLOOKUP($G536,'2.사업팀제공'!$A:$D,3,FALSE)","v":{"v":7665,"d":"7,665"}},{"$f":"VLOOKUP($G536,'2.사업팀제공'!$A:$D,4,FALSE)","v":{"v":28250,"d":"28,250"}},null,{"$f":"MIN(IF('2.사업팀제공'!$A$6:$A$205>='1.사업팀제공'!B536:B536,'2.사업팀제공'!$A$6:$A$205,\"\"))","v":{"v":912216,"d":"912,216"}}]
[null,null,{"$f":"C536*1.0655","v":{"v":29110.525499999996,"d":"29,111"}},{"$f":"D536*1.0655","v":{"v":8167.057499999999,"d":"8,167"}},{"$f":"E536*1.0655","v":{"v":30100.374999999996,"d":"30,100"}}]
["2인",{"$f":"'3.소득기준금액계산'!E128","v":{"v":1541000,"d":"1,541,000"}},{"$f":"VLOOKUP($G538,'2.사업팀제공'!$A:$D,2,FALSE)","v":{"v":46303,"d":"46,303"}},{"$f":"VLOOKUP($G538,'2.사업팀제공'!$A:$D,3,FALSE)","v":{"v":28954,"d":"28,954"}},{"$f":"VLOOKUP($G538,'2.사업팀제공'!$A:$D,4,FALSE)","v":{"v":46837,"d":"46,837"}},null,{"$f":"MIN(IF('2.사업팀제공'!$A$6:$A$205>='1.사업팀제공'!B538:B538,'2.사업팀제공'!$A$6:$A$205,\"\"))","v":{"v":1546020,"d":"1,546,020"}}]
[null,null,{"$f":"C538*1.0655","v":{"v":49335.84649999999,"d":"49,336"}},{"$f":"D538*1.0655","v":{"v":30850.486999999997,"d":"30,850"}},{"$f":"E538*1.0655","v":{"v":49904.82349999999,"d":"49,905"}}]
["3인",{"$f":"'3.소득기준금액계산'!F128","v":{"v":1994000,"d":"1,994,000"}},{"$f":"VLOOKUP($G540,'2.사업팀제공'!$A:$D,2,FALSE)","v":{"v":59893,"d":"59,893"}},{"$f":"VLOOKUP($G540,'2.사업팀제공'!$A:$D,3,FALSE)","v":{"v":49383,"d":"49,383"}},{"$f":"VLOOKUP($G540,'2.사업팀제공'!$A:$D,4,FALSE)","v":{"v":59900,"d":"59,900"}},null,{"$f":"MIN(IF('2.사업팀제공'!$A$6:$A$205>='1.사업팀제공'!B540:B540,'2.사업팀제공'!$A$6:$A$205,\"\"))","v":{"v":1999764,"d":"1,999,764"}}]
[null,null,{"$f":"C540*1.0655","v":{"v":63815.9915,"d":"63,816"}},{"$f":"D540*1.0655","v":{"v":52617.5865,"d":"52,618"}},{"$f":"E540*1.0655","v":{"v":63823.45,"d":"63,823"}}]
["4인",{"$f":"'3.소득기준금액계산'!G128","v":{"v":2446000,"d":"2,446,000"}},{"$f":"VLOOKUP($G542,'2.사업팀제공'!$A:$D,2,FALSE)","v":{"v":73321,"d":"73,321"}},{"$f":"VLOOKUP($G542,'2.사업팀제공'!$A:$D,3,FALSE)","v":{"v":72404,"d":"72,404"}},{"$f":"VLOOKUP($G542,'2.사업팀제공'!$A:$D,4,FALSE)","v":{"v":74266,"d":"74,266"}},null,{"$f":"MIN(IF('2.사업팀제공'!$A$6:$A$205>='1.사업팀제공'!B542:B542,'2.사업팀제공'!$A$6:$A$205,\"\"))","v":{"v":2448114,"d":"2,448,114"}}]
[null,null,{"$f":"C542*1.0655","v":{"v":78123.52549999999,"d":"78,124"}},{"$f":"D542*1.0655","v":{"v":77146.46199999998,"d":"77,146"}},{"$f":"E542*1.0655","v":{"v":79130.423,"d":"79,130"}}]
["5인",{"$f":"'3.소득기준금액계산'!H128","v":{"v":2899000,"d":"2,899,000"}},{"$f":"VLOOKUP($G544,'2.사업팀제공'!$A:$D,2,FALSE)","v":{"v":87604,"d":"87,604"}},{"$f":"VLOOKUP($G544,'2.사업팀제공'!$A:$D,3,FALSE)","v":{"v":93160,"d":"93,160"}},{"$f":"VLOOKUP($G544,'2.사업팀제공'!$A:$D,4,FALSE)","v":{"v":88738,"d":"88,738"}},null,{"$f":"MIN(IF('2.사업팀제공'!$A$6:$A$205>='1.사업팀제공'!B544:B544,'2.사업팀제공'!$A$6:$A$205,\"\"))","v":{"v":2925016,"d":"2,925,016"}}]
[null,null,{"$f":"C544*1.0655","v":{"v":93342.06199999999,"d":"93,342"}},{"$f":"D544*1.0655","v":{"v":99261.98,"d":"99,262"}},{"$f":"E544*1.0655","v":{"v":94550.33899999999,"d":"94,550"}}]
["6인",{"$f":"'3.소득기준금액계산'!I128","v":{"v":3351000,"d":"3,351,000"}},{"$f":"VLOOKUP($G546,'2.사업팀제공'!$A:$D,2,FALSE)","v":{"v":101447,"d":"101,447"}},{"$f":"VLOOKUP($G546,'2.사업팀제공'!$A:$D,3,FALSE)","v":{"v":113256,"d":"113,256"}},{"$f":"VLOOKUP($G546,'2.사업팀제공'!$A:$D,4,FALSE)","v":{"v":102607,"d":"102,607"}},null,{"$f":"MIN(IF('2.사업팀제공'!$A$6:$A$205>='1.사업팀제공'!B546:B546,'2.사업팀제공'!$A$6:$A$205,\"\"))","v":{"v":3387221,"d":"3,387,221"}}]
[null,null,{"$f":"C546*1.0655","v":{"v":108091.77849999999,"d":"108,092"}},{"$f":"D546*1.0655","v":{"v":120674.26799999998,"d":"120,674"}},{"$f":"E546*1.0655","v":{"v":109327.75849999998,"d":"109,328"}}]
["7인",{"$f":"'3.소득기준금액계산'!J128","v":{"v":3804000,"d":"3,804,000"}},{"$f":"VLOOKUP($G548,'2.사업팀제공'!$A:$D,2,FALSE)","v":{"v":115131,"d":"115,131"}},{"$f":"VLOOKUP($G548,'2.사업팀제공'!$A:$D,3,FALSE)","v":{"v":131228,"d":"131,228"}},{"$f":"VLOOKUP($G548,'2.사업팀제공'!$A:$D,4,FALSE)","v":{"v":116693,"d":"116,693"}},null,{"$f":"MIN(IF('2.사업팀제공'!$A$6:$A$205>='1.사업팀제공'!B548:B548,'2.사업팀제공'!$A$6:$A$205,\"\"))","v":{"v":3844106,"d":"3,844,106"}}]
[null,null,{"$f":"C548*1.0655","v":{"v":122672.08049999998,"d":"122,672"}},{"$f":"D548*1.0655","v":{"v":139823.43399999998,"d":"139,823"}},{"$f":"E548*1.0655","v":{"v":124336.39149999998,"d":"124,336"}}]
["8인",{"$f":"'3.소득기준금액계산'!K128","v":{"v":4256000,"d":"4,256,000"}},{"$f":"VLOOKUP($G550,'2.사업팀제공'!$A:$D,2,FALSE)","v":{"v":128700,"d":"128,700"}},{"$f":"VLOOKUP($G550,'2.사업팀제공'!$A:$D,3,FALSE)","v":{"v":146611,"d":"146,611"}},{"$f":"VLOOKUP($G550,'2.사업팀제공'!$A:$D,4,FALSE)","v":{"v":130714,"d":"130,714"}},null,{"$f":"MIN(IF('2.사업팀제공'!$A$6:$A$205>='1.사업팀제공'!B550:B550,'2.사업팀제공'!$A$6:$A$205,\"\"))","v":{"v":4297149,"d":"4,297,149"}}]
[null,null,{"$f":"C550*1.0655","v":{"v":137129.84999999998,"d":"137,130"}},{"$f":"D550*1.0655","v":{"v":156214.02049999998,"d":"156,214"}},{"$f":"E550*1.0655","v":{"v":139275.767,"d":"139,276"}}]
["9인",{"$f":"'3.소득기준금액계산'!L128","v":{"v":4709000,"d":"4,709,000"}},{"$f":"VLOOKUP($G552,'2.사업팀제공'!$A:$D,2,FALSE)","v":{"v":141098,"d":"141,098"}},{"$f":"VLOOKUP($G552,'2.사업팀제공'!$A:$D,3,FALSE)","v":{"v":159498,"d":"159,498"}},{"$f":"VLOOKUP($G552,'2.사업팀제공'!$A:$D,4,FALSE)","v":{"v":143354,"d":"143,354"}},null,{"$f":"MIN(IF('2.사업팀제공'!$A$6:$A$205>='1.사업팀제공'!B552:B552,'2.사업팀제공'!$A$6:$A$205,\"\"))","v":{"v":4711133,"d":"4,711,133"}}]
[null,null,{"$f":"C552*1.0655","v":{"v":150339.919,"d":"150,340"}},{"$f":"D552*1.0655","v":{"v":169945.11899999998,"d":"169,945"}},{"$f":"E552*1.0655","v":{"v":152743.68699999998,"d":"152,744"}}]
["10인",{"$f":"'3.소득기준금액계산'!M128","v":{"v":5162000,"d":"5,162,000"}},{"$f":"VLOOKUP($G554,'2.사업팀제공'!$A:$D,2,FALSE)","v":{"v":155163,"d":"155,163"}},{"$f":"VLOOKUP($G554,'2.사업팀제공'!$A:$D,3,FALSE)","v":{"v":174303,"d":"174,303"}},{"$f":"VLOOKUP($G554,'2.사업팀제공'!$A:$D,4,FALSE)","v":{"v":157880,"d":"157,880"}},null,{"$f":"MIN(IF('2.사업팀제공'!$A$6:$A$205>='1.사업팀제공'!B554:B554,'2.사업팀제공'!$A$6:$A$205,\"\"))","v":{"v":5180742,"d":"5,180,742"}}]
[null,null,{"$f":"C554*1.0655","v":{"v":165326.17649999997,"d":"165,326"}},{"$f":"D554*1.0655","v":{"v":185719.84649999999,"d":"185,720"}},{"$f":"E554*1.0655","v":{"v":168221.13999999998,"d":"168,221"}}]
[]
[]
[]
[]
["2014년도 기준(최저생계비 160%)"]
[]
["가구원수","소득기준","건강보험료 본인부담금",{"$nulls":3},"소득액(원)"]
[null,null,"직장가입자","지역가입자","혼합"]
["1인",{"$f":"'3.소득기준금액계산'!D133","v":{"v":965000,"d":"965,000"}},{"$f":"VLOOKUP($G564,'2.사업팀제공'!$A:$D,2,FALSE)","v":{"v":29411,"d":"29,411"}},{"$f":"VLOOKUP($G564,'2.사업팀제공'!$A:$D,3,FALSE)","v":{"v":8467,"d":"8,467"}},{"$f":"VLOOKUP($G564,'2.사업팀제공'!$A:$D,4,FALSE)","v":{"v":29932,"d":"29,932"}},null,{"$f":"MIN(IF('2.사업팀제공'!$A$6:$A$205>='1.사업팀제공'!B564:B564,'2.사업팀제공'!$A$6:$A$205,\"\"))","v":{"v":981998,"d":"981,998"}}]
[null,null,{"$f":"C564*1.0655","v":{"v":31337.420499999997,"d":"31,337"}},{"$f":"D564*1.0655","v":{"v":9021.5885,"d":"9,022"}},{"$f":"E564*1.0655","v":{"v":31892.546,"d":"31,893"}}]
["2인",{"$f":"'3.소득기준금액계산'!E133","v":{"v":1644000,"d":"1,644,000"}},{"$f":"VLOOKUP($G566,'2.사업팀제공'!$A:$D,2,FALSE)","v":{"v":49716,"d":"49,716"}},{"$f":"VLOOKUP($G566,'2.사업팀제공'!$A:$D,3,FALSE)","v":{"v":33377,"d":"33,377"}},{"$f":"VLOOKUP($G566,'2.사업팀제공'!$A:$D,4,FALSE)","v":{"v":50349,"d":"50,349"}},null,{"$f":"MIN(IF('2.사업팀제공'!$A$6:$A$205>='1.사업팀제공'!B566:B566,'2.사업팀제공'!$A$6:$A$205,\"\"))","v":{"v":1659960,"d":"1,659,960"}}]
[null,null,{"$f":"C566*1.0655","v":{"v":52972.397999999994,"d":"52,972"}},{"$f":"D566*1.0655","v":{"v":35563.193499999994,"d":"35,563"}},{"$f":"E566*1.0655","v":{"v":53646.85949999999,"d":"53,647"}}]
["3인",{"$f":"'3.소득기준금액계산'!F133","v":{"v":2127000,"d":"2,127,000"}},{"$f":"VLOOKUP($G568,'2.사업팀제공'!$A:$D,2,FALSE)","v":{"v":64087,"d":"64,087"}},{"$f":"VLOOKUP($G568,'2.사업팀제공'!$A:$D,3,FALSE)","v":{"v":57308,"d":"57,308"}},{"$f":"VLOOKUP($G568,'2.사업팀제공'!$A:$D,4,FALSE)","v":{"v":64818,"d":"64,818"}},null,{"$f":"MIN(IF('2.사업팀제공'!$A$6:$A$205>='1.사업팀제공'!B568:B568,'2.사업팀제공'!$A$6:$A$205,\"\"))","v":{"v":2139783,"d":"2,139,783"}}]
[null,null,{"$f":"C568*1.0655","v":{"v":68284.6985,"d":"68,285"}},{"$f":"D568*1.0655","v":{"v":61061.67399999999,"d":"61,062"}},{"$f":"E568*1.0655","v":{"v":69063.579,"d":"69,064"}}]
["4인",{"$f":"'3.소득기준금액계산'!G133","v":{"v":2609000,"d":"2,609,000"}},{"$f":"VLOOKUP($G570,'2.사업팀제공'!$A:$D,2,FALSE)","v":{"v":78595,"d":"78,595"}},{"$f":"VLOOKUP($G570,'2.사업팀제공'!$A:$D,3,FALSE)","v":{"v":80839,"d":"80,839"}},{"$f":"VLOOKUP($G570,'2.사업팀제공'!$A:$D,4,FALSE)","v":{"v":79565,"d":"79,565"}},null,{"$f":"MIN(IF('2.사업팀제공'!$A$6:$A$205>='1.사업팀제공'!B570:B570,'2.사업팀제공'!$A$6:$A$205,\"\"))","v":{"v":2624208,"d":"2,624,208"}}]
[null,null,{"$f":"C570*1.0655","v":{"v":83742.97249999999,"d":"83,743"}},{"$f":"D570*1.0655","v":{"v":86133.95449999999,"d":"86,134"}},{"$f":"E570*1.0655","v":{"v":84776.50749999999,"d":"84,777"}}]
["5인",{"$f":"'3.소득기준금액계산'!H133","v":{"v":3092000,"d":"3,092,000"}},{"$f":"VLOOKUP($G572,'2.사업팀제공'!$A:$D,2,FALSE)","v":{"v":93355,"d":"93,355"}},{"$f":"VLOOKUP($G572,'2.사업팀제공'!$A:$D,3,FALSE)","v":{"v":101962,"d":"101,962"}},{"$f":"VLOOKUP($G572,'2.사업팀제공'!$A:$D,4,FALSE)","v":{"v":94553,"d":"94,553"}},null,{"$f":"MIN(IF('2.사업팀제공'!$A$6:$A$205>='1.사업팀제공'!B572:B572,'2.사업팀제공'!$A$6:$A$205,\"\"))","v":{"v":3117028,"d":"3,117,028"}}]
[null,null,{"$f":"C572*1.0655","v":{"v":99469.75249999999,"d":"99,470"}},{"$f":"D572*1.0655","v":{"v":108640.51099999998,"d":"108,641"}},{"$f":"E572*1.0655","v":{"v":100746.22149999999,"d":"100,746"}}]
["6인",{"$f":"'3.소득기준금액계산'!I133","v":{"v":3575000,"d":"3,575,000"}},{"$f":"VLOOKUP($G574,'2.사업팀제공'!$A:$D,2,FALSE)","v":{"v":107731,"d":"107,731"}},{"$f":"VLOOKUP($G574,'2.사업팀제공'!$A:$D,3,FALSE)","v":{"v":122012,"d":"122,012"}},{"$f":"VLOOKUP($G574,'2.사업팀제공'!$A:$D,4,FALSE)","v":{"v":109153,"d":"109,153"}},null,{"$f":"MIN(IF('2.사업팀제공'!$A$6:$A$205>='1.사업팀제공'!B574:B574,'2.사업팀제공'!$A$6:$A$205,\"\"))","v":{"v":3597016,"d":"3,597,016"}}]
[null,null,{"$f":"C574*1.0655","v":{"v":114787.38049999998,"d":"114,787"}},{"$f":"D574*1.0655","v":{"v":130003.786,"d":"130,004"}},{"$f":"E574*1.0655","v":{"v":116302.52149999999,"d":"116,303"}}]
["7인",{"$f":"'3.소득기준금액계산'!J133","v":{"v":4057000,"d":"4,057,000"}},{"$f":"VLOOKUP($G576,'2.사업팀제공'!$A:$D,2,FALSE)","v":{"v":123163,"d":"123,163"}},{"$f":"VLOOKUP($G576,'2.사업팀제공'!$A:$D,3,FALSE)","v":{"v":140653,"d":"140,653"}},{"$f":"VLOOKUP($G576,'2.사업팀제공'!$A:$D,4,FALSE)","v":{"v":124988,"d":"124,988"}},null,{"$f":"MIN(IF('2.사업팀제공'!$A$6:$A$205>='1.사업팀제공'!B576:B576,'2.사업팀제공'!$A$6:$A$205,\"\"))","v":{"v":4112280,"d":"4,112,280"}}]
[null,null,{"$f":"C576*1.0655","v":{"v":131230.17649999997,"d":"131,230"}},{"$f":"D576*1.0655","v":{"v":149865.77149999997,"d":"149,866"}},{"$f":"E576*1.0655","v":{"v":133174.71399999998,"d":"133,175"}}]
["8인",{"$f":"'3.소득기준금액계산'!K133","v":{"v":4540000,"d":"4,540,000"}},{"$f":"VLOOKUP($G578,'2.사업팀제공'!$A:$D,2,FALSE)","v":{"v":136813,"d":"136,813"}},{"$f":"VLOOKUP($G578,'2.사업팀제공'!$A:$D,3,FALSE)","v":{"v":154998,"d":"154,998"}},{"$f":"VLOOKUP($G578,'2.사업팀제공'!$A:$D,4,FALSE)","v":{"v":138952,"d":"138,952"}},null,{"$f":"MIN(IF('2.사업팀제공'!$A$6:$A$205>='1.사업팀제공'!B578:B578,'2.사업팀제공'!$A$6:$A$205,\"\"))","v":{"v":4568031,"d":"4,568,031"}}]
[null,null,{"$f":"C578*1.0655","v":{"v":145774.25149999998,"d":"145,774"}},{"$f":"D578*1.0655","v":{"v":165150.36899999998,"d":"165,150"}},{"$f":"E578*1.0655","v":{"v":148053.35599999997,"d":"148,053"}}]
["9인",{"$f":"'3.소득기준금액계산'!L133","v":{"v":5023000,"d":"5,023,000"}},{"$f":"VLOOKUP($G580,'2.사업팀제공'!$A:$D,2,FALSE)","v":{"v":152509,"d":"152,509"}},{"$f":"VLOOKUP($G580,'2.사업팀제공'!$A:$D,3,FALSE)","v":{"v":171663,"d":"171,663"}},{"$f":"VLOOKUP($G580,'2.사업팀제공'!$A:$D,4,FALSE)","v":{"v":155163,"d":"155,163"}},null,{"$f":"MIN(IF('2.사업팀제공'!$A$6:$A$205>='1.사업팀제공'!B580:B580,'2.사업팀제공'!$A$6:$A$205,\"\"))","v":{"v":5092130,"d":"5,092,130"}}]
[null,null,{"$f":"C580*1.0655","v":{"v":162498.33949999997,"d":"162,498"}},{"$f":"D580*1.0655","v":{"v":182906.92649999997,"d":"182,907"}},{"$f":"E580*1.0655","v":{"v":165326.17649999997,"d":"165,326"}}]
["10인",{"$f":"'3.소득기준금액계산'!M133","v":{"v":5506000,"d":"5,506,000"}},{"$f":"VLOOKUP($G582,'2.사업팀제공'!$A:$D,2,FALSE)","v":{"v":166261,"d":"166,261"}},{"$f":"VLOOKUP($G582,'2.사업팀제공'!$A:$D,3,FALSE)","v":{"v":185715,"d":"185,715"}},{"$f":"VLOOKUP($G582,'2.사업팀제공'!$A:$D,4,FALSE)","v":{"v":169320,"d":"169,320"}},null,{"$f":"MIN(IF('2.사업팀제공'!$A$6:$A$205>='1.사업팀제공'!B582:B582,'2.사업팀제공'!$A$6:$A$205,\"\"))","v":{"v":5551270,"d":"5,551,270"}}]
[null,null,{"$f":"C582*1.0655","v":{"v":177151.0955,"d":"177,151"}},{"$f":"D582*1.0655","v":{"v":197879.3325,"d":"197,879"}},{"$f":"E582*1.0655","v":{"v":180410.46,"d":"180,410"}}]
[]
[]
[]
["2014년도 기준(최저생계비 170%)"]
[]
["가구원수","소득기준","건강보험료 본인부담금",{"$nulls":3},"소득액(원)"]
[null,null,"직장가입자","지역가입자","혼합"]
["1인",{"$f":"'3.소득기준금액계산'!D138","v":{"v":1026000,"d":"1,026,000"}},{"$f":"VLOOKUP($G591,'2.사업팀제공'!$A:$D,2,FALSE)","v":{"v":31054,"d":"31,054"}},{"$f":"VLOOKUP($G591,'2.사업팀제공'!$A:$D,3,FALSE)","v":{"v":11940,"d":"11,940"}},{"$f":"VLOOKUP($G591,'2.사업팀제공'!$A:$D,4,FALSE)","v":{"v":31445,"d":"31,445"}},null,{"$f":"MIN(IF('2.사업팀제공'!$A$6:$A$205>='1.사업팀제공'!B591:B591,'2.사업팀제공'!$A$6:$A$205,\"\"))","v":{"v":1036849,"d":"1,036,849"}}]
[null,null,{"$f":"C591*1.0655","v":{"v":33088.037,"d":"33,088"}},{"$f":"D591*1.0655","v":{"v":12722.069999999998,"d":"12,722"}},{"$f":"E591*1.0655","v":{"v":33504.6475,"d":"33,505"}}]
["2인",{"$f":"'3.소득기준금액계산'!E138","v":{"v":1747000,"d":"1,747,000"}},{"$f":"VLOOKUP($G593,'2.사업팀제공'!$A:$D,2,FALSE)","v":{"v":52563,"d":"52,563"}},{"$f":"VLOOKUP($G593,'2.사업팀제공'!$A:$D,3,FALSE)","v":{"v":37994,"d":"37,994"}},{"$f":"VLOOKUP($G593,'2.사업팀제공'!$A:$D,4,FALSE)","v":{"v":53261,"d":"53,261"}},null,{"$f":"MIN(IF('2.사업팀제공'!$A$6:$A$205>='1.사업팀제공'!B593:B593,'2.사업팀제공'!$A$6:$A$205,\"\"))","v":{"v":1755011,"d":"1,755,011"}}]
[null,null,{"$f":"C593*1.0655","v":{"v":56005.87649999999,"d":"56,006"}},{"$f":"D593*1.0655","v":{"v":40482.606999999996,"d":"40,483"}},{"$f":"E593*1.0655","v":{"v":56749.595499999996,"d":"56,750"}}]
["3인",{"$f":"'3.소득기준금액계산'!F138","v":{"v":2260000,"d":"2,260,000"}},{"$f":"VLOOKUP($G595,'2.사업팀제공'!$A:$D,2,FALSE)","v":{"v":68222,"d":"68,222"}},{"$f":"VLOOKUP($G595,'2.사업팀제공'!$A:$D,3,FALSE)","v":{"v":64218,"d":"64,218"}},{"$f":"VLOOKUP($G595,'2.사업팀제공'!$A:$D,4,FALSE)","v":{"v":68874,"d":"68,874"}},null,{"$f":"MIN(IF('2.사업팀제공'!$A$6:$A$205>='1.사업팀제공'!B595:B595,'2.사업팀제공'!$A$6:$A$205,\"\"))","v":{"v":2277858,"d":"2,277,858"}}]
[null,null,{"$f":"C595*1.0655","v":{"v":72690.541,"d":"72,691"}},{"$f":"D595*1.0655","v":{"v":68424.279,"d":"68,424"}},{"$f":"E595*1.0655","v":{"v":73385.24699999999,"d":"73,385"}}]
["4인",{"$f":"'3.소득기준금액계산'!G138","v":{"v":2772000,"d":"2,772,000"}},{"$f":"VLOOKUP($G597,'2.사업팀제공'!$A:$D,2,FALSE)","v":{"v":83867,"d":"83,867"}},{"$f":"VLOOKUP($G597,'2.사업팀제공'!$A:$D,3,FALSE)","v":{"v":87592,"d":"87,592"}},{"$f":"VLOOKUP($G597,'2.사업팀제공'!$A:$D,4,FALSE)","v":{"v":84748,"d":"84,748"}},null,{"$f":"MIN(IF('2.사업팀제공'!$A$6:$A$205>='1.사업팀제공'!B597:B597,'2.사업팀제공'!$A$6:$A$205,\"\"))","v":{"v":2800245,"d":"2,800,245"}}]
[null,null,{"$f":"C597*1.0655","v":{"v":89360.2885,"d":"89,360"}},{"$f":"D597*1.0655","v":{"v":93329.27599999998,"d":"93,329"}},{"$f":"E597*1.0655","v":{"v":90298.99399999999,"d":"90,299"}}]
["5인",{"$f":"'3.소득기준금액계산'!H138","v":{"v":3285000,"d":"3,285,000"}},{"$f":"VLOOKUP($G599,'2.사업팀제공'!$A:$D,2,FALSE)","v":{"v":99038,"d":"99,038"}},{"$f":"VLOOKUP($G599,'2.사업팀제공'!$A:$D,3,FALSE)","v":{"v":109994,"d":"109,994"}},{"$f":"VLOOKUP($G599,'2.사업팀제공'!$A:$D,4,FALSE)","v":{"v":100197,"d":"100,197"}},null,{"$f":"MIN(IF('2.사업팀제공'!$A$6:$A$205>='1.사업팀제공'!B599:B599,'2.사업팀제공'!$A$6:$A$205,\"\"))","v":{"v":3306785,"d":"3,306,785"}}]
[null,null,{"$f":"C599*1.0655","v":{"v":105524.98899999999,"d":"105,525"}},{"$f":"D599*1.0655","v":{"v":117198.60699999999,"d":"117,199"}},{"$f":"E599*1.0655","v":{"v":106759.90349999999,"d":"106,760"}}]
["6인",{"$f":"'3.소득기준금액계산'!I138","v":{"v":3798000,"d":"3,798,000"}},{"$f":"VLOOKUP($G601,'2.사업팀제공'!$A:$D,2,FALSE)","v":{"v":115131,"d":"115,131"}},{"$f":"VLOOKUP($G601,'2.사업팀제공'!$A:$D,3,FALSE)","v":{"v":131228,"d":"131,228"}},{"$f":"VLOOKUP($G601,'2.사업팀제공'!$A:$D,4,FALSE)","v":{"v":116693,"d":"116,693"}},null,{"$f":"MIN(IF('2.사업팀제공'!$A$6:$A$205>='1.사업팀제공'!B601:B601,'2.사업팀제공'!$A$6:$A$205,\"\"))","v":{"v":3844106,"d":"3,844,106"}}]
[null,null,{"$f":"C601*1.0655","v":{"v":122672.08049999998,"d":"122,672"}},{"$f":"D601*1.0655","v":{"v":139823.43399999998,"d":"139,823"}},{"$f":"E601*1.0655","v":{"v":124336.39149999998,"d":"124,336"}}]
["7인",{"$f":"'3.소득기준금액계산'!J138","v":{"v":4311000,"d":"4,311,000"}},{"$f":"VLOOKUP($G603,'2.사업팀제공'!$A:$D,2,FALSE)","v":{"v":130714,"d":"130,714"}},{"$f":"VLOOKUP($G603,'2.사업팀제공'!$A:$D,3,FALSE)","v":{"v":148703,"d":"148,703"}},{"$f":"VLOOKUP($G603,'2.사업팀제공'!$A:$D,4,FALSE)","v":{"v":132707,"d":"132,707"}},null,{"$f":"MIN(IF('2.사업팀제공'!$A$6:$A$205>='1.사업팀제공'!B603:B603,'2.사업팀제공'!$A$6:$A$205,\"\"))","v":{"v":4364393,"d":"4,364,393"}}]
[null,null,{"$f":"C603*1.0655","v":{"v":139275.767,"d":"139,276"}},{"$f":"D603*1.0655","v":{"v":158443.0465,"d":"158,443"}},{"$f":"E603*1.0655","v":{"v":141399.30849999998,"d":"141,399"}}]
["8인",{"$f":"'3.소득기준금액계산'!K138","v":{"v":4824000,"d":"4,824,000"}},{"$f":"VLOOKUP($G605,'2.사업팀제공'!$A:$D,2,FALSE)","v":{"v":145747,"d":"145,747"}},{"$f":"VLOOKUP($G605,'2.사업팀제공'!$A:$D,3,FALSE)","v":{"v":164220,"d":"164,220"}},{"$f":"VLOOKUP($G605,'2.사업팀제공'!$A:$D,4,FALSE)","v":{"v":148029,"d":"148,029"}},null,{"$f":"MIN(IF('2.사업팀제공'!$A$6:$A$205>='1.사업팀제공'!B605:B605,'2.사업팀제공'!$A$6:$A$205,\"\"))","v":{"v":4866360,"d":"4,866,360"}}]
[null,null,{"$f":"C605*1.0655","v":{"v":155293.42849999998,"d":"155,293"}},{"$f":"D605*1.0655","v":{"v":174976.40999999997,"d":"174,976"}},{"$f":"E605*1.0655","v":{"v":157724.89949999997,"d":"157,725"}}]
["9인",{"$f":"'3.소득기준금액계산'!L138","v":{"v":5337000,"d":"5,337,000"}},{"$f":"VLOOKUP($G607,'2.사업팀제공'!$A:$D,2,FALSE)","v":{"v":160657,"d":"160,657"}},{"$f":"VLOOKUP($G607,'2.사업팀제공'!$A:$D,3,FALSE)","v":{"v":179762,"d":"179,762"}},{"$f":"VLOOKUP($G607,'2.사업팀제공'!$A:$D,4,FALSE)","v":{"v":163402,"d":"163,402"}},null,{"$f":"MIN(IF('2.사업팀제공'!$A$6:$A$205>='1.사업팀제공'!B607:B607,'2.사업팀제공'!$A$6:$A$205,\"\"))","v":{"v":5364174,"d":"5,364,174"}}]
[null,null,{"$f":"C607*1.0655","v":{"v":171180.0335,"d":"171,180"}},{"$f":"D607*1.0655","v":{"v":191536.411,"d":"191,536"}},{"$f":"E607*1.0655","v":{"v":174104.83099999998,"d":"174,105"}}]
["10인",{"$f":"'3.소득기준금액계산'!M138","v":{"v":5850000,"d":"5,850,000"}},{"$f":"VLOOKUP($G609,'2.사업팀제공'!$A:$D,2,FALSE)","v":{"v":175587,"d":"175,587"}},{"$f":"VLOOKUP($G609,'2.사업팀제공'!$A:$D,3,FALSE)","v":{"v":195664,"d":"195,664"}},{"$f":"VLOOKUP($G609,'2.사업팀제공'!$A:$D,4,FALSE)","v":{"v":178923,"d":"178,923"}},null,{"$f":"MIN(IF('2.사업팀제공'!$A$6:$A$205>='1.사업팀제공'!B609:B609,'2.사업팀제공'!$A$6:$A$205,\"\"))","v":{"v":5862677,"d":"5,862,677"}}]
[null,null,{"$f":"C609*1.0655","v":{"v":187087.94849999997,"d":"187,088"}},{"$f":"D609*1.0655","v":{"v":208479.99199999997,"d":"208,480"}},{"$f":"E609*1.0655","v":{"v":190642.45649999997,"d":"190,642"}}]
[]
[]
[]
["2014년도 기준(최저생계비 180%)"]
[]
["가구원수","소득기준","건강보험료 본인부담금",{"$nulls":3},"소득액(원)"]
[null,null,"직장가입자","지역가입자","혼합"]
["1인",{"$f":"'3.소득기준금액계산'!D143","v":{"v":1086000,"d":"1,086,000"}},{"$f":"VLOOKUP($G618,'2.사업팀제공'!$A:$D,2,FALSE)","v":{"v":32550,"d":"32,550"}},{"$f":"VLOOKUP($G618,'2.사업팀제공'!$A:$D,3,FALSE)","v":{"v":12299,"d":"12,299"}},{"$f":"VLOOKUP($G618,'2.사업팀제공'!$A:$D,4,FALSE)","v":{"v":32941,"d":"32,941"}},null,{"$f":"MIN(IF('2.사업팀제공'!$A$6:$A$205>='1.사업팀제공'!B618:B618,'2.사업팀제공'!$A$6:$A$205,\"\"))","v":{"v":1086821,"d":"1,086,821"}}]
[null,null,{"$f":"C618*1.0655","v":{"v":34682.024999999994,"d":"34,682"}},{"$f":"D618*1.0655","v":{"v":13104.584499999999,"d":"13,105"}},{"$f":"E618*1.0655","v":{"v":35098.6355,"d":"35,099"}}]
["2인",{"$f":"'3.소득기준금액계산'!E143","v":{"v":1849000,"d":"1,849,000"}},{"$f":"VLOOKUP($G620,'2.사업팀제공'!$A:$D,2,FALSE)","v":{"v":55714,"d":"55,714"}},{"$f":"VLOOKUP($G620,'2.사업팀제공'!$A:$D,3,FALSE)","v":{"v":43030,"d":"43,030"}},{"$f":"VLOOKUP($G620,'2.사업팀제공'!$A:$D,4,FALSE)","v":{"v":56469,"d":"56,469"}},null,{"$f":"MIN(IF('2.사업팀제공'!$A$6:$A$205>='1.사업팀제공'!B620:B620,'2.사업팀제공'!$A$6:$A$205,\"\"))","v":{"v":1860229,"d":"1,860,229"}}]
[null,null,{"$f":"C620*1.0655","v":{"v":59363.26699999999,"d":"59,363"}},{"$f":"D620*1.0655","v":{"v":45848.465,"d":"45,848"}},{"$f":"E620*1.0655","v":{"v":60167.71949999999,"d":"60,168"}}]
["3인",{"$f":"'3.소득기준금액계산'!F143","v":{"v":2392000,"d":"2,392,000"}},{"$f":"VLOOKUP($G622,'2.사업팀제공'!$A:$D,2,FALSE)","v":{"v":71862,"d":"71,862"}},{"$f":"VLOOKUP($G622,'2.사업팀제공'!$A:$D,3,FALSE)","v":{"v":70282,"d":"70,282"}},{"$f":"VLOOKUP($G622,'2.사업팀제공'!$A:$D,4,FALSE)","v":{"v":72403,"d":"72,403"}},null,{"$f":"MIN(IF('2.사업팀제공'!$A$6:$A$205>='1.사업팀제공'!B622:B622,'2.사업팀제공'!$A$6:$A$205,\"\"))","v":{"v":2399405,"d":"2,399,405"}}]
[null,null,{"$f":"C622*1.0655","v":{"v":76568.961,"d":"76,569"}},{"$f":"D622*1.0655","v":{"v":74885.47099999999,"d":"74,885"}},{"$f":"E622*1.0655","v":{"v":77145.39649999999,"d":"77,145"}}]
["4인",{"$f":"'3.소득기준금액계산'!G143","v":{"v":2935000,"d":"2,935,000"}},{"$f":"VLOOKUP($G624,'2.사업팀제공'!$A:$D,2,FALSE)","v":{"v":88738,"d":"88,738"}},{"$f":"VLOOKUP($G624,'2.사업팀제공'!$A:$D,3,FALSE)","v":{"v":94627,"d":"94,627"}},{"$f":"VLOOKUP($G624,'2.사업팀제공'!$A:$D,4,FALSE)","v":{"v":89734,"d":"89,734"}},null,{"$f":"MIN(IF('2.사업팀제공'!$A$6:$A$205>='1.사업팀제공'!B624:B624,'2.사업팀제공'!$A$6:$A$205,\"\"))","v":{"v":2962877,"d":"2,962,877"}}]
[null,null,{"$f":"C624*1.0655","v":{"v":94550.33899999999,"d":"94,550"}},{"$f":"D624*1.0655","v":{"v":100825.0685,"d":"100,825"}},{"$f":"E624*1.0655","v":{"v":95611.57699999999,"d":"95,612"}}]
["5인",{"$f":"'3.소득기준금액계산'!H143","v":{"v":3479000,"d":"3,479,000"}},{"$f":"VLOOKUP($G626,'2.사업팀제공'!$A:$D,2,FALSE)","v":{"v":105033,"d":"105,033"}},{"$f":"VLOOKUP($G626,'2.사업팀제공'!$A:$D,3,FALSE)","v":{"v":118455,"d":"118,455"}},{"$f":"VLOOKUP($G626,'2.사업팀제공'!$A:$D,4,FALSE)","v":{"v":106338,"d":"106,338"}},null,{"$f":"MIN(IF('2.사업팀제공'!$A$6:$A$205>='1.사업팀제공'!B626:B626,'2.사업팀제공'!$A$6:$A$205,\"\"))","v":{"v":3506933,"d":"3,506,933"}}]
[null,null,{"$f":"C626*1.0655","v":{"v":111912.66149999999,"d":"111,913"}},{"$f":"D626*1.0655","v":{"v":126213.80249999999,"d":"126,214"}},{"$f":"E626*1.0655","v":{"v":113303.139,"d":"113,303"}}]
["6인",{"$f":"'3.소득기준금액계산'!I143","v":{"v":4022000,"d":"4,022,000"}},{"$f":"VLOOKUP($G628,'2.사업팀제공'!$A:$D,2,FALSE)","v":{"v":121403,"d":"121,403"}},{"$f":"VLOOKUP($G628,'2.사업팀제공'!$A:$D,3,FALSE)","v":{"v":138704,"d":"138,704"}},{"$f":"VLOOKUP($G628,'2.사업팀제공'!$A:$D,4,FALSE)","v":{"v":123163,"d":"123,163"}},null,{"$f":"MIN(IF('2.사업팀제공'!$A$6:$A$205>='1.사업팀제공'!B628:B628,'2.사업팀제공'!$A$6:$A$205,\"\"))","v":{"v":4053530,"d":"4,053,530"}}]
[null,null,{"$f":"C628*1.0655","v":{"v":129354.89649999999,"d":"129,355"}},{"$f":"D628*1.0655","v":{"v":147789.112,"d":"147,789"}},{"$f":"E628*1.0655","v":{"v":131230.17649999997,"d":"131,230"}}]
["7인",{"$f":"'3.소득기준금액계산'!J143","v":{"v":4565000,"d":"4,565,000"}},{"$f":"VLOOKUP($G630,'2.사업팀제공'!$A:$D,2,FALSE)","v":{"v":136813,"d":"136,813"}},{"$f":"VLOOKUP($G630,'2.사업팀제공'!$A:$D,3,FALSE)","v":{"v":154998,"d":"154,998"}},{"$f":"VLOOKUP($G630,'2.사업팀제공'!$A:$D,4,FALSE)","v":{"v":138952,"d":"138,952"}},null,{"$f":"MIN(IF('2.사업팀제공'!$A$6:$A$205>='1.사업팀제공'!B630:B630,'2.사업팀제공'!$A$6:$A$205,\"\"))","v":{"v":4568031,"d":"4,568,031"}}]
[null,null,{"$f":"C630*1.0655","v":{"v":145774.25149999998,"d":"145,774"}},{"$f":"D630*1.0655","v":{"v":165150.36899999998,"d":"165,150"}},{"$f":"E630*1.0655","v":{"v":148053.35599999997,"d":"148,053"}}]
["8인",{"$f":"'3.소득기준금액계산'!K143","v":{"v":5108000,"d":"5,108,000"}},{"$f":"VLOOKUP($G632,'2.사업팀제공'!$A:$D,2,FALSE)","v":{"v":155163,"d":"155,163"}},{"$f":"VLOOKUP($G632,'2.사업팀제공'!$A:$D,3,FALSE)","v":{"v":174303,"d":"174,303"}},{"$f":"VLOOKUP($G632,'2.사업팀제공'!$A:$D,4,FALSE)","v":{"v":157880,"d":"157,880"}},null,{"$f":"MIN(IF('2.사업팀제공'!$A$6:$A$205>='1.사업팀제공'!B632:B632,'2.사업팀제공'!$A$6:$A$205,\"\"))","v":{"v":5180742,"d":"5,180,742"}}]
[null,null,{"$f":"C632*1.0655","v":{"v":165326.17649999997,"d":"165,326"}},{"$f":"D632*1.0655","v":{"v":185719.84649999999,"d":"185,720"}},{"$f":"E632*1.0655","v":{"v":168221.13999999998,"d":"168,221"}}]
["9인",{"$f":"'3.소득기준금액계산'!L143","v":{"v":5651000,"d":"5,651,000"}},{"$f":"VLOOKUP($G634,'2.사업팀제공'!$A:$D,2,FALSE)","v":{"v":169320,"d":"169,320"}},{"$f":"VLOOKUP($G634,'2.사업팀제공'!$A:$D,3,FALSE)","v":{"v":188937,"d":"188,937"}},{"$f":"VLOOKUP($G634,'2.사업팀제공'!$A:$D,4,FALSE)","v":{"v":172378,"d":"172,378"}},null,{"$f":"MIN(IF('2.사업팀제공'!$A$6:$A$205>='1.사업팀제공'!B634:B634,'2.사업팀제공'!$A$6:$A$205,\"\"))","v":{"v":5653408,"d":"5,653,408"}}]
[null,null,{"$f":"C634*1.0655","v":{"v":180410.46,"d":"180,410"}},{"$f":"D634*1.0655","v":{"v":201312.3735,"d":"201,312"}},{"$f":"E634*1.0655","v":{"v":183668.759,"d":"183,669"}}]
["10인",{"$f":"'3.소득기준금액계산'!M143","v":{"v":6194000,"d":"6,194,000"}},{"$f":"VLOOKUP($G636,'2.사업팀제공'!$A:$D,2,FALSE)","v":{"v":186361,"d":"186,361"}},{"$f":"VLOOKUP($G636,'2.사업팀제공'!$A:$D,3,FALSE)","v":{"v":207173,"d":"207,173"}},{"$f":"VLOOKUP($G636,'2.사업팀제공'!$A:$D,4,FALSE)","v":{"v":190523,"d":"190,523"}},null,{"$f":"MIN(IF('2.사업팀제공'!$A$6:$A$205>='1.사업팀제공'!B636:B636,'2.사업팀제공'!$A$6:$A$205,\"\"))","v":{"v":6222410,"d":"6,222,410"}}]
[null,null,{"$f":"C636*1.0655","v":{"v":198567.64549999998,"d":"198,568"}},{"$f":"D636*1.0655","v":{"v":220742.83149999997,"d":"220,743"}},{"$f":"E636*1.0655","v":{"v":203002.2565,"d":"203,002"}}]
[]
[]
[]
["2014년도 기준(최저생계비 190%)"]
[]
["가구원수","소득기준","건강보험료 본인부담금",{"$nulls":3},"소득액(원)"]
[null,null,"직장가입자","지역가입자","혼합"]
["1인",{"$f":"'3.소득기준금액계산'!D148","v":{"v":1146000,"d":"1,146,000"}},{"$f":"VLOOKUP($G645,'2.사업팀제공'!$A:$D,2,FALSE)","v":{"v":34572,"d":"34,572"}},{"$f":"VLOOKUP($G645,'2.사업팀제공'!$A:$D,3,FALSE)","v":{"v":14567,"d":"14,567"}},{"$f":"VLOOKUP($G645,'2.사업팀제공'!$A:$D,4,FALSE)","v":{"v":35197,"d":"35,197"}},null,{"$f":"MIN(IF('2.사업팀제공'!$A$6:$A$205>='1.사업팀제공'!B645:B645,'2.사업팀제공'!$A$6:$A$205,\"\"))","v":{"v":1154338,"d":"1,154,338"}}]
[null,null,{"$f":"C645*1.0655","v":{"v":36836.46599999999,"d":"36,836"}},{"$f":"D645*1.0655","v":{"v":15521.1385,"d":"15,521"}},{"$f":"E645*1.0655","v":{"v":37502.40349999999,"d":"37,502"}}]
["2인",{"$f":"'3.소득기준금액계산'!E148","v":{"v":1952000,"d":"1,952,000"}},{"$f":"VLOOKUP($G647,'2.사업팀제공'!$A:$D,2,FALSE)","v":{"v":58590,"d":"58,590"}},{"$f":"VLOOKUP($G647,'2.사업팀제공'!$A:$D,3,FALSE)","v":{"v":47492,"d":"47,492"}},{"$f":"VLOOKUP($G647,'2.사업팀제공'!$A:$D,4,FALSE)","v":{"v":59375,"d":"59,375"}},null,{"$f":"MIN(IF('2.사업팀제공'!$A$6:$A$205>='1.사업팀제공'!B647:B647,'2.사업팀제공'!$A$6:$A$205,\"\"))","v":{"v":1956276,"d":"1,956,276"}}]
[null,null,{"$f":"C647*1.0655","v":{"v":62427.645,"d":"62,428"}},{"$f":"D647*1.0655","v":{"v":50602.725999999995,"d":"50,603"}},{"$f":"E647*1.0655","v":{"v":63264.06249999999,"d":"63,264"}}]
["3인",{"$f":"'3.소득기준금액계산'!F148","v":{"v":2525000,"d":"2,525,000"}},{"$f":"VLOOKUP($G649,'2.사업팀제공'!$A:$D,2,FALSE)","v":{"v":75950,"d":"75,950"}},{"$f":"VLOOKUP($G649,'2.사업팀제공'!$A:$D,3,FALSE)","v":{"v":77176,"d":"77,176"}},{"$f":"VLOOKUP($G649,'2.사업팀제공'!$A:$D,4,FALSE)","v":{"v":76909,"d":"76,909"}},null,{"$f":"MIN(IF('2.사업팀제공'!$A$6:$A$205>='1.사업팀제공'!B649:B649,'2.사업팀제공'!$A$6:$A$205,\"\"))","v":{"v":2535908,"d":"2,535,908"}}]
[null,null,{"$f":"C649*1.0655","v":{"v":80924.72499999999,"d":"80,925"}},{"$f":"D649*1.0655","v":{"v":82231.02799999999,"d":"82,231"}},{"$f":"E649*1.0655","v":{"v":81946.53949999998,"d":"81,947"}}]
["4인",{"$f":"'3.소득기준금액계산'!G148","v":{"v":3099000,"d":"3,099,000"}},{"$f":"VLOOKUP($G651,'2.사업팀제공'!$A:$D,2,FALSE)","v":{"v":93355,"d":"93,355"}},{"$f":"VLOOKUP($G651,'2.사업팀제공'!$A:$D,3,FALSE)","v":{"v":101962,"d":"101,962"}},{"$f":"VLOOKUP($G651,'2.사업팀제공'!$A:$D,4,FALSE)","v":{"v":94553,"d":"94,553"}},null,{"$f":"MIN(IF('2.사업팀제공'!$A$6:$A$205>='1.사업팀제공'!B651:B651,'2.사업팀제공'!$A$6:$A$205,\"\"))","v":{"v":3117028,"d":"3,117,028"}}]
[null,null,{"$f":"C651*1.0655","v":{"v":99469.75249999999,"d":"99,470"}},{"$f":"D651*1.0655","v":{"v":108640.51099999998,"d":"108,641"}},{"$f":"E651*1.0655","v":{"v":100746.22149999999,"d":"100,746"}}]
["5인",{"$f":"'3.소득기준금액계산'!H148","v":{"v":3672000,"d":"3,672,000"}},{"$f":"VLOOKUP($G653,'2.사업팀제공'!$A:$D,2,FALSE)","v":{"v":110600,"d":"110,600"}},{"$f":"VLOOKUP($G653,'2.사업팀제공'!$A:$D,3,FALSE)","v":{"v":125628,"d":"125,628"}},{"$f":"VLOOKUP($G653,'2.사업팀제공'!$A:$D,4,FALSE)","v":{"v":112008,"d":"112,008"}},null,{"$f":"MIN(IF('2.사업팀제공'!$A$6:$A$205>='1.사업팀제공'!B653:B653,'2.사업팀제공'!$A$6:$A$205,\"\"))","v":{"v":3692830,"d":"3,692,830"}}]
[null,null,{"$f":"C653*1.0655","v":{"v":117844.29999999999,"d":"117,844"}},{"$f":"D653*1.0655","v":{"v":133856.634,"d":"133,857"}},{"$f":"E653*1.0655","v":{"v":119344.52399999999,"d":"119,345"}}]
["6인",{"$f":"'3.소득기준금액계산'!I148","v":{"v":4245000,"d":"4,245,000"}},{"$f":"VLOOKUP($G655,'2.사업팀제공'!$A:$D,2,FALSE)","v":{"v":128700,"d":"128,700"}},{"$f":"VLOOKUP($G655,'2.사업팀제공'!$A:$D,3,FALSE)","v":{"v":146611,"d":"146,611"}},{"$f":"VLOOKUP($G655,'2.사업팀제공'!$A:$D,4,FALSE)","v":{"v":130714,"d":"130,714"}},null,{"$f":"MIN(IF('2.사업팀제공'!$A$6:$A$205>='1.사업팀제공'!B655:B655,'2.사업팀제공'!$A$6:$A$205,\"\"))","v":{"v":4297149,"d":"4,297,149"}}]
[null,null,{"$f":"C655*1.0655","v":{"v":137129.84999999998,"d":"137,130"}},{"$f":"D655*1.0655","v":{"v":156214.02049999998,"d":"156,214"}},{"$f":"E655*1.0655","v":{"v":139275.767,"d":"139,276"}}]
["7인",{"$f":"'3.소득기준금액계산'!J148","v":{"v":4818000,"d":"4,818,000"}},{"$f":"VLOOKUP($G657,'2.사업팀제공'!$A:$D,2,FALSE)","v":{"v":145747,"d":"145,747"}},{"$f":"VLOOKUP($G657,'2.사업팀제공'!$A:$D,3,FALSE)","v":{"v":164220,"d":"164,220"}},{"$f":"VLOOKUP($G657,'2.사업팀제공'!$A:$D,4,FALSE)","v":{"v":148029,"d":"148,029"}},null,{"$f":"MIN(IF('2.사업팀제공'!$A$6:$A$205>='1.사업팀제공'!B657:B657,'2.사업팀제공'!$A$6:$A$205,\"\"))","v":{"v":4866360,"d":"4,866,360"}}]
[null,null,{"$f":"C657*1.0655","v":{"v":155293.42849999998,"d":"155,293"}},{"$f":"D657*1.0655","v":{"v":174976.40999999997,"d":"174,976"}},{"$f":"E657*1.0655","v":{"v":157724.89949999997,"d":"157,725"}}]
["8인",{"$f":"'3.소득기준금액계산'!K148","v":{"v":5391000,"d":"5,391,000"}},{"$f":"VLOOKUP($G659,'2.사업팀제공'!$A:$D,2,FALSE)","v":{"v":163402,"d":"163,402"}},{"$f":"VLOOKUP($G659,'2.사업팀제공'!$A:$D,3,FALSE)","v":{"v":182758,"d":"182,758"}},{"$f":"VLOOKUP($G659,'2.사업팀제공'!$A:$D,4,FALSE)","v":{"v":166261,"d":"166,261"}},null,{"$f":"MIN(IF('2.사업팀제공'!$A$6:$A$205>='1.사업팀제공'!B659:B659,'2.사업팀제공'!$A$6:$A$205,\"\"))","v":{"v":5455831,"d":"5,455,831"}}]
[null,null,{"$f":"C659*1.0655","v":{"v":174104.83099999998,"d":"174,105"}},{"$f":"D659*1.0655","v":{"v":194728.64899999998,"d":"194,729"}},{"$f":"E659*1.0655","v":{"v":177151.0955,"d":"177,151"}}]
["9인",{"$f":"'3.소득기준금액계산'!L148","v":{"v":5965000,"d":"5,965,000"}},{"$f":"VLOOKUP($G661,'2.사업팀제공'!$A:$D,2,FALSE)","v":{"v":178923,"d":"178,923"}},{"$f":"VLOOKUP($G661,'2.사업팀제공'!$A:$D,3,FALSE)","v":{"v":199293,"d":"199,293"}},{"$f":"VLOOKUP($G661,'2.사업팀제공'!$A:$D,4,FALSE)","v":{"v":182435,"d":"182,435"}},null,{"$f":"MIN(IF('2.사업팀제공'!$A$6:$A$205>='1.사업팀제공'!B661:B661,'2.사업팀제공'!$A$6:$A$205,\"\"))","v":{"v":5974066,"d":"5,974,066"}}]
[null,null,{"$f":"C661*1.0655","v":{"v":190642.45649999997,"d":"190,642"}},{"$f":"D661*1.0655","v":{"v":212346.6915,"d":"212,347"}},{"$f":"E661*1.0655","v":{"v":194384.4925,"d":"194,384"}}]
["10인",{"$f":"'3.소득기준금액계산'!M148","v":{"v":6538000,"d":"6,538,000"}},{"$f":"VLOOKUP($G663,'2.사업팀제공'!$A:$D,2,FALSE)","v":{"v":200021,"d":"200,021"}},{"$f":"VLOOKUP($G663,'2.사업팀제공'!$A:$D,3,FALSE)","v":{"v":221111,"d":"221,111"}},{"$f":"VLOOKUP($G663,'2.사업팀제공'!$A:$D,4,FALSE)","v":{"v":205656,"d":"205,656"}},null,{"$f":"MIN(IF('2.사업팀제공'!$A$6:$A$205>='1.사업팀제공'!B663:B663,'2.사업팀제공'!$A$6:$A$205,\"\"))","v":{"v":6678504,"d":"6,678,504"}}]
[null,null,{"$f":"C663*1.0655","v":{"v":213122.37549999997,"d":"213,122"}},{"$f":"D663*1.0655","v":{"v":235593.77049999998,"d":"235,594"}},{"$f":"E663*1.0655","v":{"v":219126.46799999996,"d":"219,126"}}]
[]
[]
[]
["2014년도 기준(최저생계비 200%)"]
[]
["가구원수","소득기준","건강보험료 본인부담금",{"$nulls":3},"소득액(원)"]
[null,null,"직장가입자","지역가입자","혼합"]
["1인",{"$f":"'3.소득기준금액계산'!D153","v":{"v":1207000,"d":"1,207,000"}},{"$f":"VLOOKUP($G672,'2.사업팀제공'!$A:$D,2,FALSE)","v":{"v":36282,"d":"36,282"}},{"$f":"VLOOKUP($G672,'2.사업팀제공'!$A:$D,3,FALSE)","v":{"v":18082,"d":"18,082"}},{"$f":"VLOOKUP($G672,'2.사업팀제공'!$A:$D,4,FALSE)","v":{"v":36947,"d":"36,947"}},null,{"$f":"MIN(IF('2.사업팀제공'!$A$6:$A$205>='1.사업팀제공'!B672:B672,'2.사업팀제공'!$A$6:$A$205,\"\"))","v":{"v":1211433,"d":"1,211,433"}}]
[null,null,{"$f":"C672*1.0655","v":{"v":38658.471,"d":"38,658"}},{"$f":"D672*1.0655","v":{"v":19266.371,"d":"19,266"}},{"$f":"E672*1.0655","v":{"v":39367.02849999999,"d":"39,367"}}]
["2인",{"$f":"'3.소득기준금액계산'!E153","v":{"v":2055000,"d":"2,055,000"}},{"$f":"VLOOKUP($G674,'2.사업팀제공'!$A:$D,2,FALSE)","v":{"v":62121,"d":"62,121"}},{"$f":"VLOOKUP($G674,'2.사업팀제공'!$A:$D,3,FALSE)","v":{"v":54183,"d":"54,183"}},{"$f":"VLOOKUP($G674,'2.사업팀제공'!$A:$D,4,FALSE)","v":{"v":62787,"d":"62,787"}},null,{"$f":"MIN(IF('2.사업팀제공'!$A$6:$A$205>='1.사업팀제공'!B674:B674,'2.사업팀제공'!$A$6:$A$205,\"\"))","v":{"v":2074162,"d":"2,074,162"}}]
[null,null,{"$f":"C674*1.0655","v":{"v":66189.9255,"d":"66,190"}},{"$f":"D674*1.0655","v":{"v":57731.98649999999,"d":"57,732"}},{"$f":"E674*1.0655","v":{"v":66899.54849999999,"d":"66,900"}}]
["3인",{"$f":"'3.소득기준금액계산'!F153","v":{"v":2658000,"d":"2,658,000"}},{"$f":"VLOOKUP($G676,'2.사업팀제공'!$A:$D,2,FALSE)","v":{"v":80509,"d":"80,509"}},{"$f":"VLOOKUP($G676,'2.사업팀제공'!$A:$D,3,FALSE)","v":{"v":82656,"d":"82,656"}},{"$f":"VLOOKUP($G676,'2.사업팀제공'!$A:$D,4,FALSE)","v":{"v":81067,"d":"81,067"}},null,{"$f":"MIN(IF('2.사업팀제공'!$A$6:$A$205>='1.사업팀제공'!B676:B676,'2.사업팀제공'!$A$6:$A$205,\"\"))","v":{"v":2688097,"d":"2,688,097"}}]
[null,null,{"$f":"C676*1.0655","v":{"v":85782.33949999999,"d":"85,782"}},{"$f":"D676*1.0655","v":{"v":88069.968,"d":"88,070"}},{"$f":"E676*1.0655","v":{"v":86376.88849999999,"d":"86,377"}}]
["4인",{"$f":"'3.소득기준금액계산'!G153","v":{"v":3262000,"d":"3,262,000"}},{"$f":"VLOOKUP($G678,'2.사업팀제공'!$A:$D,2,FALSE)","v":{"v":97856,"d":"97,856"}},{"$f":"VLOOKUP($G678,'2.사업팀제공'!$A:$D,3,FALSE)","v":{"v":108274,"d":"108,274"}},{"$f":"VLOOKUP($G678,'2.사업팀제공'!$A:$D,4,FALSE)","v":{"v":99038,"d":"99,038"}},null,{"$f":"MIN(IF('2.사업팀제공'!$A$6:$A$205>='1.사업팀제공'!B678:B678,'2.사업팀제공'!$A$6:$A$205,\"\"))","v":{"v":3267318,"d":"3,267,318"}}]
[null,null,{"$f":"C678*1.0655","v":{"v":104265.56799999998,"d":"104,266"}},{"$f":"D678*1.0655","v":{"v":115365.94699999999,"d":"115,366"}},{"$f":"E678*1.0655","v":{"v":105524.98899999999,"d":"105,525"}}]
["5인",{"$f":"'3.소득기준금액계산'!H153","v":{"v":3865000,"d":"3,865,000"}},{"$f":"VLOOKUP($G680,'2.사업팀제공'!$A:$D,2,FALSE)","v":{"v":116693,"d":"116,693"}},{"$f":"VLOOKUP($G680,'2.사업팀제공'!$A:$D,3,FALSE)","v":{"v":133090,"d":"133,090"}},{"$f":"VLOOKUP($G680,'2.사업팀제공'!$A:$D,4,FALSE)","v":{"v":118331,"d":"118,331"}},null,{"$f":"MIN(IF('2.사업팀제공'!$A$6:$A$205>='1.사업팀제공'!B680:B680,'2.사업팀제공'!$A$6:$A$205,\"\"))","v":{"v":3896263,"d":"3,896,263"}}]
[null,null,{"$f":"C680*1.0655","v":{"v":124336.39149999998,"d":"124,336"}},{"$f":"D680*1.0655","v":{"v":141807.395,"d":"141,807"}},{"$f":"E680*1.0655","v":{"v":126081.68049999999,"d":"126,082"}}]
["6인",{"$f":"'3.소득기준금액계산'!I153","v":{"v":4468000,"d":"4,468,000"}},{"$f":"VLOOKUP($G682,'2.사업팀제공'!$A:$D,2,FALSE)","v":{"v":134681,"d":"134,681"}},{"$f":"VLOOKUP($G682,'2.사업팀제공'!$A:$D,3,FALSE)","v":{"v":152942,"d":"152,942"}},{"$f":"VLOOKUP($G682,'2.사업팀제공'!$A:$D,4,FALSE)","v":{"v":136813,"d":"136,813"}},null,{"$f":"MIN(IF('2.사업팀제공'!$A$6:$A$205>='1.사업팀제공'!B682:B682,'2.사업팀제공'!$A$6:$A$205,\"\"))","v":{"v":4496873,"d":"4,496,873"}}]
[null,null,{"$f":"C682*1.0655","v":{"v":143502.60549999998,"d":"143,503"}},{"$f":"D682*1.0655","v":{"v":162959.70099999997,"d":"162,960"}},{"$f":"E682*1.0655","v":{"v":145774.25149999998,"d":"145,774"}}]
["7인",{"$f":"'3.소득기준금액계산'!J153","v":{"v":5072000,"d":"5,072,000"}},{"$f":"VLOOKUP($G684,'2.사업팀제공'!$A:$D,2,FALSE)","v":{"v":152509,"d":"152,509"}},{"$f":"VLOOKUP($G684,'2.사업팀제공'!$A:$D,3,FALSE)","v":{"v":171663,"d":"171,663"}},{"$f":"VLOOKUP($G684,'2.사업팀제공'!$A:$D,4,FALSE)","v":{"v":155163,"d":"155,163"}},null,{"$f":"MIN(IF('2.사업팀제공'!$A$6:$A$205>='1.사업팀제공'!B684:B684,'2.사업팀제공'!$A$6:$A$205,\"\"))","v":{"v":5092130,"d":"5,092,130"}}]
[null,null,{"$f":"C684*1.0655","v":{"v":162498.33949999997,"d":"162,498"}},{"$f":"D684*1.0655","v":{"v":182906.92649999997,"d":"182,907"}},{"$f":"E684*1.0655","v":{"v":165326.17649999997,"d":"165,326"}}]
["8인",{"$f":"'3.소득기준금액계산'!K153","v":{"v":5675000,"d":"5,675,000"}},{"$f":"VLOOKUP($G686,'2.사업팀제공'!$A:$D,2,FALSE)","v":{"v":172378,"d":"172,378"}},{"$f":"VLOOKUP($G686,'2.사업팀제공'!$A:$D,3,FALSE)","v":{"v":192218,"d":"192,218"}},{"$f":"VLOOKUP($G686,'2.사업팀제공'!$A:$D,4,FALSE)","v":{"v":175587,"d":"175,587"}},null,{"$f":"MIN(IF('2.사업팀제공'!$A$6:$A$205>='1.사업팀제공'!B686:B686,'2.사업팀제공'!$A$6:$A$205,\"\"))","v":{"v":5755521,"d":"5,755,521"}}]
[null,null,{"$f":"C686*1.0655","v":{"v":183668.759,"d":"183,669"}},{"$f":"D686*1.0655","v":{"v":204808.27899999998,"d":"204,808"}},{"$f":"E686*1.0655","v":{"v":187087.94849999997,"d":"187,088"}}]
["9인",{"$f":"'3.소득기준금액계산'!L153","v":{"v":6279000,"d":"6,279,000"}},{"$f":"VLOOKUP($G688,'2.사업팀제공'!$A:$D,2,FALSE)","v":{"v":190523,"d":"190,523"}},{"$f":"VLOOKUP($G688,'2.사업팀제공'!$A:$D,3,FALSE)","v":{"v":211470,"d":"211,470"}},{"$f":"VLOOKUP($G688,'2.사업팀제공'!$A:$D,4,FALSE)","v":{"v":195047,"d":"195,047"}},null,{"$f":"MIN(IF('2.사업팀제공'!$A$6:$A$205>='1.사업팀제공'!B688:B688,'2.사업팀제공'!$A$6:$A$205,\"\"))","v":{"v":6361375,"d":"6,361,375"}}]
[null,null,{"$f":"C688*1.0655","v":{"v":203002.2565,"d":"203,002"}},{"$f":"D688*1.0655","v":{"v":225321.28499999997,"d":"225,321"}},{"$f":"E688*1.0655","v":{"v":207822.57849999997,"d":"207,823"}}]
["10인",{"$f":"'3.소득기준금액계산'!M153","v":{"v":6882000,"d":"6,882,000"}},{"$f":"VLOOKUP($G690,'2.사업팀제공'!$A:$D,2,FALSE)","v":{"v":211711,"d":"211,711"}},{"$f":"VLOOKUP($G690,'2.사업팀제공'!$A:$D,3,FALSE)","v":{"v":232429,"d":"232,429"}},{"$f":"VLOOKUP($G690,'2.사업팀제공'!$A:$D,4,FALSE)","v":{"v":218647,"d":"218,647"}},null,{"$f":"MIN(IF('2.사업팀제공'!$A$6:$A$205>='1.사업팀제공'!B690:B690,'2.사업팀제공'!$A$6:$A$205,\"\"))","v":{"v":7068805,"d":"7,068,805"}}]
[null,null,{"$f":"C690*1.0655","v":{"v":225578.07049999997,"d":"225,578"}},{"$f":"D690*1.0655","v":{"v":247653.09949999998,"d":"247,653"}},{"$f":"E690*1.0655","v":{"v":232968.37849999996,"d":"232,968"}}]
[]
[" ※ 6인,7인 : 최저생계비 100%  6인, 7인 금액대비 계산 "]
[" ※ 2014년도 노인장기요양보험료는 건강보험료의 6.55% (`12년도와 동결)"]
[]
[]
[]
["2014년도 기준(최저생계비 300%)"]
[]
["가구원수","소득기준","건강보험료 본인부담금",{"$nulls":3},"소득액(원)"]
[null,null,"직장가입자","지역가입자","혼합"]
["1인",{"$f":"'3.소득기준금액계산'!D158","v":{"v":1810000,"d":"1,810,000"}},{"$f":"VLOOKUP($G702,'2.사업팀제공'!$A:$D,2,FALSE)","v":{"v":54416,"d":"54,416"}},{"$f":"VLOOKUP($G702,'2.사업팀제공'!$A:$D,3,FALSE)","v":{"v":41342,"d":"41,342"}},{"$f":"VLOOKUP($G702,'2.사업팀제공'!$A:$D,4,FALSE)","v":{"v":55100,"d":"55,100"}},null,{"$f":"MIN(IF('2.사업팀제공'!$A$6:$A$205>='1.사업팀제공'!B702:B702,'2.사업팀제공'!$A$6:$A$205,\"\"))","v":{"v":1816902,"d":"1,816,902"}}]
[null,null,{"$f":"C702*1.0655","v":{"v":57980.24799999999,"d":"57,980"}},{"$f":"D702*1.0655","v":{"v":44049.901,"d":"44,050"}},{"$f":"E702*1.0655","v":{"v":58709.049999999996,"d":"58,709"}}]
["2인",{"$f":"'3.소득기준금액계산'!E158","v":{"v":3082000,"d":"3,082,000"}},{"$f":"VLOOKUP($G704,'2.사업팀제공'!$A:$D,2,FALSE)","v":{"v":93355,"d":"93,355"}},{"$f":"VLOOKUP($G704,'2.사업팀제공'!$A:$D,3,FALSE)","v":{"v":101962,"d":"101,962"}},{"$f":"VLOOKUP($G704,'2.사업팀제공'!$A:$D,4,FALSE)","v":{"v":94553,"d":"94,553"}},null,{"$f":"MIN(IF('2.사업팀제공'!$A$6:$A$205>='1.사업팀제공'!B704:B704,'2.사업팀제공'!$A$6:$A$205,\"\"))","v":{"v":3117028,"d":"3,117,028"}}]
[null,null,{"$f":"C704*1.0655","v":{"v":99469.75249999999,"d":"99,470"}},{"$f":"D704*1.0655","v":{"v":108640.51099999998,"d":"108,641"}},{"$f":"E704*1.0655","v":{"v":100746.22149999999,"d":"100,746"}}]
["3인",{"$f":"'3.소득기준금액계산'!F158","v":{"v":3987000,"d":"3,987,000"}},{"$f":"VLOOKUP($G706,'2.사업팀제공'!$A:$D,2,FALSE)","v":{"v":119848,"d":"119,848"}},{"$f":"VLOOKUP($G706,'2.사업팀제공'!$A:$D,3,FALSE)","v":{"v":136840,"d":"136,840"}},{"$f":"VLOOKUP($G706,'2.사업팀제공'!$A:$D,4,FALSE)","v":{"v":121403,"d":"121,403"}},null,{"$f":"MIN(IF('2.사업팀제공'!$A$6:$A$205>='1.사업팀제공'!B706:B706,'2.사업팀제공'!$A$6:$A$205,\"\"))","v":{"v":4001591,"d":"4,001,591"}}]
[null,null,{"$f":"C706*1.0655","v":{"v":127698.04399999998,"d":"127,698"}},{"$f":"D706*1.0655","v":{"v":145803.02,"d":"145,803"}},{"$f":"E706*1.0655","v":{"v":129354.89649999999,"d":"129,355"}}]
["4인",{"$f":"'3.소득기준금액계산'!G158","v":{"v":4892000,"d":"4,892,000"}},{"$f":"VLOOKUP($G708,'2.사업팀제공'!$A:$D,2,FALSE)","v":{"v":148029,"d":"148,029"}},{"$f":"VLOOKUP($G708,'2.사업팀제공'!$A:$D,3,FALSE)","v":{"v":166711,"d":"166,711"}},{"$f":"VLOOKUP($G708,'2.사업팀제공'!$A:$D,4,FALSE)","v":{"v":150120,"d":"150,120"}},null,{"$f":"MIN(IF('2.사업팀제공'!$A$6:$A$205>='1.사업팀제공'!B708:B708,'2.사업팀제공'!$A$6:$A$205,\"\"))","v":{"v":4942544,"d":"4,942,544"}}]
[null,null,{"$f":"C708*1.0655","v":{"v":157724.89949999997,"d":"157,725"}},{"$f":"D708*1.0655","v":{"v":177630.57049999997,"d":"177,631"}},{"$f":"E708*1.0655","v":{"v":159952.86,"d":"159,953"}}]
["5인",{"$f":"'3.소득기준금액계산'!H158","v":{"v":5798000,"d":"5,798,000"}},{"$f":"VLOOKUP($G710,'2.사업팀제공'!$A:$D,2,FALSE)","v":{"v":175587,"d":"175,587"}},{"$f":"VLOOKUP($G710,'2.사업팀제공'!$A:$D,3,FALSE)","v":{"v":195664,"d":"195,664"}},{"$f":"VLOOKUP($G710,'2.사업팀제공'!$A:$D,4,FALSE)","v":{"v":178923,"d":"178,923"}},null,{"$f":"MIN(IF('2.사업팀제공'!$A$6:$A$205>='1.사업팀제공'!B710:B710,'2.사업팀제공'!$A$6:$A$205,\"\"))","v":{"v":5862677,"d":"5,862,677"}}]
[null,null,{"$f":"C710*1.0655","v":{"v":187087.94849999997,"d":"187,088"}},{"$f":"D710*1.0655","v":{"v":208479.99199999997,"d":"208,480"}},{"$f":"E710*1.0655","v":{"v":190642.45649999997,"d":"190,642"}}]
["6인",{"$f":"'3.소득기준금액계산'!I158","v":{"v":6703000,"d":"6,703,000"}},{"$f":"VLOOKUP($G712,'2.사업팀제공'!$A:$D,2,FALSE)","v":{"v":205656,"d":"205,656"}},{"$f":"VLOOKUP($G712,'2.사업팀제공'!$A:$D,3,FALSE)","v":{"v":226542,"d":"226,542"}},{"$f":"VLOOKUP($G712,'2.사업팀제공'!$A:$D,4,FALSE)","v":{"v":211711,"d":"211,711"}},null,{"$f":"MIN(IF('2.사업팀제공'!$A$6:$A$205>='1.사업팀제공'!B712:B712,'2.사업팀제공'!$A$6:$A$205,\"\"))","v":{"v":6866661,"d":"6,866,661"}}]
[null,null,{"$f":"C712*1.0655","v":{"v":219126.46799999996,"d":"219,126"}},{"$f":"D712*1.0655","v":{"v":241380.501,"d":"241,381"}},{"$f":"E712*1.0655","v":{"v":225578.07049999997,"d":"225,578"}}]
["7인",{"$f":"'3.소득기준금액계산'!J158","v":{"v":7608000,"d":"7,608,000"}},{"$f":"VLOOKUP($G714,'2.사업팀제공'!$A:$D,2,FALSE)","v":{"v":235069,"d":"235,069"}},{"$f":"VLOOKUP($G714,'2.사업팀제공'!$A:$D,3,FALSE)","v":{"v":254344,"d":"254,344"}},{"$f":"VLOOKUP($G714,'2.사업팀제공'!$A:$D,4,FALSE)","v":{"v":244086,"d":"244,086"}},null,{"$f":"MIN(IF('2.사업팀제공'!$A$6:$A$205>='1.사업팀제공'!B714:B714,'2.사업팀제공'!$A$6:$A$205,\"\"))","v":{"v":7848702,"d":"7,848,702"}}]
[null,null,{"$f":"C714*1.0655","v":{"v":250466.01949999997,"d":"250,466"}},{"$f":"D714*1.0655","v":{"v":271003.53199999995,"d":"271,004"}},{"$f":"E714*1.0655","v":{"v":260073.63299999997,"d":"260,074"}}]
["8인",{"$f":"'3.소득기준금액계산'!K158","v":{"v":8513000,"d":"8,513,000"}},{"$f":"VLOOKUP($G716,'2.사업팀제공'!$A:$D,2,FALSE)","v":{"v":267342,"d":"267,342"}},{"$f":"VLOOKUP($G716,'2.사업팀제공'!$A:$D,3,FALSE)","v":{"v":286630,"d":"286,630"}},{"$f":"VLOOKUP($G716,'2.사업팀제공'!$A:$D,4,FALSE)","v":{"v":282933,"d":"282,933"}},null,{"$f":"MIN(IF('2.사업팀제공'!$A$6:$A$205>='1.사업팀제공'!B716:B716,'2.사업팀제공'!$A$6:$A$205,\"\"))","v":{"v":8926273,"d":"8,926,273"}}]
[null,null,{"$f":"C716*1.0655","v":{"v":284852.90099999995,"d":"284,853"}},{"$f":"D716*1.0655","v":{"v":305404.26499999996,"d":"305,404"}},{"$f":"E716*1.0655","v":{"v":301465.11149999994,"d":"301,465"}}]
["9인",{"$f":"'3.소득기준금액계산'!L158","v":{"v":9418000,"d":"9,418,000"}},{"$f":"VLOOKUP($G718,'2.사업팀제공'!$A:$D,2,FALSE)","v":{"v":282933,"d":"282,933"}},{"$f":"VLOOKUP($G718,'2.사업팀제공'!$A:$D,3,FALSE)","v":{"v":301713,"d":"301,713"}},{"$f":"VLOOKUP($G718,'2.사업팀제공'!$A:$D,4,FALSE)","v":{"v":302964,"d":"302,964"}},null,{"$f":"MIN(IF('2.사업팀제공'!$A$6:$A$205>='1.사업팀제공'!B718:B718,'2.사업팀제공'!$A$6:$A$205,\"\"))","v":{"v":9446851,"d":"9,446,851"}}]
[null,null,{"$f":"C718*1.0655","v":{"v":301465.11149999994,"d":"301,465"}},{"$f":"D718*1.0655","v":{"v":321475.20149999997,"d":"321,475"}},{"$f":"E718*1.0655","v":{"v":322808.142,"d":"322,808"}}]
["10인",{"$f":"'3.소득기준금액계산'!M158","v":{"v":10323000,"d":"10,323,000"}},{"$f":"VLOOKUP($G720,'2.사업팀제공'!$A:$D,2,FALSE)","v":{"v":337000,"d":"337,000"}},{"$f":"VLOOKUP($G720,'2.사업팀제공'!$A:$D,3,FALSE)","v":{"v":347056,"d":"347,056"}},{"$f":"VLOOKUP($G720,'2.사업팀제공'!$A:$D,4,FALSE)","v":{"v":412280,"d":"412,280"}},null,{"$f":"MIN(IF('2.사업팀제공'!$A$6:$A$205>='1.사업팀제공'!B720:B720,'2.사업팀제공'!$A$6:$A$205,\"\"))","v":{"v":11252085,"d":"11,252,085"}}]
[null,null,{"$f":"C720*1.0655","v":{"v":359073.49999999994,"d":"359,074"}},{"$f":"D720*1.0655","v":{"v":369788.16799999995,"d":"369,788"}},{"$f":"E720*1.0655","v":{"v":439284.33999999997,"d":"439,284"}}]
[]
[]
[]
["2014년도 기준(최저생계비 350%)"]
[]
["가구원수","소득기준","건강보험료 본인부담금",{"$nulls":3},"소득액(원)"]
[null,null,"직장가입자","지역가입자","혼합"]
["1인",{"$f":"'3.소득기준금액계산'!D163","v":{"v":2112000,"d":"2,112,000"}},{"$f":"VLOOKUP($G729,'2.사업팀제공'!$A:$D,2,FALSE)","v":{"v":64087,"d":"64,087"}},{"$f":"VLOOKUP($G729,'2.사업팀제공'!$A:$D,3,FALSE)","v":{"v":57308,"d":"57,308"}},{"$f":"VLOOKUP($G729,'2.사업팀제공'!$A:$D,4,FALSE)","v":{"v":64818,"d":"64,818"}},null,{"$f":"MIN(IF('2.사업팀제공'!$A$6:$A$205>='1.사업팀제공'!B729:B729,'2.사업팀제공'!$A$6:$A$205,\"\"))","v":{"v":2139783,"d":"2,139,783"}}]
[null,null,{"$f":"C729*1.0655","v":{"v":68284.6985,"d":"68,285"}},{"$f":"D729*1.0655","v":{"v":61061.67399999999,"d":"61,062"}},{"$f":"E729*1.0655","v":{"v":69063.579,"d":"69,064"}}]
["2인",{"$f":"'3.소득기준금액계산'!E163","v":{"v":3596000,"d":"3,596,000"}},{"$f":"VLOOKUP($G731,'2.사업팀제공'!$A:$D,2,FALSE)","v":{"v":107731,"d":"107,731"}},{"$f":"VLOOKUP($G731,'2.사업팀제공'!$A:$D,3,FALSE)","v":{"v":122012,"d":"122,012"}},{"$f":"VLOOKUP($G731,'2.사업팀제공'!$A:$D,4,FALSE)","v":{"v":109153,"d":"109,153"}},null,{"$f":"MIN(IF('2.사업팀제공'!$A$6:$A$205>='1.사업팀제공'!B731:B731,'2.사업팀제공'!$A$6:$A$205,\"\"))","v":{"v":3597016,"d":"3,597,016"}}]
[null,null,{"$f":"C731*1.0655","v":{"v":114787.38049999998,"d":"114,787"}},{"$f":"D731*1.0655","v":{"v":130003.786,"d":"130,004"}},{"$f":"E731*1.0655","v":{"v":116302.52149999999,"d":"116,303"}}]
["3인",{"$f":"'3.소득기준금액계산'!F163","v":{"v":4652000,"d":"4,652,000"}},{"$f":"VLOOKUP($G733,'2.사업팀제공'!$A:$D,2,FALSE)","v":{"v":141098,"d":"141,098"}},{"$f":"VLOOKUP($G733,'2.사업팀제공'!$A:$D,3,FALSE)","v":{"v":159498,"d":"159,498"}},{"$f":"VLOOKUP($G733,'2.사업팀제공'!$A:$D,4,FALSE)","v":{"v":143354,"d":"143,354"}},null,{"$f":"MIN(IF('2.사업팀제공'!$A$6:$A$205>='1.사업팀제공'!B733:B733,'2.사업팀제공'!$A$6:$A$205,\"\"))","v":{"v":4711133,"d":"4,711,133"}}]
[null,null,{"$f":"C733*1.0655","v":{"v":150339.919,"d":"150,340"}},{"$f":"D733*1.0655","v":{"v":169945.11899999998,"d":"169,945"}},{"$f":"E733*1.0655","v":{"v":152743.68699999998,"d":"152,744"}}]
["4인",{"$f":"'3.소득기준금액계산'!G163","v":{"v":5708000,"d":"5,708,000"}},{"$f":"VLOOKUP($G735,'2.사업팀제공'!$A:$D,2,FALSE)","v":{"v":172378,"d":"172,378"}},{"$f":"VLOOKUP($G735,'2.사업팀제공'!$A:$D,3,FALSE)","v":{"v":192218,"d":"192,218"}},{"$f":"VLOOKUP($G735,'2.사업팀제공'!$A:$D,4,FALSE)","v":{"v":175587,"d":"175,587"}},null,{"$f":"MIN(IF('2.사업팀제공'!$A$6:$A$205>='1.사업팀제공'!B735:B735,'2.사업팀제공'!$A$6:$A$205,\"\"))","v":{"v":5755521,"d":"5,755,521"}}]
[null,null,{"$f":"C735*1.0655","v":{"v":183668.759,"d":"183,669"}},{"$f":"D735*1.0655","v":{"v":204808.27899999998,"d":"204,808"}},{"$f":"E735*1.0655","v":{"v":187087.94849999997,"d":"187,088"}}]
["5인",{"$f":"'3.소득기준금액계산'!H163","v":{"v":6764000,"d":"6,764,000"}},{"$f":"VLOOKUP($G737,'2.사업팀제공'!$A:$D,2,FALSE)","v":{"v":205656,"d":"205,656"}},{"$f":"VLOOKUP($G737,'2.사업팀제공'!$A:$D,3,FALSE)","v":{"v":226542,"d":"226,542"}},{"$f":"VLOOKUP($G737,'2.사업팀제공'!$A:$D,4,FALSE)","v":{"v":211711,"d":"211,711"}},null,{"$f":"MIN(IF('2.사업팀제공'!$A$6:$A$205>='1.사업팀제공'!B737:B737,'2.사업팀제공'!$A$6:$A$205,\"\"))","v":{"v":6866661,"d":"6,866,661"}}]
[null,null,{"$f":"C737*1.0655","v":{"v":219126.46799999996,"d":"219,126"}},{"$f":"D737*1.0655","v":{"v":241380.501,"d":"241,381"}},{"$f":"E737*1.0655","v":{"v":225578.07049999997,"d":"225,578"}}]
["6인",{"$f":"'3.소득기준금액계산'!I163","v":{"v":7820000,"d":"7,820,000"}},{"$f":"VLOOKUP($G739,'2.사업팀제공'!$A:$D,2,FALSE)","v":{"v":235069,"d":"235,069"}},{"$f":"VLOOKUP($G739,'2.사업팀제공'!$A:$D,3,FALSE)","v":{"v":254344,"d":"254,344"}},{"$f":"VLOOKUP($G739,'2.사업팀제공'!$A:$D,4,FALSE)","v":{"v":244086,"d":"244,086"}},null,{"$f":"MIN(IF('2.사업팀제공'!$A$6:$A$205>='1.사업팀제공'!B739:B739,'2.사업팀제공'!$A$6:$A$205,\"\"))","v":{"v":7848702,"d":"7,848,702"}}]
[null,null,{"$f":"C739*1.0655","v":{"v":250466.01949999997,"d":"250,466"}},{"$f":"D739*1.0655","v":{"v":271003.53199999995,"d":"271,004"}},{"$f":"E739*1.0655","v":{"v":260073.63299999997,"d":"260,074"}}]
["7인",{"$f":"'3.소득기준금액계산'!J163","v":{"v":8876000,"d":"8,876,000"}},{"$f":"VLOOKUP($G741,'2.사업팀제공'!$A:$D,2,FALSE)","v":{"v":267342,"d":"267,342"}},{"$f":"VLOOKUP($G741,'2.사업팀제공'!$A:$D,3,FALSE)","v":{"v":286630,"d":"286,630"}},{"$f":"VLOOKUP($G741,'2.사업팀제공'!$A:$D,4,FALSE)","v":{"v":282933,"d":"282,933"}},null,{"$f":"MIN(IF('2.사업팀제공'!$A$6:$A$205>='1.사업팀제공'!B741:B741,'2.사업팀제공'!$A$6:$A$205,\"\"))","v":{"v":8926273,"d":"8,926,273"}}]
[null,null,{"$f":"C741*1.0655","v":{"v":284852.90099999995,"d":"284,853"}},{"$f":"D741*1.0655","v":{"v":305404.26499999996,"d":"305,404"}},{"$f":"E741*1.0655","v":{"v":301465.11149999994,"d":"301,465"}}]
["8인",{"$f":"'3.소득기준금액계산'!K163","v":{"v":9932000,"d":"9,932,000"}},{"$f":"VLOOKUP($G743,'2.사업팀제공'!$A:$D,2,FALSE)","v":{"v":302964,"d":"302,964"}},{"$f":"VLOOKUP($G743,'2.사업팀제공'!$A:$D,3,FALSE)","v":{"v":320869,"d":"320,869"}},{"$f":"VLOOKUP($G743,'2.사업팀제공'!$A:$D,4,FALSE)","v":{"v":337000,"d":"337,000"}},null,{"$f":"MIN(IF('2.사업팀제공'!$A$6:$A$205>='1.사업팀제공'!B743:B743,'2.사업팀제공'!$A$6:$A$205,\"\"))","v":{"v":10115660,"d":"10,115,660"}}]
[null,null,{"$f":"C743*1.0655","v":{"v":322808.142,"d":"322,808"}},{"$f":"D743*1.0655","v":{"v":341885.91949999996,"d":"341,886"}},{"$f":"E743*1.0655","v":{"v":359073.49999999994,"d":"359,074"}}]
["9인",{"$f":"'3.소득기준금액계산'!L163","v":{"v":10988000,"d":"10,988,000"}},{"$f":"VLOOKUP($G745,'2.사업팀제공'!$A:$D,2,FALSE)","v":{"v":337000,"d":"337,000"}},{"$f":"VLOOKUP($G745,'2.사업팀제공'!$A:$D,3,FALSE)","v":{"v":347056,"d":"347,056"}},{"$f":"VLOOKUP($G745,'2.사업팀제공'!$A:$D,4,FALSE)","v":{"v":412280,"d":"412,280"}},null,{"$f":"MIN(IF('2.사업팀제공'!$A$6:$A$205>='1.사업팀제공'!B745:B745,'2.사업팀제공'!$A$6:$A$205,\"\"))","v":{"v":11252085,"d":"11,252,085"}}]
[null,null,{"$f":"C745*1.0655","v":{"v":359073.49999999994,"d":"359,074"}},{"$f":"D745*1.0655","v":{"v":369788.16799999995,"d":"369,788"}},{"$f":"E745*1.0655","v":{"v":439284.33999999997,"d":"439,284"}}]
["10인",{"$f":"'3.소득기준금액계산'!M163","v":{"v":12044000,"d":"12,044,000"}},{"$f":"VLOOKUP($G747,'2.사업팀제공'!$A:$D,2,FALSE)","v":{"v":412280,"d":"412,280"}},{"$f":"VLOOKUP($G747,'2.사업팀제공'!$A:$D,3,FALSE)","v":{"v":388559,"d":"388,559"}},{"$f":"VLOOKUP($G747,'2.사업팀제공'!$A:$D,4,FALSE)","v":{"v":909930,"d":"909,930"}},null,{"$f":"MIN(IF('2.사업팀제공'!$A$6:$A$205>='1.사업팀제공'!B747:B747,'2.사업팀제공'!$A$6:$A$205,\"\"))","v":{"v":13765603,"d":"13,765,603"}}]
[null,null,{"$f":"C747*1.0655","v":{"v":439284.33999999997,"d":"439,284"}},{"$f":"D747*1.0655","v":{"v":414009.61449999997,"d":"414,010"}},{"$f":"E747*1.0655","v":{"v":969530.4149999999,"d":"969,530"}}]

{"sheet":"2.사업팀제공","index":1,"n_rows":205,"n_cols":13,"rows_kept":205,"merged":[[0,0,0,3],[0,4,0,12],[1,0,1,3],[1,7,1,10],[3,0,4,0],[3,1,3,3],[3,5,4,5],[3,7,4,7],[3,8,3,10]]}
["*산정표는 소득액(원)이 높은가격 순으로 정렬할것",{"$nulls":3},"*산정표는 소숫점이 없어야 가능함(제거방법 :  전체 복사 > 메모장에 붙여넣기 > 메모장 전체복사 > 엑셀에 붙여넣기)"]
["건강보험료 산정기준표(2014년)",{"$nulls":6},"건강보험료 산정기준표(2013년) 참고"]
[]
["소득액(원)\n(초과~이하)","건강보험료 본인부담금(원)",{"$nulls":3},"연번",null,"소득액(원)\n(초과~이하)","건강보험료 본인부담금(원)"]
[null,"직장","지역","혼합",{"$nulls":4},"직장","지역","혼합"]
[{"v":30381623,"d":"30,381,623"},{"v":909930,"d":"909,930"},{"v":590327,"d":"590,327"},"-",null,200,null,{"v":30066433.5815655,"d":"30,066,434"},{"v":885456.4689771039,"d":"885,456"},{"v":563405.3853623294,"d":"563,405"},"-"]
[{"v":13765603,"d":"13,765,603"},{"v":412280,"d":"412,280"},{"v":388559,"d":"388,559"},{"v":909930,"d":"909,930"},null,199,null,{"v":13452591.7721547,"d":"13,452,592"},{"v":396178.82768995594,"d":"396,179"},{"v":376995.02210255095,"d":"376,995"},{"v":885456.4689771039,"d":"885,456"}]
[{"v":11252085,"d":"11,252,085"},{"v":337000,"d":"337,000"},{"v":347056,"d":"347,056"},{"v":412280,"d":"412,280"},null,198,null,{"v":11003947.10888,"d":"11,003,947"},{"v":324066.242356516,"d":"324,066"},{"v":337071.6073692871,"d":"337,072"},{"v":396178.82768995594,"d":"396,179"}]
[{"v":10115660,"d":"10,115,660"},{"v":302964,"d":"302,964"},{"v":320869,"d":"320,869"},{"v":337000,"d":"337,000"},null,197,null,{"v":9906906.95953853,"d":"9,906,907"},{"v":291758.4099584097,"d":"291,758"},{"v":311643.5960996334,"d":"311,644"},{"v":324066.242356516,"d":"324,066"}]
[{"v":9446851,"d":"9,446,851"},{"v":282933,"d":"282,933"},{"v":301713,"d":"301,713"},{"v":302964,"d":"302,964"},null,196,null,{"v":9226680.03411152,"d":"9,226,680"},{"v":271725.7270045843,"d":"271,726"},{"v":293097.25260256475,"d":"293,097"},{"v":291758.4099584097,"d":"291,758"}]
[{"v":8926273,"d":"8,926,273"},{"v":267342,"d":"267,342"},{"v":286630,"d":"286,630"},{"v":282933,"d":"282,933"},null,195,null,{"v":8709334.3720459,"d":"8,709,334"},{"v":256489.89725675178,"d":"256,490"},{"v":278502.936668525,"d":"278,503"},{"v":271725.7270045843,"d":"271,726"}]
[{"v":8503424,"d":"8,503,424"},{"v":254678,"d":"254,678"},{"v":274177,"d":"274,177"},{"v":267342,"d":"267,342"},null,194,null,{"v":8299404.02345132,"d":"8,299,404"},{"v":244417.44849064137,"d":"244,417"},{"v":266391.5353529122,"d":"266,392"},{"v":256489.89725675178,"d":"256,490"}]
[{"v":8149781,"d":"8,149,781"},{"v":244086,"d":"244,086"},{"v":263557,"d":"263,557"},{"v":254678,"d":"254,678"},null,193,null,{"v":7957594.09035789,"d":"7,957,594"},{"v":234351.14596103987,"d":"234,351"},{"v":256107.73043150353,"d":"256,108"},{"v":244417.44849064137,"d":"244,417"}]
[{"v":7848702,"d":"7,848,702"},{"v":235069,"d":"235,069"},{"v":254344,"d":"254,344"},{"v":244086,"d":"244,086"},null,192,null,{"v":7654347.82879477,"d":"7,654,348"},{"v":225420.54355800597,"d":"225,421"},{"v":247199.88089327837,"d":"247,200"},{"v":234351.14596103987,"d":"234,351"}]
[{"v":7562017,"d":"7,562,017"},{"v":226482,"d":"226,482"},{"v":246237,"d":"246,237"},{"v":235069,"d":"235,069"},null,191,null,{"v":7380934.21186645,"d":"7,380,934"},{"v":217368.51253946693,"d":"217,369"},{"v":239252.8792500922,"d":"239,253"},{"v":225420.54355800597,"d":"225,421"}]
[{"v":7300417,"d":"7,300,417"},{"v":218647,"d":"218,647"},{"v":238939,"d":"238,939"},{"v":226482,"d":"226,482"},null,190,null,{"v":7128611.02378396,"d":"7,128,611"},{"v":209937.59465043765,"d":"209,938"},{"v":232301.56596404553,"d":"232,302"},{"v":217368.51253946693,"d":"217,369"}]
[{"v":7068805,"d":"7,068,805"},{"v":211711,"d":"211,711"},{"v":232429,"d":"232,429"},{"v":218647,"d":"218,647"},null,189,null,{"v":6909484.34818634,"d":"6,909,484"},{"v":203484.31405408774,"d":"203,484"},{"v":225935.15089620012,"d":"225,935"},{"v":209937.59465043765,"d":"209,938"}]
[{"v":6866661,"d":"6,866,661"},{"v":205656,"d":"205,656"},{"v":226542,"d":"226,542"},{"v":211711,"d":"211,711"},null,188,null,{"v":6703394.90159819,"d":"6,703,395"},{"v":197414.9798520667,"d":"197,415"},{"v":220174.4238037063,"d":"220,174"},{"v":203484.31405408774,"d":"203,484"}]
[{"v":6678504,"d":"6,678,504"},{"v":200021,"d":"200,021"},{"v":221111,"d":"221,111"},{"v":205656,"d":"205,656"},null,187,null,{"v":6517591.41274929,"d":"6,517,591"},{"v":191943.0671054666,"d":"191,943"},{"v":214960.73377837872,"d":"214,961"},{"v":197414.9798520667,"d":"197,415"}]
[{"v":6512422,"d":"6,512,422"},{"v":195047,"d":"195,047"},{"v":216117,"d":"216,117"},{"v":200021,"d":"200,021"},null,186,null,{"v":6351726.07348494,"d":"6,351,726"},{"v":187058.3328641315,"d":"187,058"},{"v":210152.3283655964,"d":"210,152"},{"v":191943.0671054666,"d":"191,943"}]
[{"v":6361375,"d":"6,361,375"},{"v":190523,"d":"190,523"},{"v":211470,"d":"211,470"},{"v":195047,"d":"195,047"},null,185,null,{"v":6204036.6197741,"d":"6,204,037"},{"v":182708.87845234727,"d":"182,709"},{"v":205708.84822432857,"d":"205,709"},{"v":187058.3328641315,"d":"187,058"}]
[{"v":6222410,"d":"6,222,410"},{"v":186361,"d":"186,361"},{"v":207173,"d":"207,173"},{"v":190523,"d":"190,523"},null,184,null,{"v":6066050.62880082,"d":"6,066,051"},{"v":178645.19101818415,"d":"178,645"},{"v":201518.884225396,"d":"201,519"},{"v":182708.87845234727,"d":"182,709"}]
[{"v":6091302,"d":"6,091,302"},{"v":182435,"d":"182,435"},{"v":203138,"d":"203,138"},{"v":186361,"d":"186,361"},null,183,null,{"v":5948839.85511891,"d":"5,948,840"},{"v":175193.3337332519,"d":"175,193"},{"v":197576.02331023038,"d":"197,576"},{"v":178645.19101818415,"d":"178,645"}]
[{"v":5974066,"d":"5,974,066"},{"v":178923,"d":"178,923"},{"v":199293,"d":"199,293"},{"v":182435,"d":"182,435"},null,182,null,{"v":5830104.08855859,"d":"5,830,104"},{"v":171696.5654080505,"d":"171,697"},{"v":193857.28390026256,"d":"193,857"},{"v":175193.3337332519,"d":"175,193"}]
[{"v":5862677,"d":"5,862,677"},{"v":175587,"d":"175,587"},{"v":195664,"d":"195,664"},{"v":178923,"d":"178,923"},null,181,null,{"v":5717280.0567467,"d":"5,717,280"},{"v":168373.89767119032,"d":"168,374"},{"v":190349.53309256968,"d":"190,350"},{"v":171696.5654080505,"d":"171,697"}]
[{"v":5755521,"d":"5,755,521"},{"v":172378,"d":"172,378"},{"v":192218,"d":"192,218"},{"v":175587,"d":"175,587"},null,180,null,{"v":5610635.75674735,"d":"5,610,636"},{"v":165233.22303620947,"d":"165,233"},{"v":186972.0726689498,"d":"186,972"},{"v":168373.89767119032,"d":"168,374"}]
[{"v":5653408,"d":"5,653,408"},{"v":169320,"d":"169,320"},{"v":188937,"d":"188,937"},{"v":172378,"d":"172,378"},null,179,null,{"v":5509142.45576606,"d":"5,509,142"},{"v":162244.24532231048,"d":"162,244"},{"v":183835.81645396753,"d":"183,836"},{"v":165233.22303620947,"d":"165,233"}]
[{"v":5551270,"d":"5,551,270"},{"v":166261,"d":"166,261"},{"v":185715,"d":"185,715"},{"v":169320,"d":"169,320"},null,178,null,{"v":5413323.56860758,"d":"5,413,324"},{"v":159422.37909549323,"d":"159,422"},{"v":180805.42501885295,"d":"180,805"},{"v":162244.24532231048,"d":"162,244"}]
[{"v":5455831,"d":"5,455,831"},{"v":163402,"d":"163,402"},{"v":182758,"d":"182,758"},{"v":166261,"d":"166,261"},null,177,null,{"v":5320352.00595742,"d":"5,320,352"},{"v":156684.366575446,"d":"156,684"},{"v":177818.85936004602,"d":"177,819"},{"v":159422.37909549323,"d":"159,422"}]
[{"v":5364174,"d":"5,364,174"},{"v":160657,"d":"160,657"},{"v":179762,"d":"179,762"},{"v":163402,"d":"163,402"},null,176,null,{"v":5229125.94901492,"d":"5,229,126"},{"v":153997.7591984894,"d":"153,998"},{"v":175096.91229188195,"d":"175,097"},{"v":156684.366575446,"d":"156,684"}]
[{"v":5271449,"d":"5,271,449"},{"v":157880,"d":"157,880"},{"v":177007,"d":"177,007"},{"v":160657,"d":"160,657"},null,175,null,{"v":5139575.73096753,"d":"5,139,576"},{"v":151360.50527699376,"d":"151,361"},{"v":172301.3962908276,"d":"172,301"},{"v":153997.7591984894,"d":"153,998"}]
[{"v":5180742,"d":"5,180,742"},{"v":155163,"d":"155,163"},{"v":174303,"d":"174,303"},{"v":157880,"d":"157,880"},null,174,null,{"v":5051319.40243736,"d":"5,051,319"},{"v":148761.35640178024,"d":"148,761"},{"v":169688.8175936688,"d":"169,689"},{"v":151360.50527699376,"d":"151,361"}]
[{"v":5092130,"d":"5,092,130"},{"v":152509,"d":"152,509"},{"v":171663,"d":"171,663"},{"v":155163,"d":"155,163"},null,173,null,{"v":4981604.41175136,"d":"4,981,604"},{"v":146708.24992607755,"d":"146,708"},{"v":167131.66249342688,"d":"167,132"},{"v":148761.35640178024,"d":"148,761"}]
[{"v":5012369,"d":"5,012,369"},{"v":150120,"d":"150,120"},{"v":169126,"d":"169,126"},{"v":152509,"d":"152,509"},null,172,null,{"v":4903715.3854028,"d":"4,903,715"},{"v":144414.41810011244,"d":"144,414"},{"v":164716.03002310125,"d":"164,716"},{"v":146708.24992607755,"d":"146,708"}]
[{"v":4942544,"d":"4,942,544"},{"v":148029,"d":"148,029"},{"v":166711,"d":"166,711"},{"v":150120,"d":"150,120"},null,171,null,{"v":4823596.20542207,"d":"4,823,596"},{"v":142054.90824967995,"d":"142,055"},{"v":162244.36874608215,"d":"162,244"},{"v":144414.41810011244,"d":"144,414"}]
[{"v":4866360,"d":"4,866,360"},{"v":145747,"d":"145,747"},{"v":164220,"d":"164,220"},{"v":148029,"d":"148,029"},null,170,null,{"v":4741203.56290729,"d":"4,741,204"},{"v":139628.44492761968,"d":"139,628"},{"v":160012.1021843382,"d":"160,012"},{"v":142054.90824967995,"d":"142,055"}]
[{"v":4786459,"d":"4,786,459"},{"v":143354,"d":"143,354"},{"v":161920,"d":"161,920"},{"v":145747,"d":"145,747"},null,169,null,{"v":4671997.32753224,"d":"4,671,997"},{"v":137590.32129582448,"d":"137,590"},{"v":157615.057126317,"d":"157,615"},{"v":139628.44492761968,"d":"139,628"}]
[{"v":4711133,"d":"4,711,133"},{"v":141098,"d":"141,098"},{"v":159498,"d":"159,498"},{"v":143354,"d":"143,354"},null,168,null,{"v":4595511.1425677,"d":"4,595,511"},{"v":135337.80314861875,"d":"135,338"},{"v":155453.83839821495,"d":"155,454"},{"v":137590.32129582448,"d":"137,590"}]
[{"v":4639469,"d":"4,639,469"},{"v":138952,"d":"138,952"},{"v":157342,"d":"157,342"},{"v":141098,"d":"141,098"},null,167,null,{"v":4521265.15239808,"d":"4,521,265"},{"v":133151.25873812343,"d":"133,151"},{"v":153213.54192092104,"d":"153,214"},{"v":135337.80314861875,"d":"135,338"}]
[{"v":4568031,"d":"4,568,031"},{"v":136813,"d":"136,813"},{"v":154998,"d":"154,998"},{"v":138952,"d":"138,952"},null,166,null,{"v":4452668.41054175,"d":"4,452,668"},{"v":131131.08469045453,"d":"131,131"},{"v":151058.76533949375,"d":"151,059"},{"v":133151.25873812343,"d":"133,151"}]
[{"v":4496873,"d":"4,496,873"},{"v":134681,"d":"134,681"},{"v":152942,"d":"152,942"},{"v":136813,"d":"136,813"},null,165,null,{"v":4381194.01622389,"d":"4,381,194"},{"v":129026.16377779355,"d":"129,026"},{"v":148976.40213712867,"d":"148,976"},{"v":131131.08469045453,"d":"131,131"}]
[{"v":4430949,"d":"4,430,949"},{"v":132707,"d":"132,707"},{"v":150713,"d":"150,713"},{"v":134681,"d":"134,681"},null,164,null,{"v":4312067.35527768,"d":"4,312,067"},{"v":126990.38361292768,"d":"126,990"},{"v":146844.69038476795,"d":"146,845"},{"v":129026.16377779355,"d":"129,026"}]
[{"v":4364393,"d":"4,364,393"},{"v":130714,"d":"130,714"},{"v":148703,"d":"148,703"},{"v":132707,"d":"132,707"},null,163,null,{"v":4243865.28294298,"d":"4,243,865"},{"v":124981.83258267074,"d":"124,982"},{"v":144884.74250723593,"d":"144,885"},{"v":126990.38361292768,"d":"126,990"}]
[{"v":4297149,"d":"4,297,149"},{"v":128700,"d":"128,700"},{"v":146611,"d":"146,611"},{"v":130714,"d":"130,714"},null,162,null,{"v":4181821.71782387,"d":"4,181,822"},{"v":123154.64958991298,"d":"123,155"},{"v":142805.93342184898,"d":"142,806"},{"v":124981.83258267074,"d":"124,982"}]
[{"v":4232295,"d":"4,232,295"},{"v":126757,"d":"126,757"},{"v":144592,"d":"144,592"},{"v":128700,"d":"128,700"},null,161,null,{"v":4117698.03092066,"d":"4,117,698"},{"v":121266.20701061345,"d":"121,266"},{"v":140899.22182320256,"d":"140,899"},{"v":123154.64958991298,"d":"123,155"}]
[{"v":4173210,"d":"4,173,210"},{"v":124988,"d":"124,988"},{"v":142640,"d":"142,640"},{"v":126757,"d":"126,757"},null,160,null,{"v":4058689.77956363,"d":"4,058,690"},{"v":119528.4140081489,"d":"119,528"},{"v":138956.4236501234,"d":"138,956"},{"v":121266.20701061345,"d":"121,266"}]
[{"v":4112280,"d":"4,112,280"},{"v":123163,"d":"123,163"},{"v":140653,"d":"140,653"},{"v":124988,"d":"124,988"},null,159,null,{"v":4003740.57837519,"d":"4,003,741"},{"v":117910.16003314935,"d":"117,910"},{"v":137029.69337298768,"d":"137,030"},{"v":119528.4140081489,"d":"119,528"}]
[{"v":4053530,"d":"4,053,530"},{"v":121403,"d":"121,403"},{"v":138704,"d":"138,704"},{"v":123163,"d":"123,163"},null,158,null,{"v":3951643.89374924,"d":"3,951,644"},{"v":116375.91267091512,"d":"116,376"},{"v":135175.32942882177,"d":"135,175"},{"v":117910.16003314935,"d":"117,910"}]
[{"v":4001591,"d":"4,001,591"},{"v":119848,"d":"119,848"},{"v":136840,"d":"136,840"},{"v":121403,"d":"121,403"},null,157,null,{"v":3896738.54393153,"d":"3,896,739"},{"v":114758.95011878356,"d":"114,759"},{"v":133251.94449347997,"d":"133,252"},{"v":116375.91267091512,"d":"116,376"}]
[{"v":3950935,"d":"3,950,935"},{"v":118331,"d":"118,331"},{"v":134891,"d":"134,891"},{"v":119848,"d":"119,848"},null,156,null,{"v":3842947.70679045,"d":"3,842,948"},{"v":113174.80996497876,"d":"113,175"},{"v":131450.16525345814,"d":"131,450"},{"v":114758.95011878356,"d":"114,759"}]
[{"v":3896263,"d":"3,896,263"},{"v":116693,"d":"116,693"},{"v":133090,"d":"133,090"},{"v":118331,"d":"118,331"},null,155,null,{"v":3789156.83721668,"d":"3,789,157"},{"v":111590.66885603123,"d":"111,591"},{"v":129590.03647564846,"d":"129,590"},{"v":113174.80996497876,"d":"113,175"}]
[{"v":3844106,"d":"3,844,106"},{"v":115131,"d":"115,131"},{"v":131228,"d":"131,228"},{"v":116693,"d":"116,693"},null,154,null,{"v":3738379.50608585,"d":"3,738,380"},{"v":110095.27645422828,"d":"110,095"},{"v":127722.81929100573,"d":"127,723"},{"v":111590.66885603123,"d":"111,591"}]
[{"v":3791237,"d":"3,791,237"},{"v":113548,"d":"113,548"},{"v":129345,"d":"129,345"},{"v":115131,"d":"115,131"},null,153,null,{"v":3690564.36789343,"d":"3,690,564"},{"v":108687.12063446152,"d":"108,687"},{"v":125920.78429060744,"d":"125,921"},{"v":110095.27645422828,"d":"110,095"}]
[{"v":3739836,"d":"3,739,836"},{"v":112008,"d":"112,008"},{"v":127535,"d":"127,535"},{"v":113548,"d":"113,548"},null,152,null,{"v":3641099.05530943,"d":"3,641,099"},{"v":107230.36717886273,"d":"107,230"},{"v":124080.35222051019,"d":"124,080"},{"v":108687.12063446152,"d":"108,687"}]
[{"v":3692830,"d":"3,692,830"},{"v":110600,"d":"110,600"},{"v":125628,"d":"125,628"},{"v":112008,"d":"112,008"},null,151,null,{"v":3592058.73886024,"d":"3,592,059"},{"v":105786.12985943408,"d":"105,786"},{"v":122270.23334873383,"d":"122,270"},{"v":107230.36717886273,"d":"107,230"}]
[{"v":3644512,"d":"3,644,512"},{"v":109153,"d":"109,153"},{"v":123800,"d":"123,800"},{"v":110600,"d":"110,600"},null,150,null,{"v":3542706.11690884,"d":"3,542,706"},{"v":104332.69514296534,"d":"104,333"},{"v":120506.18874638152,"d":"120,506"},{"v":105786.12985943408,"d":"105,786"}]
[{"v":3597016,"d":"3,597,016"},{"v":107731,"d":"107,731"},{"v":122012,"d":"122,012"},{"v":109153,"d":"109,153"},null,149,null,{"v":3502249.50874699,"d":"3,502,250"},{"v":103141.24803259886,"d":"103,141"},{"v":118682.73742206159,"d":"118,683"},{"v":104332.69514296534,"d":"104,333"}]
[{"v":3550502,"d":"3,550,502"},{"v":106338,"d":"106,338"},{"v":120187,"d":"120,187"},{"v":107731,"d":"107,731"},null,148,null,{"v":3463429.60088302,"d":"3,463,430"},{"v":101998.00174600494,"d":"101,998"},{"v":116969.91898669543,"d":"116,970"},{"v":103141.24803259886,"d":"103,141"}]
[{"v":3506933,"d":"3,506,933"},{"v":105033,"d":"105,033"},{"v":118455,"d":"118,455"},{"v":106338,"d":"106,338"},null,147,null,{"v":3416398.24399352,"d":"3,416,398"},{"v":100612.92828560916,"d":"100,613"},{"v":115173.36664701582,"d":"115,173"},{"v":101998.00174600494,"d":"101,998"}]
[{"v":3471528,"d":"3,471,528"},{"v":103972,"d":"103,972"},{"v":116683,"d":"116,683"},{"v":105033,"d":"105,033"},null,146,null,{"v":3377113.8015483,"d":"3,377,114"},{"v":99456.00145559743,"d":"99,456"},{"v":113518.79399012151,"d":"113,519"},{"v":100612.92828560916,"d":"100,613"}]
[{"v":3425959,"d":"3,425,959"},{"v":102607,"d":"102,607"},{"v":114979,"d":"114,979"},{"v":103972,"d":"103,972"},null,145,null,{"v":3333924.36912771,"d":"3,333,924"},{"v":98184.07267081106,"d":"98,184"},{"v":111830.3613521335,"d":"111,830"},{"v":99456.00145559743,"d":"99,456"}]
[{"v":3387221,"d":"3,387,221"},{"v":101447,"d":"101,447"},{"v":113256,"d":"113,256"},{"v":102607,"d":"102,607"},null,144,null,{"v":3294962.10286224,"d":"3,294,962"},{"v":97036.63392929296,"d":"97,037"},{"v":110203.23866061146,"d":"110,203"},{"v":98184.07267081106,"d":"98,184"}]
[{"v":3345490,"d":"3,345,490"},{"v":100197,"d":"100,197"},{"v":111625,"d":"111,625"},{"v":101447,"d":"101,447"},null,143,null,{"v":3254082.14695475,"d":"3,254,082"},{"v":95832.71922781739,"d":"95,833"},{"v":108567.7549249845,"d":"108,568"},{"v":97036.63392929296,"d":"97,037"}]
[{"v":3306785,"d":"3,306,785"},{"v":99038,"d":"99,038"},{"v":109994,"d":"109,994"},{"v":100197,"d":"100,197"},null,142,null,{"v":3215061.9445696,"d":"3,215,062"},{"v":94683.57426757472,"d":"94,684"},{"v":106918.33399118374,"d":"106,918"},{"v":95832.71922781739,"d":"95,833"}]
[{"v":3267318,"d":"3,267,318"},{"v":97856,"d":"97,856"},{"v":108274,"d":"108,274"},{"v":99038,"d":"99,038"},null,141,null,{"v":3181969.31251795,"d":"3,181,969"},{"v":93708.99625365362,"d":"93,709"},{"v":105355.40999814034,"d":"105,355"},{"v":94683.57426757472,"d":"94,684"}]
[{"v":3228881,"d":"3,228,881"},{"v":96705,"d":"96,705"},{"v":106726,"d":"106,726"},{"v":97856,"d":"97,856"},null,140,null,{"v":3141890.16249603,"d":"3,141,890"},{"v":92528.66528550808,"d":"92,529"},{"v":103801.95789585392,"d":"103,802"},{"v":93708.99625365362,"d":"93,709"}]
[{"v":3194032,"d":"3,194,032"},{"v":95661,"d":"95,661"},{"v":105129,"d":"105,129"},{"v":96705,"d":"96,705"},null,139,null,{"v":3102800.1944478,"d":"3,102,800"},{"v":91377.46572648772,"d":"91,377"},{"v":102208.4161325613,"d":"102,208"},{"v":92528.66528550808,"d":"92,529"}]
[{"v":3157015,"d":"3,157,015"},{"v":94553,"d":"94,553"},{"v":103561,"d":"103,561"},{"v":95661,"d":"95,661"},null,138,null,{"v":3066317.39251855,"d":"3,066,317"},{"v":90303.0472096713,"d":"90,303"},{"v":100691.04408083059,"d":"100,691"},{"v":91377.46572648772,"d":"91,377"}]
[{"v":3117028,"d":"3,117,028"},{"v":93355,"d":"93,355"},{"v":101962,"d":"101,962"},{"v":94553,"d":"94,553"},null,137,null,{"v":3026659.12383386,"d":"3,026,659"},{"v":89135.11119690718,"d":"89,135"},{"v":99229.34250617374,"d":"99,229"},{"v":90303.0472096713,"d":"90,303"}]
[{"v":3081739,"d":"3,081,739"},{"v":92298,"d":"92,298"},{"v":100511,"d":"100,511"},{"v":93355,"d":"93,355"},null,136,null,{"v":3000490.70641244,"d":"3,000,491"},{"v":88364.45130384636,"d":"88,364"},{"v":97726.7318901694,"d":"97,727"},{"v":89135.11119690718,"d":"89,135"}]
[{"v":3043368,"d":"3,043,368"},{"v":91149,"d":"91,149"},{"v":99031,"d":"99,031"},{"v":92298,"d":"92,298"},null,135,null,{"v":2984021.52361008,"d":"2,984,022"},{"v":87879.43387031686,"d":"87,879"},{"v":96230.67269337998,"d":"96,231"},{"v":88364.45130384636,"d":"88,364"}]
[{"v":3006985,"d":"3,006,985"},{"v":90059,"d":"90,059"},{"v":97485,"d":"97,485"},{"v":91149,"d":"91,149"},null,134,null,{"v":2945360.58689669,"d":"2,945,361"},{"v":86740.86928410752,"d":"86,741"},{"v":94837.6500639953,"d":"94,838"},{"v":87879.43387031686,"d":"87,879"}]
[{"v":2996127,"d":"2,996,127"},{"v":89734,"d":"89,734"},{"v":96103,"d":"96,103"},{"v":90059,"d":"90,059"},null,133,null,{"v":2909687.7416121,"d":"2,909,688"},{"v":85690.30399047634,"d":"85,690"},{"v":93421.77736470333,"d":"93,422"},{"v":86740.86928410752,"d":"86,741"}]
[{"v":2962877,"d":"2,962,877"},{"v":88738,"d":"88,738"},{"v":94627,"d":"94,627"},{"v":89734,"d":"89,734"},null,132,null,{"v":2883750.87004248,"d":"2,883,751"},{"v":84926.46312275104,"d":"84,926"},{"v":91922.15471255204,"d":"91,922"},{"v":85690.30399047634,"d":"85,690"}]
[{"v":2925016,"d":"2,925,016"},{"v":87604,"d":"87,604"},{"v":93160,"d":"93,160"},{"v":88738,"d":"88,738"},null,131,null,{"v":2846928.3181124,"d":"2,846,928"},{"v":83842.03896841018,"d":"83,842"},{"v":90471.2816760933,"d":"90,471"},{"v":84926.46312275104,"d":"84,926"}]
[{"v":2897240,"d":"2,897,240"},{"v":86772,"d":"86,772"},{"v":91674,"d":"91,674"},{"v":87604,"d":"87,604"},null,130,null,{"v":2812204.62942074,"d":"2,812,205"},{"v":82819.4263364408,"d":"82,819"},{"v":89204.05374263095,"d":"89,204"},{"v":83842.03896841018,"d":"83,842"}]
[{"v":2864721,"d":"2,864,721"},{"v":85798,"d":"85,798"},{"v":90364,"d":"90,364"},{"v":86772,"d":"86,772"},null,129,null,{"v":2786579.17420164,"d":"2,786,579"},{"v":82064.7566802383,"d":"82,065"},{"v":87779.47116598945,"d":"87,779"},{"v":82819.4263364408,"d":"82,819"}]
[{"v":2829665,"d":"2,829,665"},{"v":84748,"d":"84,748"},{"v":88973,"d":"88,973"},{"v":85798,"d":"85,798"},null,128,null,{"v":2752446.6527511,"d":"2,752,447"},{"v":81059.5539235199,"d":"81,060"},{"v":86454.24527045325,"d":"86,454"},{"v":82064.7566802383,"d":"82,065"}]
[{"v":2800245,"d":"2,800,245"},{"v":83867,"d":"83,867"},{"v":87592,"d":"87,592"},{"v":84748,"d":"84,748"},null,127,null,{"v":2719832.08781771,"d":"2,719,832"},{"v":80099.05498623155,"d":"80,099"},{"v":85215.19956026445,"d":"85,215"},{"v":81059.5539235199,"d":"81,060"}]
[{"v":2770592,"d":"2,770,592"},{"v":82979,"d":"82,979"},{"v":86395,"d":"86,395"},{"v":83867,"d":"83,867"},null,126,null,{"v":2696897.38423272,"d":"2,696,897"},{"v":79423.6279656536,"d":"79,424"},{"v":83907.108145945,"d":"83,907"},{"v":80099.05498623155,"d":"80,099"}]
[{"v":2738962,"d":"2,738,962"},{"v":82032,"d":"82,032"},{"v":85032,"d":"85,032"},{"v":82979,"d":"82,979"},null,125,null,{"v":2669759.51833315,"d":"2,669,760"},{"v":78624.41781491127,"d":"78,624"},{"v":82720.38820998957,"d":"82,720"},{"v":79423.6279656536,"d":"79,424"}]
[{"v":2706757,"d":"2,706,757"},{"v":81067,"d":"81,067"},{"v":83809,"d":"83,809"},{"v":82032,"d":"82,032"},null,124,null,{"v":2638718.70377706,"d":"2,638,719"},{"v":77710.26582623442,"d":"77,710"},{"v":81424.27097480012,"d":"81,424"},{"v":78624.41781491127,"d":"78,624"}]
[{"v":2688097,"d":"2,688,097"},{"v":80509,"d":"80,509"},{"v":82656,"d":"82,656"},{"v":81067,"d":"81,067"},null,123,null,{"v":2607618.39235223,"d":"2,607,618"},{"v":76794.36165477317,"d":"76,794"},{"v":80248.65639810926,"d":"80,249"},{"v":77710.26582623442,"d":"77,710"}]
[{"v":2656588,"d":"2,656,588"},{"v":79565,"d":"79,565"},{"v":82082,"d":"82,082"},{"v":80509,"d":"80,509"},null,122,null,{"v":2581974.34587296,"d":"2,581,974"},{"v":76039.14448595868,"d":"76,039"},{"v":79085.02479407309,"d":"79,085"},{"v":76794.36165477317,"d":"76,794"}]
[{"v":2624208,"d":"2,624,208"},{"v":78595,"d":"78,595"},{"v":80839,"d":"80,839"},{"v":79565,"d":"79,565"},null,121,null,{"v":2550166.89933017,"d":"2,550,167"},{"v":75102.41518527351,"d":"75,102"},{"v":78372.44131389569,"d":"78,372"},{"v":76039.14448595868,"d":"76,039"}]
[{"v":2596687,"d":"2,596,687"},{"v":77771,"d":"77,771"},{"v":79666,"d":"79,666"},{"v":78595,"d":"78,595"},null,120,null,{"v":2517029.00081649,"d":"2,517,029"},{"v":74126.50407404563,"d":"74,127"},{"v":77190.64694460665,"d":"77,191"},{"v":75102.41518527351,"d":"75,102"}]
[{"v":2567920,"d":"2,567,920"},{"v":76909,"d":"76,909"},{"v":78386,"d":"78,386"},{"v":77771,"d":"77,771"},null,119,null,{"v":2500002.88257707,"d":"2,500,003"},{"v":73625.08489189472,"d":"73,625"},{"v":76049.23924055336,"d":"76,049"},{"v":74126.50407404563,"d":"74,127"}]
[{"v":2535908,"d":"2,535,908"},{"v":75950,"d":"75,950"},{"v":77176,"d":"77,176"},{"v":76909,"d":"76,909"},null,118,null,{"v":2491480.89594326,"d":"2,491,481"},{"v":73374.112385529,"d":"73,374"},{"v":74991.2880639422,"d":"74,991"},{"v":73625.08489189472,"d":"73,625"}]
[{"v":2505862,"d":"2,505,862"},{"v":75051,"d":"75,051"},{"v":76117,"d":"76,117"},{"v":75950,"d":"75,950"},null,117,null,{"v":2459899.73719703,"d":"2,459,900"},{"v":72444.04726045253,"d":"72,444"},{"v":73867.72529821013,"d":"73,868"},{"v":73374.112385529,"d":"73,374"}]
[{"v":2499875,"d":"2,499,875"},{"v":74871,"d":"74,871"},{"v":74948,"d":"74,948"},{"v":75051,"d":"75,051"},null,116,null,{"v":2428994.75130411,"d":"2,428,995"},{"v":71533.89542590604,"d":"71,534"},{"v":72775.59923524257,"d":"72,776"},{"v":72444.04726045253,"d":"72,444"}]
[{"v":2479675,"d":"2,479,675"},{"v":74266,"d":"74,266"},{"v":73837,"d":"73,837"},{"v":74871,"d":"74,871"},null,115,null,{"v":2402788.30819825,"d":"2,402,788"},{"v":70762.11567643847,"d":"70,762"},{"v":71420.80145091478,"d":"71,421"},{"v":71533.89542590604,"d":"71,534"}]
[{"v":2448114,"d":"2,448,114"},{"v":73321,"d":"73,321"},{"v":72404,"d":"72,404"},{"v":74266,"d":"74,266"},null,114,null,{"v":2387225.24836324,"d":"2,387,225"},{"v":70303.78356429742,"d":"70,304"},{"v":70474.41656549559,"d":"70,474"},{"v":70762.11567643847,"d":"70,762"}]
[{"v":2417470,"d":"2,417,470"},{"v":72403,"d":"72,403"},{"v":71536,"d":"71,536"},{"v":73321,"d":"73,321"},null,113,null,{"v":2356042.24716875,"d":"2,356,042"},{"v":69385.44417911969,"d":"69,385"},{"v":69324.37283976839,"d":"69,324"},{"v":70303.78356429742,"d":"70,304"}]
[{"v":2399405,"d":"2,399,405"},{"v":71862,"d":"71,862"},{"v":70282,"d":"70,282"},{"v":72403,"d":"72,403"},null,112,null,{"v":2327497.87309675,"d":"2,327,498"},{"v":68544.81236269929,"d":"68,545"},{"v":68235.385555644,"d":"68,235"},{"v":69385.44417911969,"d":"69,385"}]
[{"v":2376880,"d":"2,376,880"},{"v":71188,"d":"71,188"},{"v":69136,"d":"69,136"},{"v":71862,"d":"71,862"},null,111,null,{"v":2302926.61207795,"d":"2,302,927"},{"v":67821.18872569563,"d":"67,821"},{"v":66795.90491728402,"d":"66,796"},{"v":68544.81236269929,"d":"68,545"}]
[{"v":2347059,"d":"2,347,059"},{"v":70294,"d":"70,294"},{"v":67703,"d":"67,703"},{"v":71188,"d":"71,188"},null,110,null,{"v":2286706.37407765,"d":"2,286,706"},{"v":67343.5027165868,"d":"67,344"},{"v":65802.66776355615,"d":"65,803"},{"v":67821.18872569563,"d":"67,821"}]
[{"v":2318995,"d":"2,318,995"},{"v":69454,"d":"69,454"},{"v":66705,"d":"66,705"},{"v":70294,"d":"70,294"},null,109,null,{"v":2256900.87551597,"d":"2,256,901"},{"v":66465.73078394531,"d":"66,466"},{"v":64742.07544544455,"d":"64,742"},{"v":67343.5027165868,"d":"67,344"}]
[{"v":2299647,"d":"2,299,647"},{"v":68874,"d":"68,874"},{"v":65575,"d":"65,575"},{"v":69454,"d":"69,454"},null,108,null,{"v":2231074.7320713,"d":"2,231,075"},{"v":65705.15085949979,"d":"65,705"},{"v":63518.841823734,"d":"63,519"},{"v":66465.73078394531,"d":"66,466"}]
[{"v":2277858,"d":"2,277,858"},{"v":68222,"d":"68,222"},{"v":64218,"d":"64,218"},{"v":68874,"d":"68,874"},null,107,null,{"v":2204876.53145742,"d":"2,204,877"},{"v":64933.61385142102,"d":"64,934"},{"v":62228.72116416164,"d":"62,229"},{"v":65705.15085949979,"d":"65,705"}]
[{"v":2249084,"d":"2,249,084"},{"v":67360,"d":"67,360"},{"v":63038,"d":"63,038"},{"v":68222,"d":"68,222"},null,106,null,{"v":2196578.14649893,"d":"2,196,578"},{"v":64689.226414393495,"d":"64,689"},{"v":61060.3819007408,"d":"61,060"},{"v":64933.61385142102,"d":"64,934"}]
[{"v":2222333,"d":"2,222,333"},{"v":66559,"d":"66,559"},{"v":61721,"d":"61,721"},{"v":67360,"d":"67,360"},null,105,null,{"v":2170963.34495584,"d":"2,170,963"},{"v":63934.87050894949,"d":"63,935"},{"v":59954.38311585542,"d":"59,954"},{"v":64689.226414393495,"d":"64,689"}]
[{"v":2201244,"d":"2,201,244"},{"v":65927,"d":"65,927"},{"v":60678,"d":"60,678"},{"v":66559,"d":"66,559"},null,104,null,{"v":2145289.48739737,"d":"2,145,289"},{"v":63178.775403852545,"d":"63,179"},{"v":58740.03892081354,"d":"58,740"},{"v":63934.87050894949,"d":"63,935"}]
[{"v":2191994,"d":"2,191,994"},{"v":65650,"d":"65,650"},{"v":59374,"d":"59,374"},{"v":65927,"d":"65,927"},null,103,null,{"v":2117159.72983352,"d":"2,117,160"},{"v":62350.354043597166,"d":"62,350"},{"v":57800.207895058265,"d":"57,800"},{"v":63178.775403852545,"d":"63,179"}]
[{"v":2164216,"d":"2,164,216"},{"v":64818,"d":"64,818"},{"v":58462,"d":"58,462"},{"v":65650,"d":"65,650"},null,102,null,{"v":2099111.97225456,"d":"2,099,112"},{"v":61818.847582896786,"d":"61,819"},{"v":56698.67412517588,"d":"56,699"},{"v":62350.354043597166,"d":"62,350"}]
[{"v":2139783,"d":"2,139,783"},{"v":64087,"d":"64,087"},{"v":57308,"d":"57,308"},{"v":64818,"d":"64,818"},null,101,null,{"v":2079597.31810209,"d":"2,079,597"},{"v":61244.14101810655,"d":"61,244"},{"v":55637.09835254128,"d":"55,637"},{"v":61818.847582896786,"d":"61,819"}]
[{"v":2111042,"d":"2,111,042"},{"v":63226,"d":"63,226"},{"v":56203,"d":"56,203"},{"v":64087,"d":"64,087"},null,100,null,{"v":2054866.93539168,"d":"2,054,867"},{"v":60515.83124728498,"d":"60,516"},{"v":54471.98220451945,"d":"54,472"},{"v":61244.14101810655,"d":"61,244"}]
[{"v":2096392,"d":"2,096,392"},{"v":62787,"d":"62,787"},{"v":55042,"d":"55,042"},{"v":63226,"d":"63,226"},null,99,null,{"v":2028095.4677412,"d":"2,028,095"},{"v":59727.41152497834,"d":"59,727"},{"v":53627.036524602256,"d":"53,627"},{"v":60515.83124728498,"d":"60,516"}]
[{"v":2074162,"d":"2,074,162"},{"v":62121,"d":"62,121"},{"v":54183,"d":"54,183"},{"v":62787,"d":"62,787"},null,98,null,{"v":2003430.30070913,"d":"2,003,430"},{"v":59001.02235588388,"d":"59,001"},{"v":52589.269913699194,"d":"52,589"},{"v":59727.41152497834,"d":"59,727"}]
[{"v":2049147,"d":"2,049,147"},{"v":61372,"d":"61,372"},{"v":53111,"d":"53,111"},{"v":62121,"d":"62,121"},null,97,null,{"v":2000000,"d":"2,000,000"},{"v":58900,"d":"58,900"},{"v":51640.29631950713,"d":"51,640"},{"v":59001.02235588388,"d":"59,001"}]
[{"v":2022517,"d":"2,022,517"},{"v":60574,"d":"60,574"},{"v":52181,"d":"52,181"},{"v":61372,"d":"61,372"},null,96,null,{"v":1999902.55432744,"d":"1,999,903"},{"v":58897.13022494311,"d":"58,897"},{"v":50694.5468674154,"d":"50,695"},{"v":58900,"d":"58,900"}]
[{"v":2001326,"d":"2,001,326"},{"v":59940,"d":"59,940"},{"v":51204,"d":"51,204"},{"v":60574,"d":"60,574"},null,95,null,{"v":1984722.14949271,"d":"1,984,722"},{"v":58450.06730256031,"d":"58,450"},{"v":49808.53195252127,"d":"49,809"},{"v":58897.13022494311,"d":"58,897"}]
[{"v":2000000,"d":"2,000,000"},{"v":59900,"d":"59,900"},{"v":50359,"d":"50,359"},{"v":59940,"d":"59,940"},null,94,null,{"v":1958102.63056987,"d":"1,958,103"},{"v":57666.122470282666,"d":"57,666"},{"v":48989.158740241044,"d":"48,989"},{"v":58450.06730256031,"d":"58,450"}]
[{"v":1999764,"d":"1,999,764"},{"v":59893,"d":"59,893"},{"v":49383,"d":"49,383"},{"v":59900,"d":"59,900"},null,93,null,{"v":1933239.92712097,"d":"1,933,240"},{"v":56933.91585371257,"d":"56,934"},{"v":48033.10493427862,"d":"48,033"},{"v":57666.122470282666,"d":"57,666"}]
[{"v":1982457,"d":"1,982,457"},{"v":59375,"d":"59,375"},{"v":48466,"d":"48,466"},{"v":59893,"d":"59,893"},null,92,null,{"v":1908276.22022468,"d":"1,908,276"},{"v":56198.73468561682,"d":"56,199"},{"v":47104.148445789826,"d":"47,104"},{"v":56933.91585371257,"d":"56,934"}]
[{"v":1956276,"d":"1,956,276"},{"v":58590,"d":"58,590"},{"v":47492,"d":"47,492"},{"v":59375,"d":"59,375"},null,91,null,{"v":1900000,"d":"1,900,000"},{"v":55955,"d":"55,955"},{"v":46225.27208667473,"d":"46,225"},{"v":56198.73468561682,"d":"56,199"}]
[{"v":1930811,"d":"1,930,811"},{"v":57828,"d":"57,828"},{"v":46489,"d":"46,489"},{"v":58590,"d":"58,590"},null,90,null,{"v":1885426.66345615,"d":"1,885,427"},{"v":55525.81523878362,"d":"55,526"},{"v":45249.2973090097,"d":"45,249"},{"v":55955,"d":"55,955"}]
[{"v":1906681,"d":"1,906,681"},{"v":57105,"d":"57,105"},{"v":45627,"d":"45,627"},{"v":57828,"d":"57,828"},null,89,null,{"v":1859838.67591514,"d":"1,859,839"},{"v":54772.249005700876,"d":"54,772"},{"v":44453.41985076608,"d":"44,453"},{"v":55525.81523878362,"d":"55,526"}]
[{"v":1900000,"d":"1,900,000"},{"v":56905,"d":"56,905"},{"v":44726,"d":"44,726"},{"v":57105,"d":"57,105"},null,88,null,{"v":1838743.81446089,"d":"1,838,744"},{"v":54151.00533587321,"d":"54,151"},{"v":43572.240805141,"d":"43,572"},{"v":54772.249005700876,"d":"54,772"}]
[{"v":1885458,"d":"1,885,458"},{"v":56469,"d":"56,469"},{"v":43797,"d":"43,797"},{"v":56905,"d":"56,905"},null,87,null,{"v":1815693.26965238,"d":"1,815,693"},{"v":53472.16679126259,"d":"53,472"},{"v":42664.696530444206,"d":"42,665"},{"v":54151.00533587321,"d":"54,151"}]
[{"v":1860229,"d":"1,860,229"},{"v":55714,"d":"55,714"},{"v":43030,"d":"43,030"},{"v":56469,"d":"56,469"},null,86,null,{"v":1800112.61418894,"d":"1,800,113"},{"v":53013.316487864286,"d":"53,013"},{"v":42090.08794922851,"d":"42,090"},{"v":53472.16679126259,"d":"53,472"}]
[{"v":1839724,"d":"1,839,724"},{"v":55100,"d":"55,100"},{"v":42223,"d":"42,223"},{"v":55714,"d":"55,714"},null,85,null,{"v":1797752.95445817,"d":"1,797,753"},{"v":52943.82450879311,"d":"52,944"},{"v":41083.92932791625,"d":"41,084"},{"v":53013.316487864286,"d":"53,013"}]
[{"v":1816902,"d":"1,816,902"},{"v":54416,"d":"54,416"},{"v":41342,"d":"41,342"},{"v":55100,"d":"55,100"},null,84,null,{"v":1776126.24756187,"d":"1,776,126"},{"v":52306.91799069707,"d":"52,307"},{"v":40314.98791863608,"d":"40,315"},{"v":52943.82450879311,"d":"52,944"}]
[{"v":1800307,"d":"1,800,307"},{"v":53919,"d":"53,919"},{"v":40592,"d":"40,592"},{"v":54416,"d":"54,416"},null,83,null,{"v":1753548.83553835,"d":"1,753,549"},{"v":51642.01320660441,"d":"51,642"},{"v":39458.50765872697,"d":"39,459"},{"v":52306.91799069707,"d":"52,307"}]
[{"v":1798687,"d":"1,798,687"},{"v":53871,"d":"53,871"},{"v":39647,"d":"39,647"},{"v":53919,"d":"53,919"},null,82,null,{"v":1735505.26472322,"d":"1,735,505"},{"v":51110.63004609883,"d":"51,111"},{"v":38748.35471148986,"d":"38,748"},{"v":51642.01320660441,"d":"51,642"}]
[{"v":1778319,"d":"1,778,319"},{"v":53261,"d":"53,261"},{"v":38986,"d":"38,986"},{"v":53871,"d":"53,871"},null,81,null,{"v":1711680.03895004,"d":"1,711,680"},{"v":50408.97714707868,"d":"50,409"},{"v":37976.48172499864,"d":"37,976"},{"v":51110.63004609883,"d":"51,111"}]
[{"v":1755011,"d":"1,755,011"},{"v":52563,"d":"52,563"},{"v":37994,"d":"37,994"},{"v":53261,"d":"53,261"},null,80,null,{"v":1700000,"d":"1,700,000"},{"v":50065,"d":"50,065"},{"v":36984.59176929814,"d":"36,985"},{"v":50408.97714707868,"d":"50,409"}]
[{"v":1737596,"d":"1,737,596"},{"v":52041,"d":"52,041"},{"v":37208,"d":"37,208"},{"v":52563,"d":"52,563"},null,79,null,{"v":1697663.31945809,"d":"1,697,663"},{"v":49996.18475804075,"d":"49,996"},{"v":36329.82065588571,"d":"36,330"},{"v":50065,"d":"50,065"}]
[{"v":1714603,"d":"1,714,603"},{"v":51352,"d":"51,352"},{"v":36722,"d":"36,722"},{"v":52041,"d":"52,041"},null,78,null,{"v":1677217.20105236,"d":"1,677,217"},{"v":49394.046570992,"d":"49,394"},{"v":35928.63765043275,"d":"35,929"},{"v":49996.18475804075,"d":"49,996"}]
[{"v":1700056,"d":"1,700,056"},{"v":50917,"d":"50,917"},{"v":35872,"d":"35,872"},{"v":51352,"d":"51,352"},null,77,null,{"v":1657029.0364703,"d":"1,657,029"},{"v":48799.50512405034,"d":"48,800"},{"v":34959.682105207256,"d":"34,960"},{"v":49394.046570992,"d":"49,394"}]
[{"v":1699177,"d":"1,699,177"},{"v":50890,"d":"50,890"},{"v":35024,"d":"35,024"},{"v":50917,"d":"50,917"},null,76,null,{"v":1640810.42735533,"d":"1,640,810"},{"v":48321.86708561447,"d":"48,322"},{"v":34229.27633553729,"d":"34,229"},{"v":48799.50512405034,"d":"48,800"}]
[{"v":1681105,"d":"1,681,105"},{"v":50349,"d":"50,349"},{"v":34385,"d":"34,385"},{"v":50890,"d":"50,890"},null,75,null,{"v":1617837.04300164,"d":"1,617,837"},{"v":47645.30091639829,"d":"47,645"},{"v":33563.270508258436,"d":"33,563"},{"v":48321.86708561447,"d":"48,322"}]
[{"v":1659960,"d":"1,659,960"},{"v":49716,"d":"49,716"},{"v":33377,"d":"33,377"},{"v":50349,"d":"50,349"},null,74,null,{"v":1600689.80068645,"d":"1,600,690"},{"v":47140.31463021595,"d":"47,140"},{"v":32533.303652247778,"d":"32,533"},{"v":47645.30091639829,"d":"47,645"}]
[{"v":1643981,"d":"1,643,981"},{"v":49237,"d":"49,237"},{"v":32573,"d":"32,573"},{"v":49716,"d":"49,716"},null,73,null,{"v":1598353.58991184,"d":"1,598,354"},{"v":47071.51322290369,"d":"47,072"},{"v":31873.111390105914,"d":"31,873"},{"v":47140.31463021595,"d":"47,140"}]
[{"v":1621774,"d":"1,621,774"},{"v":48572,"d":"48,572"},{"v":32151,"d":"32,151"},{"v":49237,"d":"49,237"},null,72,null,{"v":1579397.68089996,"d":"1,579,398"},{"v":46513.26170250382,"d":"46,513"},{"v":31607.760000000002,"d":"31,608"},{"v":47071.51322290369,"d":"47,072"}]
[{"v":1602174,"d":"1,602,174"},{"v":47985,"d":"47,985"},{"v":31807,"d":"31,807"},{"v":48572,"d":"48,572"},null,71,null,{"v":1558928.73034761,"d":"1,558,929"},{"v":45910.45110873712,"d":"45,910"},{"v":30993.60070741934,"d":"30,994"},{"v":46513.26170250382,"d":"46,513"}]
[{"v":1599605,"d":"1,599,605"},{"v":47908,"d":"47,908"},{"v":30823,"d":"30,823"},{"v":47985,"d":"47,985"},null,70,null,{"v":1541768.2787547,"d":"1,541,768"},{"v":45405.075809325914,"d":"45,405"},{"v":30168.85752038018,"d":"30,169"},{"v":45910.45110873712,"d":"45,910"}]
[{"v":1584036,"d":"1,584,036"},{"v":47442,"d":"47,442"},{"v":30256,"d":"30,256"},{"v":47908,"d":"47,908"},null,69,null,{"v":1520874.3392201,"d":"1,520,874"},{"v":44789.74929003195,"d":"44,790"},{"v":29656.854924453564,"d":"29,657"},{"v":45405.075809325914,"d":"45,405"}]
[{"v":1563833,"d":"1,563,833"},{"v":46837,"d":"46,837"},{"v":29858,"d":"29,858"},{"v":47442,"d":"47,442"},null,68,null,{"v":1501927.33348957,"d":"1,501,927"},{"v":44231.75997126784,"d":"44,232"},{"v":29195.29042009659,"d":"29,195"},{"v":44789.74929003195,"d":"44,790"}]
[{"v":1546020,"d":"1,546,020"},{"v":46303,"d":"46,303"},{"v":28954,"d":"28,954"},{"v":46837,"d":"46,837"},null,67,null,{"v":1500000,"d":"1,500,000"},{"v":44175,"d":"44,175"},{"v":28317.57623728716,"d":"28,318"},{"v":44231.75997126784,"d":"44,232"}]
[{"v":1526622,"d":"1,526,622"},{"v":45722,"d":"45,722"},{"v":28402,"d":"28,402"},{"v":46303,"d":"46,303"},null,66,null,{"v":1500000,"d":"1,500,000"},{"v":44175,"d":"44,175"},{"v":27780.843663400436,"d":"27,781"},{"v":44175,"d":"44,175"}]
[{"v":1506026,"d":"1,506,026"},{"v":45105,"d":"45,105"},{"v":27310,"d":"27,310"},{"v":45722,"d":"45,722"},null,65,null,{"v":1500000,"d":"1,500,000"},{"v":44175,"d":"44,175"},{"v":26684.58493387859,"d":"26,685"},{"v":44175,"d":"44,175"}]
[{"v":1500000,"d":"1,500,000"},{"v":44925,"d":"44,925"},{"v":26519,"d":"26,519"},{"v":45105,"d":"45,105"},null,64,null,{"v":1491745.96835356,"d":"1,491,746"},{"v":43931.91876801234,"d":"43,932"},{"v":26005.110703948587,"d":"26,005"},{"v":44175,"d":"44,175"}]
[{"v":1500000,"d":"1,500,000"},{"v":44925,"d":"44,925"},{"v":26181,"d":"26,181"},{"v":44925,"d":"44,925"},null,63,null,{"v":1469870.57489756,"d":"1,469,871"},{"v":43287.68843073314,"d":"43,288"},{"v":25735.28,"d":"25,735"},{"v":43931.91876801234,"d":"43,932"}]
[{"v":1500000,"d":"1,500,000"},{"v":44925,"d":"44,925"},{"v":26167,"d":"26,167"},{"v":44925,"d":"44,925"},null,62,null,{"v":1450184.57451312,"d":"1,450,185"},{"v":42707.93571941139,"d":"42,708"},{"v":25735.28,"d":"25,735"},{"v":43287.68843073314,"d":"43,288"}]
[{"v":1496531,"d":"1,496,531"},{"v":44821,"d":"44,821"},{"v":26013,"d":"26,013"},{"v":44925,"d":"44,925"},null,61,null,{"v":1432269.77796089,"d":"1,432,270"},{"v":42180.34496094821,"d":"42,180"},{"v":25480.931971640228,"d":"25,481"},{"v":42707.93571941139,"d":"42,708"}]
[{"v":1475672,"d":"1,475,672"},{"v":44196,"d":"44,196"},{"v":25248,"d":"25,248"},{"v":44821,"d":"44,821"},null,60,null,{"v":1410921.65166245,"d":"1,410,922"},{"v":41551.642641459155,"d":"41,552"},{"v":24691.98135691327,"d":"24,692"},{"v":42180.34496094821,"d":"42,180"}]
[{"v":1454747,"d":"1,454,747"},{"v":43570,"d":"43,570"},{"v":24479,"d":"24,479"},{"v":44196,"d":"44,196"},null,59,null,{"v":1400000,"d":"1,400,000"},{"v":41230,"d":"41,230"},{"v":23974.828109830505,"d":"23,975"},{"v":41551.642641459155,"d":"41,552"}]
[{"v":1437975,"d":"1,437,975"},{"v":43067,"d":"43,067"},{"v":24066,"d":"24,066"},{"v":43570,"d":"43,570"},null,58,null,{"v":1400000,"d":"1,400,000"},{"v":41230,"d":"41,230"},{"v":23662.64,"d":"23,663"},{"v":41230,"d":"41,230"}]
[{"v":1420406,"d":"1,420,406"},{"v":42541,"d":"42,541"},{"v":24052,"d":"24,052"},{"v":43067,"d":"43,067"},null,57,null,{"v":1394056.79592361,"d":"1,394,057"},{"v":41054.97263995031,"d":"41,055"},{"v":23662.64,"d":"23,663"},{"v":41230,"d":"41,230"}]
[{"v":1402112,"d":"1,402,112"},{"v":41993,"d":"41,993"},{"v":24052,"d":"24,052"},{"v":42541,"d":"42,541"},null,56,null,{"v":1375602.03848072,"d":"1,375,602"},{"v":40511.480033257205,"d":"40,511"},{"v":23601.79978650516,"d":"23,602"},{"v":41054.97263995031,"d":"41,055"}]
[{"v":1400000,"d":"1,400,000"},{"v":41930,"d":"41,930"},{"v":23527,"d":"23,527"},{"v":41993,"d":"41,993"},null,55,null,{"v":1354748.83171295,"d":"1,354,749"},{"v":39897.35309394638,"d":"39,897"},{"v":22832.551434489316,"d":"22,833"},{"v":40511.480033257205,"d":"40,511"}]
[{"v":1398144,"d":"1,398,144"},{"v":41874,"d":"41,874"},{"v":22666,"d":"22,666"},{"v":41930,"d":"41,930"},null,54,null,{"v":1340593.33655896,"d":"1,340,593"},{"v":39480.47376166137,"d":"39,480"},{"v":22178.25938660074,"d":"22,178"},{"v":39897.35309394638,"d":"39,897"}]
[{"v":1380398,"d":"1,380,398"},{"v":41343,"d":"41,343"},{"v":22159,"d":"22,159"},{"v":41874,"d":"41,874"},null,53,null,{"v":1319497.7973116,"d":"1,319,498"},{"v":38859.21013082662,"d":"38,859"},{"v":21709.088559972366,"d":"21,709"},{"v":39480.47376166137,"d":"39,480"}]
[{"v":1359106,"d":"1,359,106"},{"v":40705,"d":"40,705"},{"v":21850,"d":"21,850"},{"v":41343,"d":"41,343"},null,52,null,{"v":1301974.81505057,"d":"1,301,975"},{"v":38343.15830323929,"d":"38,343"},{"v":21291.739059960615,"d":"21,292"},{"v":38859.21013082662,"d":"38,859"}]
[{"v":1343708,"d":"1,343,708"},{"v":40244,"d":"40,244"},{"v":20861,"d":"20,861"},{"v":40705,"d":"40,705"},null,51,null,{"v":1300000,"d":"1,300,000"},{"v":38285,"d":"38,285"},{"v":20367.81073315802,"d":"20,368"},{"v":38343.15830323929,"d":"38,343"}]
[{"v":1324228,"d":"1,324,228"},{"v":39661,"d":"39,661"},{"v":20336,"d":"20,336"},{"v":40244,"d":"40,244"},null,50,null,{"v":1298449.5611836,"d":"1,298,450"},{"v":38239.33957685702,"d":"38,239"},{"v":19883.3636198518,"d":"19,883"},{"v":38285,"d":"38,285"}]
[{"v":1304925,"d":"1,304,925"},{"v":39083,"d":"39,083"},{"v":19633,"d":"19,633"},{"v":39661,"d":"39,661"},null,49,null,{"v":1281116.89748552,"d":"1,281,117"},{"v":37728.89263094856,"d":"37,729"},{"v":19056.794827128328,"d":"19,057"},{"v":38239.33957685702,"d":"38,239"}]
[{"v":1300000,"d":"1,300,000"},{"v":38935,"d":"38,935"},{"v":18617,"d":"18,617"},{"v":39083,"d":"39,083"},null,48,null,{"v":1259630.46605479,"d":"1,259,630"},{"v":37096.11722531357,"d":"37,096"},{"v":18204.857104012313,"d":"18,205"},{"v":37728.89263094856,"d":"37,729"}]
[{"v":1299861,"d":"1,299,861"},{"v":38931,"d":"38,931"},{"v":18186,"d":"18,186"},{"v":38935,"d":"38,935"},null,47,null,{"v":1246788.74504437,"d":"1,246,789"},{"v":36717.9285415567,"d":"36,718"},{"v":17845.279058923457,"d":"17,845"},{"v":37096.11722531357,"d":"37,096"}]
[{"v":1286237,"d":"1,286,237"},{"v":38523,"d":"38,523"},{"v":18082,"d":"18,082"},{"v":38931,"d":"38,931"},null,46,null,{"v":1227514.76937266,"d":"1,227,515"},{"v":36150.30995802484,"d":"36,150"},{"v":17790.16,"d":"17,790"},{"v":36717.9285415567,"d":"36,718"}]
[{"v":1265429,"d":"1,265,429"},{"v":37900,"d":"37,900"},{"v":18082,"d":"18,082"},{"v":38523,"d":"38,523"},null,45,null,{"v":1205930.02995297,"d":"1,205,930"},{"v":35514.63938211497,"d":"35,515"},{"v":17790.16,"d":"17,790"},{"v":36150.30995802484,"d":"36,150"}]
[{"v":1249802,"d":"1,249,802"},{"v":37432,"d":"37,432"},{"v":18082,"d":"18,082"},{"v":37900,"d":"37,900"},null,44,null,{"v":1200000,"d":"1,200,000"},{"v":35340,"d":"35,340"},{"v":17790.16,"d":"17,790"},{"v":35514.63938211497,"d":"35,515"}]
[{"v":1233638,"d":"1,233,638"},{"v":36947,"d":"36,947"},{"v":18082,"d":"18,082"},{"v":37432,"d":"37,432"},null,43,null,{"v":1200000,"d":"1,200,000"},{"v":35340,"d":"35,340"},{"v":17790.16,"d":"17,790"},{"v":35340,"d":"35,340"}]
[{"v":1211433,"d":"1,211,433"},{"v":36282,"d":"36,282"},{"v":18082,"d":"18,082"},{"v":36947,"d":"36,947"},null,42,null,{"v":1200000,"d":"1,200,000"},{"v":35340,"d":"35,340"},{"v":17790.16,"d":"17,790"},{"v":35340,"d":"35,340"}]
[{"v":1200000,"d":"1,200,000"},{"v":35940,"d":"35,940"},{"v":17759,"d":"17,759"},{"v":36282,"d":"36,282"},null,41,null,{"v":1199326.8816245,"d":"1,199,327"},{"v":35320.17666384153,"d":"35,320"},{"v":17418.81508908887,"d":"17,419"},{"v":35340,"d":"35,340"}]
[{"v":1200000,"d":"1,200,000"},{"v":35940,"d":"35,940"},{"v":16738,"d":"16,738"},{"v":35940,"d":"35,940"},null,40,null,{"v":1183609.89846833,"d":"1,183,610"},{"v":34857.31150989232,"d":"34,857"},{"v":16433.716500172588,"d":"16,434"},{"v":35320.17666384153,"d":"35,320"}]
[{"v":1200000,"d":"1,200,000"},{"v":35940,"d":"35,940"},{"v":16141,"d":"16,141"},{"v":35940,"d":"35,940"},null,39,null,{"v":1161330.84619571,"d":"1,161,331"},{"v":34201.19342046366,"d":"34,201"},{"v":15853.245491529018,"d":"15,853"},{"v":34857.31150989232,"d":"34,857"}]
[{"v":1200000,"d":"1,200,000"},{"v":35940,"d":"35,940"},{"v":15804,"d":"15,804"},{"v":35940,"d":"35,940"},null,38,null,{"v":1145893.04017418,"d":"1,145,893"},{"v":33746.5500331296,"d":"33,747"},{"v":15544.800000000001,"d":"15,545"},{"v":34201.19342046366,"d":"34,201"}]
[{"v":1196332,"d":"1,196,332"},{"v":35830,"d":"35,830"},{"v":15804,"d":"15,804"},{"v":35940,"d":"35,940"},null,37,null,{"v":1125266.24295023,"d":"1,125,266"},{"v":33139.09085488427,"d":"33,139"},{"v":15544.800000000001,"d":"15,545"},{"v":33746.5500331296,"d":"33,747"}]
[{"v":1175183,"d":"1,175,183"},{"v":35197,"d":"35,197"},{"v":15704,"d":"15,704"},{"v":35830,"d":"35,830"},null,36,null,{"v":1103693.96935149,"d":"1,103,694"},{"v":32503.787397401382,"d":"32,504"},{"v":15458.060126400693,"d":"15,458"},{"v":33139.09085488427,"d":"33,139"}]
[{"v":1154338,"d":"1,154,338"},{"v":34572,"d":"34,572"},{"v":14567,"d":"14,567"},{"v":35197,"d":"35,197"},null,35,null,{"v":1100000,"d":"1,100,000"},{"v":32395,"d":"32,395"},{"v":14369.45400143391,"d":"14,369"},{"v":32503.787397401382,"d":"32,504"}]
[{"v":1137381,"d":"1,137,381"},{"v":34065,"d":"34,065"},{"v":14180,"d":"14,180"},{"v":34572,"d":"34,572"},null,34,null,{"v":1100000,"d":"1,100,000"},{"v":32395,"d":"32,395"},{"v":13967.377107198756,"d":"13,967"},{"v":32395,"d":"32,395"}]
[{"v":1113611,"d":"1,113,611"},{"v":33353,"d":"33,353"},{"v":14079,"d":"14,079"},{"v":34065,"d":"34,065"},null,33,null,{"v":1087773.55320017,"d":"1,087,774"},{"v":32034.931141745004,"d":"32,035"},{"v":13870.418618089045,"d":"13,870"},{"v":32395,"d":"32,395"}]
[{"v":1100000,"d":"1,100,000"},{"v":32945,"d":"32,945"},{"v":13711,"d":"13,711"},{"v":33353,"d":"33,353"},null,32,null,{"v":1064386.82583122,"d":"1,064,387"},{"v":31346.19202072943,"d":"31,346"},{"v":13493.646569478693,"d":"13,494"},{"v":32034.931141745004,"d":"32,035"}]
[{"v":1100000,"d":"1,100,000"},{"v":32945,"d":"32,945"},{"v":13617,"d":"13,617"},{"v":32945,"d":"32,945"},null,31,null,{"v":1048894.53516186,"d":"1,048,895"},{"v":30889.94406051678,"d":"30,890"},{"v":13457.680941076438,"d":"13,458"},{"v":31346.19202072943,"d":"31,346"}]
[{"v":1099882,"d":"1,099,882"},{"v":32941,"d":"32,941"},{"v":12608,"d":"12,608"},{"v":32945,"d":"32,945"},null,30,null,{"v":1036208.8856767,"d":"1,036,209"},{"v":30516.35168317882,"d":"30,516"},{"v":12504.32192893935,"d":"12,504"},{"v":30889.94406051678,"d":"30,890"}]
[{"v":1086821,"d":"1,086,821"},{"v":32550,"d":"32,550"},{"v":12299,"d":"12,299"},{"v":32941,"d":"32,941"},null,29,null,{"v":1017643.1091085,"d":"1,017,643"},{"v":29969.589563245325,"d":"29,970"},{"v":12100.553525053743,"d":"12,101"},{"v":30516.35168317882,"d":"30,516"}]
[{"v":1064120,"d":"1,064,120"},{"v":31870,"d":"31,870"},{"v":11957,"d":"11,957"},{"v":32550,"d":"32,550"},null,28,null,{"v":1000917.31487669,"d":"1,000,917"},{"v":29477.01492311852,"d":"29,477"},{"v":11790.497487453164,"d":"11,790"},{"v":29969.589563245325,"d":"29,970"}]
[{"v":1049907,"d":"1,049,907"},{"v":31445,"d":"31,445"},{"v":11940,"d":"11,940"},{"v":31870,"d":"31,870"},null,27,null,{"v":1000000,"d":"1,000,000"},{"v":29450,"d":"29,450"},{"v":11744.960000000001,"d":"11,745"},{"v":29477.01492311852,"d":"29,477"}]
[{"v":1036849,"d":"1,036,849"},{"v":31054,"d":"31,054"},{"v":11940,"d":"11,940"},{"v":31445,"d":"31,445"},null,26,null,{"v":1000000,"d":"1,000,000"},{"v":29450,"d":"29,450"},{"v":11744.960000000001,"d":"11,745"},{"v":29450,"d":"29,450"}]
[{"v":1021230,"d":"1,021,230"},{"v":30586,"d":"30,586"},{"v":11549,"d":"11,549"},{"v":31054,"d":"31,054"},null,25,null,{"v":1000000,"d":"1,000,000"},{"v":29450,"d":"29,450"},{"v":11410.870580737655,"d":"11,411"},{"v":29450,"d":"29,450"}]
[{"v":1016512,"d":"1,016,512"},{"v":30445,"d":"30,445"},{"v":11011,"d":"11,011"},{"v":30586,"d":"30,586"},null,24,null,{"v":1000000,"d":"1,000,000"},{"v":29450,"d":"29,450"},{"v":10880.841734512276,"d":"10,881"},{"v":29450,"d":"29,450"}]
[{"v":1012164,"d":"1,012,164"},{"v":30314,"d":"30,314"},{"v":10018,"d":"10,018"},{"v":30445,"d":"30,445"},null,23,null,{"v":1000000,"d":"1,000,000"},{"v":29450,"d":"29,450"},{"v":9941.74831802007,"d":"9,942"},{"v":29450,"d":"29,450"}]
[{"v":1000022,"d":"1,000,022"},{"v":29951,"d":"29,951"},{"v":9834,"d":"9,834"},{"v":30314,"d":"30,314"},null,22,null,{"v":992142.522959916,"d":"992,143"},{"v":29218.597301169528,"d":"29,219"},{"v":9672.32,"d":"9,672"},{"v":29450,"d":"29,450"}]
[{"v":1000000,"d":"1,000,000"},{"v":29950,"d":"29,950"},{"v":9834,"d":"9,834"},{"v":29951,"d":"29,951"},null,21,null,{"v":980068.120628392,"d":"980,068"},{"v":28863.006152506143,"d":"28,863"},{"v":9672.32,"d":"9,672"},{"v":29218.597301169528,"d":"29,219"}]
[{"v":1000000,"d":"1,000,000"},{"v":29950,"d":"29,950"},{"v":9834,"d":"9,834"},{"v":29950,"d":"29,950"},null,20,null,{"v":971607.620221966,"d":"971,608"},{"v":28613.844415536896,"d":"28,614"},{"v":9672.32,"d":"9,672"},{"v":28863.006152506143,"d":"28,863"}]
[{"v":1000000,"d":"1,000,000"},{"v":29950,"d":"29,950"},{"v":9473,"d":"9,473"},{"v":29950,"d":"29,950"},null,19,null,{"v":959027.305970939,"d":"959,027"},{"v":28243.354160844156,"d":"28,243"},{"v":9340.57720916646,"d":"9,341"},{"v":28613.844415536896,"d":"28,614"}]
[{"v":999408,"d":"999,408"},{"v":29932,"d":"29,932"},{"v":9136,"d":"9,136"},{"v":29950,"d":"29,950"},null,18,null,{"v":954911.050803634,"d":"954,911"},{"v":28122.130446167022,"d":"28,122"},{"v":9031.88873416713,"d":"9,032"},{"v":28243.354160844156,"d":"28,243"}]
[{"v":981998,"d":"981,998"},{"v":29411,"d":"29,411"},{"v":8467,"d":"8,467"},{"v":29932,"d":"29,932"},null,17,null,{"v":945382.287993105,"d":"945,382"},{"v":27841.508381396943,"d":"27,842"},{"v":8391.413742631039,"d":"8,391"},{"v":28122.130446167022,"d":"28,122"}]
[{"v":961213,"d":"961,213"},{"v":28788,"d":"28,788"},{"v":7864,"d":"7,864"},{"v":29411,"d":"29,411"},null,16,null,{"v":922485.175877345,"d":"922,485"},{"v":27167.18842958781,"d":"27,167"},{"v":7767.661148729385,"d":"7,768"},{"v":27841.508381396943,"d":"27,842"},null,"100*1.017"]
[{"v":943225,"d":"943,225"},{"v":28250,"d":"28,250"},{"v":7712,"d":"7,712"},{"v":28788,"d":"28,788"},null,15,null,{"v":902556.311418894,"d":"902,556"},{"v":26580.283371286427,"d":"26,580"},{"v":7592.200088159529,"d":"7,592"},{"v":27167.18842958781,"d":"27,167"}]
[{"v":912216,"d":"912,216"},{"v":27321,"d":"27,321"},{"v":7665,"d":"7,665"},{"v":28250,"d":"28,250"},null,14,null,{"v":900000,"d":"900,000"},{"v":26505,"d":"26,505"},{"v":7539.893853793248,"d":"7,540"},{"v":26580.283371286427,"d":"26,580"}]
[{"v":900000,"d":"900,000"},{"v":26955,"d":"26,955"},{"v":6838,"d":"6,838"},{"v":27321,"d":"27,321"},null,13,null,{"v":898930.486444803,"d":"898,930"},{"v":26473.50282579945,"d":"26,474"},{"v":6769.901970364855,"d":"6,770"},{"v":26505,"d":"26,505"}]
[{"v":895979,"d":"895,979"},{"v":26835,"d":"26,835"},{"v":6641,"d":"6,641"},{"v":26955,"d":"26,955"},null,12,null,{"v":873228.009933925,"d":"873,228"},{"v":25716.56489255409,"d":"25,717"},{"v":6532.88,"d":"6,533"},{"v":26473.50282579945,"d":"26,474"}]
[{"v":859995,"d":"859,995"},{"v":25757,"d":"25,757"},{"v":6142,"d":"6,142"},{"v":26835,"d":"26,835"},null,11,null,{"v":845453.297125663,"d":"845,453"},{"v":24898.599600350775,"d":"24,899"},{"v":6037.764063835997,"d":"6,038"},{"v":25716.56489255409,"d":"25,717"}]
[{"v":822040,"d":"822,040"},{"v":24620,"d":"24,620"},{"v":5257,"d":"5,257"},{"v":25757,"d":"25,757"},null,10,null,{"v":809727.923672432,"d":"809,728"},{"v":23846.487352153123,"d":"23,846"},{"v":5167.458072122784,"d":"5,167"},{"v":24898.599600350775,"d":"24,899"}]
[{"v":800000,"d":"800,000"},{"v":23960,"d":"23,960"},{"v":4496,"d":"4,496"},{"v":24620,"d":"24,620"},null,9,null,{"v":800000,"d":"800,000"},{"v":23560,"d":"23,560"},{"v":4394.511471892503,"d":"4,395"},{"v":23846.487352153123,"d":"23,846"}]
[{"v":783389,"d":"783,389"},{"v":23463,"d":"23,463"},{"v":3697,"d":"3,697"},{"v":23960,"d":"23,960"},null,8,null,{"v":783225.171432027,"d":"783,225"},{"v":23065.981298673196,"d":"23,066"},{"v":3632.1874547916746,"d":"3,632"},{"v":23560,"d":"23,560"}]
[{"v":735910,"d":"735,910"},{"v":22041,"d":"22,041"},{"v":3509,"d":"3,509"},{"v":23463,"d":"23,463"},null,7,null,{"v":739382.10868349,"d":"739,382"},{"v":21774.80310072878,"d":"21,775"},{"v":3454.4,"d":"3,454"},{"v":23065.981298673196,"d":"23,066"}]
[{"v":700225,"d":"700,225"},{"v":20972,"d":"20,972"},{"v":3509,"d":"3,509"},{"v":22041,"d":"22,041"},null,6,null,{"v":702481.133117619,"d":"702,481"},{"v":20688.06937031388,"d":"20,688"},{"v":3454.4,"d":"3,454"},{"v":21774.80310072878,"d":"21,775"}]
[{"v":657701,"d":"657,701"},{"v":19698,"d":"19,698"},{"v":3080,"d":"3,080"},{"v":20972,"d":"20,972"},null,5,null,{"v":667693.514681867,"d":"667,694"},{"v":19663.574007380983,"d":"19,664"},{"v":2979.427891340712,"d":"2,979"},{"v":20688.06937031388,"d":"20,688"}]
[{"v":598841,"d":"598,841"},{"v":17935,"d":"17,935"},{"v":2773,"d":"2,773"},{"v":19698,"d":"19,698"},null,4,null,{"v":608100.338706019,"d":"608,100"},{"v":17908.55497489226,"d":"17,909"},{"v":2725.7571108396605,"d":"2,726"},{"v":19663.574007380983,"d":"19,664"}]
[{"v":525592,"d":"525,592"},{"v":15741,"d":"15,741"},{"v":2498,"d":"2,498"},{"v":17935,"d":"17,935"},null,3,null,{"v":540551.134569151,"d":"540,551"},{"v":15919.230913061496,"d":"15,919"},{"v":2450.668404365484,"d":"2,451"},{"v":17908.55497489226,"d":"17,909"}]
[{"v":465881,"d":"465,881"},{"v":13953,"d":"13,953"},{"v":2424,"d":"2,424"},{"v":15741,"d":"15,741"},null,2,null,{"v":472274.774014545,"d":"472,275"},{"v":13908.492094728352,"d":"13,908"},{"v":2373.5922632040083,"d":"2,374"},{"v":15919.230913061496,"d":"15,919"}]
[{"v":341716,"d":"341,716"},{"v":10234,"d":"10,234"},{"v":2034,"d":"2,034"},{"v":13953,"d":"13,953"},null,1,null,{"v":343879.006501753,"d":"343,879"},{"v":10127.236741476627,"d":"10,127"},{"v":2032,"d":"2,032"},{"v":13908.492094728352,"d":"13,908"}]

{"sheet":"3.소득기준금액계산","index":2,"n_rows":163,"n_cols":13,"rows_kept":163,"merged":[[1,10,1,12],[3,1,3,7],[100,1,100,6]]}
[]
[null,"<전국가구평균소득 : 2012.4/4분기~ 2013.3/4분기 평균금액>",{"$nulls":8},"*빨간박스에 노란색 부분만 입력할것"]
[]
[null,"- 자료 :  통계청 통계포털 (www.kosis.kr에서 [주제별 통계]-물가.가계-가계-가계소득지출-가계동향조사(신분류)\n                                                                               -전국(명목)-\"가구원수별 월평균가계수지(1인이상)\"",{"$nulls":8},"5인 - 4인 =",{"$f":"H13-G13","v":{"v":205537,"d":"205,537"}}]
[]
[null,"전국가구평균소득 \n100%",null,"1인","2인","3인","4인","5인이상","6인","7인","8인","9인","10인"]
[null,null,"2012.4/4분기",{"v":1534420,"d":"1,534,420"},{"v":2817097,"d":"2,817,097"},{"v":4252197,"d":"4,252,197"},{"v":4739574,"d":"4,739,574"},{"v":4961996,"d":"4,961,996"}]
[null,null,"2013.1/4분기",{"v":1557616,"d":"1,557,616"},{"v":2881660,"d":"2,881,660"},{"v":4327821,"d":"4,327,821"},{"v":4965308,"d":"4,965,308"},{"v":5168212,"d":"5,168,212"}]
[null,null,"2013.2/4분기",{"v":1527689,"d":"1,527,689"},{"v":2898073,"d":"2,898,073"},{"v":4164849,"d":"4,164,849"},{"v":4646835,"d":"4,646,835"},{"v":5003502,"d":"5,003,502"}]
[null,null,"2013.3/4분기",{"v":1531417,"d":"1,531,417"},{"v":3050417,"d":"3,050,417"},{"v":4380746,"d":"4,380,746"},{"v":4991335,"d":"4,991,335"},{"v":5031489,"d":"5,031,489"}]
[null,null,"합계",{"$f":"SUM(D7:D10)","v":{"v":6151142,"d":"6,151,142"}},{"$f":"SUM(E7:E10)","v":{"v":11647247,"d":"11,647,247"}},{"$f":"SUM(F7:F10)","v":{"v":17125613,"d":"17,125,613"}},{"$f":"SUM(G7:G10)","v":{"v":19343052,"d":"19,343,052"}},{"$f":"SUM(H7:H10)","v":{"v":20165199,"d":"20,165,199"}}]
[null,null,"평균",{"$f":"D11/4","v":{"v":1537785.5,"d":"1,537,785.50"}},{"$f":"E11/4","v":{"v":2911811.75,"d":"2,911,811.75"}},{"$f":"F11/4","v":{"v":4281403.25,"d":"4,281,403.25"}},{"$f":"G11/4","v":{"v":4835763,"d":"4,835,763.00"}},{"$f":"H11/4","v":{"v":5041299.75,"d":"5,041,299.75"}}]
[null,null,"(소수첫째에서반올림)",{"$f":"ROUND(D12,0)","v":{"v":1537786,"d":"1,537,786"}},{"$f":"ROUND(E12,0)","v":{"v":2911812,"d":"2,911,812"}},{"$f":"ROUND(F12,0)","v":{"v":4281403,"d":"4,281,403"}},{"$f":"ROUND(G12,0)","v":{"v":4835763,"d":"4,835,763"}},{"$f":"ROUND(H12,0)","v":{"v":5041300,"d":"5,041,300"}},{"$f":"H13+L4","v":{"v":5246837,"d":"5,246,837"}},{"$f":"I13+L4","v":{"v":5452374,"d":"5,452,374"}},{"$f":"J13+L4","v":{"v":5657911,"d":"5,657,911"}},{"$f":"K13+L4","v":{"v":5863448,"d":"5,863,448"}},{"$f":"L13+L4","v":{"v":6068985,"d":"6,068,985"}}]
[null,null,"(백의자리에서 반올림)",{"$f":"ROUND(D13,-3)","v":{"v":1538000,"d":"1,538천원"}},{"$f":"ROUND(E13,-3)","v":{"v":2912000,"d":"2,912천원"}},{"$f":"ROUND(F13,-3)","v":{"v":4281000,"d":"4,281천원"}},{"$f":"ROUND(G13,-3)","v":{"v":4836000,"d":"4,836천원"}},{"$f":"ROUND(H13,-3)","v":{"v":5041000,"d":"5,041천원"}}]
[]
[]
[null,"전국가구평균소득 40%",null,"1인","2인","3인","4인","5인이상","6인","7인","8인","9인","10인"]
[null,null,"평균(100%)",{"$f":"D13","v":{"v":1537786,"d":"1,537,786"}},{"v":2911812,"d":"2,911,812"},{"v":4281403,"d":"4,281,403"},{"v":4835763,"d":"4,835,763"},{"v":5041300,"d":"5,041,300"},{"v":5246837,"d":"5,246,837"},{"v":5452374,"d":"5,452,374"},{"v":5657911,"d":"5,657,911"},{"v":5863448,"d":"5,863,448"},{"v":6068985,"d":"6,068,985"}]
[null,null,0.4,{"$f":"D18*$C19","v":{"v":615114.4,"d":"615,114.4"}},{"v":1164724.8,"d":"1,164,724.8"},{"v":1712561.2000000002,"d":"1,712,561.2"},{"v":1934305.2000000002,"d":"1,934,305.2"},{"v":2016520,"d":"2,016,520.0"},{"v":2098734.8000000003,"d":"2,098,734.8"},{"v":2180949.6,"d":"2,180,949.6"},{"v":2263164.4,"d":"2,263,164.4"},{"v":2345379.2,"d":"2,345,379.2"},{"v":2427594,"d":"2,427,594.0"}]
[null,null,"(소수첫째에서 반올림)",{"$f":"ROUND(D19,0)","v":{"v":615114,"d":"615,114"}},{"v":1164725,"d":"1,164,725"},{"v":1712561,"d":"1,712,561"},{"v":1934305,"d":"1,934,305"},{"v":2016520,"d":"2,016,520"},{"v":2098735,"d":"2,098,735"},{"v":2180950,"d":"2,180,950"},{"v":2263164,"d":"2,263,164"},{"v":2345379,"d":"2,345,379"},{"v":2427594,"d":"2,427,594"}]
[null,null,"(백의자리에서 반올림)",{"$f":"ROUND(D20,-3)","v":{"v":615000,"d":"615천원"}},{"v":1165000,"d":"1,165천원"},{"v":1713000,"d":"1,713천원"},{"v":1934000,"d":"1,934천원"},{"v":2017000,"d":"2,017천원"},{"v":2099000,"d":"2,099천원"},{"v":2181000,"d":"2,181천원"},{"v":2263000,"d":"2,263천원"},{"v":2345000,"d":"2,345천원"},{"v":2428000,"d":"2,428천원"}]
[]
[null,"전국가구평균소득 50%",null,"1인","2인","3인","4인","5인이상","6인","7인","8인","9인","10인"]
[null,null,"평균(100%)",{"$f":"D18","v":{"v":1537786,"d":"1,537,786"}},{"v":2911812,"d":"2,911,812"},{"v":4281403,"d":"4,281,403"},{"v":4835763,"d":"4,835,763"},{"v":5041300,"d":"5,041,300"},{"v":5246837,"d":"5,246,837"},{"v":5452374,"d":"5,452,374"},{"v":5657911,"d":"5,657,911"},{"v":5863448,"d":"5,863,448"},{"v":6068985,"d":"6,068,985"}]
[null,null,0.5,{"$f":"D24*$C25","v":{"v":768893,"d":"768,893.0"}},{"v":1455906,"d":"1,455,906.0"},{"v":2140701.5,"d":"2,140,701.5"},{"v":2417881.5,"d":"2,417,881.5"},{"v":2520650,"d":"2,520,650.0"},{"v":2623418.5,"d":"2,623,418.5"},{"v":2726187,"d":"2,726,187.0"},{"v":2828955.5,"d":"2,828,955.5"},{"v":2931724,"d":"2,931,724.0"},{"v":3034492.5,"d":"3,034,492.5"}]
[null,null,"(소수첫째에서 반올림)",{"$f":"ROUND(D25,0)","v":{"v":768893,"d":"768,893"}},{"v":1455906,"d":"1,455,906"},{"v":2140702,"d":"2,140,702"},{"v":2417882,"d":"2,417,882"},{"v":2520650,"d":"2,520,650"},{"v":2623419,"d":"2,623,419"},{"v":2726187,"d":"2,726,187"},{"v":2828956,"d":"2,828,956"},{"v":2931724,"d":"2,931,724"},{"v":3034493,"d":"3,034,493"}]
[null,null,"(백의자리에서 반올림)",{"$f":"ROUND(D26,-3)","v":{"v":769000,"d":"769천원"}},{"v":1456000,"d":"1,456천원"},{"v":2141000,"d":"2,141천원"},{"v":2418000,"d":"2,418천원"},{"v":2521000,"d":"2,521천원"},{"v":2623000,"d":"2,623천원"},{"v":2726000,"d":"2,726천원"},{"v":2829000,"d":"2,829천원"},{"v":2932000,"d":"2,932천원"},{"v":3034000,"d":"3,034천원"}]
[]
[null,"전국가구평균소득 60%",null,"1인","2인","3인","4인","5인이상","6인","7인","8인","9인","10인"]
[null,null,"평균(100%)",{"$f":"D24","v":{"v":1537786,"d":"1,537,786"}},{"v":2911812,"d":"2,911,812"},{"v":4281403,"d":"4,281,403"},{"v":4835763,"d":"4,835,763"},{"v":5041300,"d":"5,041,300"},{"v":5246837,"d":"5,246,837"},{"v":5452374,"d":"5,452,374"},{"v":5657911,"d":"5,657,911"},{"v":5863448,"d":"5,863,448"},{"v":6068985,"d":"6,068,985"}]
[null,null,0.6,{"$f":"D30*$C31","v":{"v":922671.6,"d":"922,671.6"}},{"v":1747087.2,"d":"1,747,087.2"},{"v":2568841.8,"d":"2,568,841.8"},{"v":2901457.8,"d":"2,901,457.8"},{"v":3024780,"d":"3,024,780.0"},{"v":3148102.1999999997,"d":"3,148,102.2"},{"v":3271424.4,"d":"3,271,424.4"},{"v":3394746.6,"d":"3,394,746.6"},{"v":3518068.8,"d":"3,518,068.8"},{"v":3641391,"d":"3,641,391.0"}]
[null,null,"(소수첫째에서 반올림)",{"$f":"ROUND(D31,0)","v":{"v":922672,"d":"922,672"}},{"v":1747087,"d":"1,747,087"},{"v":2568842,"d":"2,568,842"},{"v":2901458,"d":"2,901,458"},{"v":3024780,"d":"3,024,780"},{"v":3148102,"d":"3,148,102"},{"v":3271424,"d":"3,271,424"},{"v":3394747,"d":"3,394,747"},{"v":3518069,"d":"3,518,069"},{"v":3641391,"d":"3,641,391"}]
[null,null,"(백의자리에서 반올림)",{"$f":"ROUND(D32,-3)","v":{"v":923000,"d":"923천원"}},{"v":1747000,"d":"1,747천원"},{"v":2569000,"d":"2,569천원"},{"v":2901000,"d":"2,901천원"},{"v":3025000,"d":"3,025천원"},{"v":3148000,"d":"3,148천원"},{"v":3271000,"d":"3,271천원"},{"v":3395000,"d":"3,395천원"},{"v":3518000,"d":"3,518천원"},{"v":3641000,"d":"3,641천원"}]
[]
[null,"전국가구평균소득 65%",null,"1인","2인","3인","4인","5인이상","6인","7인","8인","9인","10인"]
[null,null,"평균(100%)",{"$f":"D30","v":{"v":1537786,"d":"1,537,786"}},{"v":2911812,"d":"2,911,812"},{"v":4281403,"d":"4,281,403"},{"v":4835763,"d":"4,835,763"},{"v":5041300,"d":"5,041,300"},{"v":5246837,"d":"5,246,837"},{"v":5452374,"d":"5,452,374"},{"v":5657911,"d":"5,657,911"},{"v":5863448,"d":"5,863,448"},{"v":6068985,"d":"6,068,985"}]
[null,null,0.65,{"$f":"D36*$C37","v":{"v":999560.9,"d":"999,560.9"}},{"v":1892677.8,"d":"1,892,677.8"},{"v":2782911.95,"d":"2,782,912.0"},{"v":3143245.95,"d":"3,143,246.0"},{"v":3276845,"d":"3,276,845.0"},{"v":3410444.0500000003,"d":"3,410,444.1"},{"v":3544043.1,"d":"3,544,043.1"},{"v":3677642.15,"d":"3,677,642.2"},{"v":3811241.2,"d":"3,811,241.2"},{"v":3944840.25,"d":"3,944,840.3"}]
[null,null,"(소수첫째에서 반올림)",{"$f":"ROUND(D37,0)","v":{"v":999561,"d":"999,561"}},{"v":1892678,"d":"1,892,678"},{"v":2782912,"d":"2,782,912"},{"v":3143246,"d":"3,143,246"},{"v":3276845,"d":"3,276,845"},{"v":3410444,"d":"3,410,444"},{"v":3544043,"d":"3,544,043"},{"v":3677642,"d":"3,677,642"},{"v":3811241,"d":"3,811,241"},{"v":3944840,"d":"3,944,840"}]
[null,null,"(백의자리에서 반올림)",{"$f":"ROUND(D38,-3)","v":{"v":1000000,"d":"1,000천원"}},{"v":1893000,"d":"1,893천원"},{"v":2783000,"d":"2,783천원"},{"v":3143000,"d":"3,143천원"},{"v":3277000,"d":"3,277천원"},{"v":3410000,"d":"3,410천원"},{"v":3544000,"d":"3,544천원"},{"v":3678000,"d":"3,678천원"},{"v":3811000,"d":"3,811천원"},{"v":3945000,"d":"3,945천원"}]
[]
[null,"전국가구평균소득 70%",null,"1인","2인","3인","4인","5인이상","6인","7인","8인","9인","10인"]
[null,null,"평균(100%)",{"$f":"D36","v":{"v":1537786,"d":"1,537,786"}},{"v":2911812,"d":"2,911,812"},{"v":4281403,"d":"4,281,403"},{"v":4835763,"d":"4,835,763"},{"v":5041300,"d":"5,041,300"},{"v":5246837,"d":"5,246,837"},{"v":5452374,"d":"5,452,374"},{"v":5657911,"d":"5,657,911"},{"v":5863448,"d":"5,863,448"},{"v":6068985,"d":"6,068,985"}]
[null,null,0.7,{"$f":"D42*$C43","v":{"v":1076450.2,"d":"1,076,450.2"}},{"v":2038268.4,"d":"2,038,268.4"},{"v":2996982.0999999996,"d":"2,996,982.1"},{"v":3385034.0999999996,"d":"3,385,034.1"},{"v":3528910,"d":"3,528,910.0"},{"v":3672785.9,"d":"3,672,785.9"},{"v":3816661.8,"d":"3,816,661.8"},{"v":3960537.6999999997,"d":"3,960,537.7"},{"v":4104413.5999999996,"d":"4,104,413.6"},{"v":4248289.5,"d":"4,248,289.5"}]
[null,null,"(소수첫째에서 반올림)",{"$f":"ROUND(D43,0)","v":{"v":1076450,"d":"1,076,450"}},{"v":2038268,"d":"2,038,268"},{"v":2996982,"d":"2,996,982"},{"v":3385034,"d":"3,385,034"},{"v":3528910,"d":"3,528,910"},{"v":3672786,"d":"3,672,786"},{"v":3816662,"d":"3,816,662"},{"v":3960538,"d":"3,960,538"},{"v":4104414,"d":"4,104,414"},{"v":4248290,"d":"4,248,290"}]
[null,null,"(백의자리에서 반올림)",{"$f":"ROUND(D44,-3)","v":{"v":1076000,"d":"1,076천원"}},{"v":2038000,"d":"2,038천원"},{"v":2997000,"d":"2,997천원"},{"v":3385000,"d":"3,385천원"},{"v":3529000,"d":"3,529천원"},{"v":3673000,"d":"3,673천원"},{"v":3817000,"d":"3,817천원"},{"v":3961000,"d":"3,961천원"},{"v":4104000,"d":"4,104천원"},{"v":4248000,"d":"4,248천원"}]
[]
[null,"전국가구평균소득 80%",null,"1인","2인","3인","4인","5인이상","6인","7인","8인","9인","10인"]
[null,null,"평균(100%)",{"$f":"D42","v":{"v":1537786,"d":"1,537,786"}},{"v":2911812,"d":"2,911,812"},{"v":4281403,"d":"4,281,403"},{"v":4835763,"d":"4,835,763"},{"v":5041300,"d":"5,041,300"},{"v":5246837,"d":"5,246,837"},{"v":5452374,"d":"5,452,374"},{"v":5657911,"d":"5,657,911"},{"v":5863448,"d":"5,863,448"},{"v":6068985,"d":"6,068,985"}]
[null,null,0.8,{"$f":"D48*$C49","v":{"v":1230228.8,"d":"1,230,228.8"}},{"v":2329449.6,"d":"2,329,449.6"},{"v":3425122.4000000004,"d":"3,425,122.4"},{"v":3868610.4000000004,"d":"3,868,610.4"},{"v":4033040,"d":"4,033,040.0"},{"v":4197469.600000001,"d":"4,197,469.6"},{"v":4361899.2,"d":"4,361,899.2"},{"v":4526328.8,"d":"4,526,328.8"},{"v":4690758.4,"d":"4,690,758.4"},{"v":4855188,"d":"4,855,188.0"}]
[null,null,"(소수첫째에서 반올림)",{"$f":"ROUND(D49,0)","v":{"v":1230229,"d":"1,230,229"}},{"v":2329450,"d":"2,329,450"},{"v":3425122,"d":"3,425,122"},{"v":3868610,"d":"3,868,610"},{"v":4033040,"d":"4,033,040"},{"v":4197470,"d":"4,197,470"},{"v":4361899,"d":"4,361,899"},{"v":4526329,"d":"4,526,329"},{"v":4690758,"d":"4,690,758"},{"v":4855188,"d":"4,855,188"}]
[null,null,"(백의자리에서 반올림)",{"$f":"ROUND(D50,-3)","v":{"v":1230000,"d":"1,230천원"}},{"v":2329000,"d":"2,329천원"},{"v":3425000,"d":"3,425천원"},{"v":3869000,"d":"3,869천원"},{"v":4033000,"d":"4,033천원"},{"v":4197000,"d":"4,197천원"},{"v":4362000,"d":"4,362천원"},{"v":4526000,"d":"4,526천원"},{"v":4691000,"d":"4,691천원"},{"v":4855000,"d":"4,855천원"}]
[]
[null,"전국가구평균소득 100%",null,"1인","2인","3인","4인","5인이상","6인","7인","8인","9인","10인"]
[null,null,"평균(100%)",{"$f":"D48","v":{"v":1537786,"d":"1,537,786"}},{"v":2911812,"d":"2,911,812"},{"v":4281403,"d":"4,281,403"},{"v":4835763,"d":"4,835,763"},{"v":5041300,"d":"5,041,300"},{"v":5246837,"d":"5,246,837"},{"v":5452374,"d":"5,452,374"},{"v":5657911,"d":"5,657,911"},{"v":5863448,"d":"5,863,448"},{"v":6068985,"d":"6,068,985"}]
[null,null,"(백의자리에서 반올림)",{"$f":"ROUND(D54,-3)","v":{"v":1538000,"d":"1,538천원"}},{"v":2912000,"d":"2,912천원"},{"v":4281000,"d":"4,281천원"},{"v":4836000,"d":"4,836천원"},{"v":5041000,"d":"5,041천원"},{"v":5247000,"d":"5,247천원"},{"v":5452000,"d":"5,452천원"},{"v":5658000,"d":"5,658천원"},{"v":5863000,"d":"5,863천원"},{"v":6069000,"d":"6,069천원"}]
[]
[null,"전국가구평균소득 120%",null,"1인","2인","3인","4인","5인이상","6인","7인","8인","9인","10인"]
[null,null,"평균(100%)",{"$f":"D54","v":{"v":1537786,"d":"1,537,786"}},{"v":2911812,"d":"2,911,812"},{"v":4281403,"d":"4,281,403"},{"v":4835763,"d":"4,835,763"},{"v":5041300,"d":"5,041,300"},{"v":5246837,"d":"5,246,837"},{"v":5452374,"d":"5,452,374"},{"v":5657911,"d":"5,657,911"},{"v":5863448,"d":"5,863,448"},{"v":6068985,"d":"6,068,985"}]
[null,null,1.2,{"$f":"D58*$C59","v":{"v":1845343.2,"d":"1,845,343.2"}},{"v":3494174.4,"d":"3,494,174.4"},{"v":5137683.6,"d":"5,137,683.6"},{"v":5802915.6,"d":"5,802,915.6"},{"v":6049560,"d":"6,049,560.0"},{"v":6296204.399999999,"d":"6,296,204.4"},{"v":6542848.8,"d":"6,542,848.8"},{"v":6789493.2,"d":"6,789,493.2"},{"v":7036137.6,"d":"7,036,137.6"},{"v":7282782,"d":"7,282,782.0"}]
[null,null,"(소수첫째에서 반올림)",{"$f":"ROUND(D59,0)","v":{"v":1845343,"d":"1,845,343"}},{"v":3494174,"d":"3,494,174"},{"v":5137684,"d":"5,137,684"},{"v":5802916,"d":"5,802,916"},{"v":6049560,"d":"6,049,560"},{"v":6296204,"d":"6,296,204"},{"v":6542849,"d":"6,542,849"},{"v":6789493,"d":"6,789,493"},{"v":7036138,"d":"7,036,138"},{"v":7282782,"d":"7,282,782"}]
[null,null,"(백의자리에서 반올림)",{"$f":"ROUND(D60,-3)","v":{"v":1845000,"d":"1,845천원"}},{"v":3494000,"d":"3,494천원"},{"v":5138000,"d":"5,138천원"},{"v":5803000,"d":"5,803천원"},{"v":6050000,"d":"6,050천원"},{"v":6296000,"d":"6,296천원"},{"v":6543000,"d":"6,543천원"},{"v":6789000,"d":"6,789천원"},{"v":7036000,"d":"7,036천원"},{"v":7283000,"d":"7,283천원"}]
[]
[null,"전국가구평균소득\n130%",null,"1인","2인","3인","4인","5인이상","6인","7인","8인","9인","10인"]
[null,null,"평균(100%)",{"$f":"D13","v":{"v":1537786,"d":"1,537,786"}},{"v":2911812,"d":"2,911,812"},{"v":4281403,"d":"4,281,403"},{"v":4835763,"d":"4,835,763"},{"v":5041300,"d":"5,041,300"},{"v":5246837,"d":"5,246,837"},{"v":5452374,"d":"5,452,374"},{"v":5657911,"d":"5,657,911"},{"v":5863448,"d":"5,863,448"},{"v":6068985,"d":"6,068,985"}]
[null,null,1.3,{"$f":"D64*$C65","v":{"v":1999121.8,"d":"1,999,121.8"}},{"v":3785355.6,"d":"3,785,355.6"},{"v":5565823.9,"d":"5,565,823.9"},{"v":6286491.9,"d":"6,286,491.9"},{"v":6553690,"d":"6,553,690.0"},{"v":6820888.100000001,"d":"6,820,888.1"},{"v":7088086.2,"d":"7,088,086.2"},{"v":7355284.3,"d":"7,355,284.3"},{"v":7622482.4,"d":"7,622,482.4"},{"v":7889680.5,"d":"7,889,680.5"}]
[null,null,"(소수첫째에서 반올림)",{"$f":"ROUND(D65,0)","v":{"v":1999122,"d":"1,999,122"}},{"v":3785356,"d":"3,785,356"},{"v":5565824,"d":"5,565,824"},{"v":6286492,"d":"6,286,492"},{"v":6553690,"d":"6,553,690"},{"v":6820888,"d":"6,820,888"},{"v":7088086,"d":"7,088,086"},{"v":7355284,"d":"7,355,284"},{"v":7622482,"d":"7,622,482"},{"v":7889681,"d":"7,889,681"}]
[null,null,"(백의자리에서 반올림)",{"$f":"ROUND(D66,-3)","v":{"v":1999000,"d":"1,999천원"}},{"v":3785000,"d":"3,785천원"},{"v":5566000,"d":"5,566천원"},{"v":6286000,"d":"6,286천원"},{"v":6554000,"d":"6,554천원"},{"v":6821000,"d":"6,821천원"},{"v":7088000,"d":"7,088천원"},{"v":7355000,"d":"7,355천원"},{"v":7622000,"d":"7,622천원"},{"v":7890000,"d":"7,890천원"}]
[]
[null,"전국가구평균소득 150%",null,"1인","2인","3인","4인","5인이상","6인","7인","8인","9인","10인"]
[null,null,"평균(100%)",{"$f":"D58","v":{"v":1537786,"d":"1,537,786"}},{"v":2911812,"d":"2,911,812"},{"v":4281403,"d":"4,281,403"},{"v":4835763,"d":"4,835,763"},{"v":5041300,"d":"5,041,300"},{"v":5246837,"d":"5,246,837"},{"v":5452374,"d":"5,452,374"},{"v":5657911,"d":"5,657,911"},{"v":5863448,"d":"5,863,448"},{"v":6068985,"d":"6,068,985"}]
[null,null,1.5,{"$f":"D70*$C71","v":{"v":2306679,"d":"2,306,679.0"}},{"v":4367718,"d":"4,367,718.0"},{"v":6422104.5,"d":"6,422,104.5"},{"v":7253644.5,"d":"7,253,644.5"},{"v":7561950,"d":"7,561,950.0"},{"v":7870255.5,"d":"7,870,255.5"},{"v":8178561,"d":"8,178,561.0"},{"v":8486866.5,"d":"8,486,866.5"},{"v":8795172,"d":"8,795,172.0"},{"v":9103477.5,"d":"9,103,477.5"}]
[null,null,"(소수첫째에서 반올림)",{"$f":"ROUND(D71,0)","v":{"v":2306679,"d":"2,306,679"}},{"v":4367718,"d":"4,367,718"},{"v":6422105,"d":"6,422,105"},{"v":7253645,"d":"7,253,645"},{"v":7561950,"d":"7,561,950"},{"v":7870256,"d":"7,870,256"},{"v":8178561,"d":"8,178,561"},{"v":8486867,"d":"8,486,867"},{"v":8795172,"d":"8,795,172"},{"v":9103478,"d":"9,103,478"}]
[null,null,"(백의자리에서 반올림)",{"$f":"ROUND(D72,-3)","v":{"v":2307000,"d":"2,307천원"}},{"v":4368000,"d":"4,368천원"},{"v":6422000,"d":"6,422천원"},{"v":7254000,"d":"7,254천원"},{"v":7562000,"d":"7,562천원"},{"v":7870000,"d":"7,870천원"},{"v":8179000,"d":"8,179천원"},{"v":8487000,"d":"8,487천원"},{"v":8795000,"d":"8,795천원"},{"v":9103000,"d":"9,103천원"}]
[]
[null,"전국가구평균소득 160%",null,"1인","2인","3인","4인","5인이상","6인","7인","8인","9인","10인"]
[null,null,"평균(100%)",{"$f":"D70","v":{"v":1537786,"d":"1,537,786"}},{"v":2911812,"d":"2,911,812"},{"v":4281403,"d":"4,281,403"},{"v":4835763,"d":"4,835,763"},{"v":5041300,"d":"5,041,300"},{"v":5246837,"d":"5,246,837"},{"v":5452374,"d":"5,452,374"},{"v":5657911,"d":"5,657,911"},{"v":5863448,"d":"5,863,448"},{"v":6068985,"d":"6,068,985"}]
[null,null,1.6,{"$f":"D76*$C77","v":{"v":2460457.6,"d":"2,460,457.6"}},{"v":4658899.2,"d":"4,658,899.2"},{"v":6850244.800000001,"d":"6,850,244.8"},{"v":7737220.800000001,"d":"7,737,220.8"},{"v":8066080,"d":"8,066,080.0"},{"v":8394939.200000001,"d":"8,394,939.2"},{"v":8723798.4,"d":"8,723,798.4"},{"v":9052657.6,"d":"9,052,657.6"},{"v":9381516.8,"d":"9,381,516.8"},{"v":9710376,"d":"9,710,376.0"}]
[null,null,"(소수첫째에서 반올림)",{"$f":"ROUND(D77,0)","v":{"v":2460458,"d":"2,460,458"}},{"v":4658899,"d":"4,658,899"},{"v":6850245,"d":"6,850,245"},{"v":7737221,"d":"7,737,221"},{"v":8066080,"d":"8,066,080"},{"v":8394939,"d":"8,394,939"},{"v":8723798,"d":"8,723,798"},{"v":9052658,"d":"9,052,658"},{"v":9381517,"d":"9,381,517"},{"v":9710376,"d":"9,710,376"}]
[null,null,"(백의자리에서 반올림)",{"$f":"ROUND(D78,-3)","v":{"v":2460000,"d":"2,460천원"}},{"v":4659000,"d":"4,659천원"},{"v":6850000,"d":"6,850천원"},{"v":7737000,"d":"7,737천원"},{"v":8066000,"d":"8,066천원"},{"v":8395000,"d":"8,395천원"},{"v":8724000,"d":"8,724천원"},{"v":9053000,"d":"9,053천원"},{"v":9382000,"d":"9,382천원"},{"v":9710000,"d":"9,710천원"}]
[]
[null,"전국가구평균소득 180%",null,"1인","2인","3인","4인","5인이상","6인","7인","8인","9인","10인"]
[null,null,"평균(100%)",{"$f":"D76","v":{"v":1537786,"d":"1,537,786"}},{"v":2911812,"d":"2,911,812"},{"v":4281403,"d":"4,281,403"},{"v":4835763,"d":"4,835,763"},{"v":5041300,"d":"5,041,300"},{"v":5246837,"d":"5,246,837"},{"v":5452374,"d":"5,452,374"},{"v":5657911,"d":"5,657,911"},{"v":5863448,"d":"5,863,448"},{"v":6068985,"d":"6,068,985"}]
[null,null,1.8,{"$f":"D82*$C83","v":{"v":2768014.8000000003,"d":"2,768,014.8"}},{"v":5241261.600000001,"d":"5,241,261.6"},{"v":7706525.4,"d":"7,706,525.4"},{"v":8704373.4,"d":"8,704,373.4"},{"v":9074340,"d":"9,074,340.0"},{"v":9444306.6,"d":"9,444,306.6"},{"v":9814273.200000001,"d":"9,814,273.2"},{"v":10184239.8,"d":"10,184,239.8"},{"v":10554206.4,"d":"10,554,206.4"},{"v":10924173,"d":"10,924,173.0"}]
[null,null,"(소수첫째에서 반올림)",{"$f":"ROUND(D83,0)","v":{"v":2768015,"d":"2,768,015"}},{"v":5241262,"d":"5,241,262"},{"v":7706525,"d":"7,706,525"},{"v":8704373,"d":"8,704,373"},{"v":9074340,"d":"9,074,340"},{"v":9444307,"d":"9,444,307"},{"v":9814273,"d":"9,814,273"},{"v":10184240,"d":"10,184,240"},{"v":10554206,"d":"10,554,206"},{"v":10924173,"d":"10,924,173"}]
[null,null,"(백의자리에서 반올림)",{"$f":"ROUND(D84,-3)","v":{"v":2768000,"d":"2,768천원"}},{"v":5241000,"d":"5,241천원"},{"v":7707000,"d":"7,707천원"},{"v":8704000,"d":"8,704천원"},{"v":9074000,"d":"9,074천원"},{"v":9444000,"d":"9,444천원"},{"v":9814000,"d":"9,814천원"},{"v":10184000,"d":"10,184천원"},{"v":10554000,"d":"10,554천원"},{"v":10924000,"d":"10,924천원"}]
[]
[null,"전국가구평균소득 200%",null,"1인","2인","3인","4인","5인이상","6인","7인","8인","9인","10인"]
[null,null,"평균(100%)",{"$f":"D82","v":{"v":1537786,"d":"1,537,786"}},{"v":2911812,"d":"2,911,812"},{"v":4281403,"d":"4,281,403"},{"v":4835763,"d":"4,835,763"},{"v":5041300,"d":"5,041,300"},{"v":5246837,"d":"5,246,837"},{"v":5452374,"d":"5,452,374"},{"v":5657911,"d":"5,657,911"},{"v":5863448,"d":"5,863,448"},{"v":6068985,"d":"6,068,985"}]
[null,null,{"v":2,"d":"2.0"},{"$f":"D88*$C89","v":{"v":3075572,"d":"3,075,572.0"}},{"v":5823624,"d":"5,823,624.0"},{"v":8562806,"d":"8,562,806.0"},{"v":9671526,"d":"9,671,526.0"},{"v":10082600,"d":"10,082,600.0"},{"v":10493674,"d":"10,493,674.0"},{"v":10904748,"d":"10,904,748.0"},{"v":11315822,"d":"11,315,822.0"},{"v":11726896,"d":"11,726,896.0"},{"v":12137970,"d":"12,137,970.0"}]
[null,null,"(소수첫째에서 반올림)",{"$f":"ROUND(D89,0)","v":{"v":3075572,"d":"3,075,572"}},{"v":5823624,"d":"5,823,624"},{"v":8562806,"d":"8,562,806"},{"v":9671526,"d":"9,671,526"},{"v":10082600,"d":"10,082,600"},{"v":10493674,"d":"10,493,674"},{"v":10904748,"d":"10,904,748"},{"v":11315822,"d":"11,315,822"},{"v":11726896,"d":"11,726,896"},{"v":12137970,"d":"12,137,970"}]
[null,null,"(백의자리에서 반올림)",{"$f":"ROUND(D90,-3)","v":{"v":3076000,"d":"3,076천원"}},{"v":5824000,"d":"5,824천원"},{"v":8563000,"d":"8,563천원"},{"v":9672000,"d":"9,672천원"},{"v":10083000,"d":"10,083천원"},{"v":10494000,"d":"10,494천원"},{"v":10905000,"d":"10,905천원"},{"v":11316000,"d":"11,316천원"},{"v":11727000,"d":"11,727천원"},{"v":12138000,"d":"12,138천원"}]
[]
[null,"전국가구평균소득 220%",null,"1인","2인","3인","4인","5인이상","6인","7인","8인","9인","10인"]
[null,null,"평균(100%)",{"$f":"D88","v":{"v":1537786,"d":"1,537,786"}},{"v":2911812,"d":"2,911,812"},{"v":4281403,"d":"4,281,403"},{"v":4835763,"d":"4,835,763"},{"v":5041300,"d":"5,041,300"},{"v":5246837,"d":"5,246,837"},{"v":5452374,"d":"5,452,374"},{"v":5657911,"d":"5,657,911"},{"v":5863448,"d":"5,863,448"},{"v":6068985,"d":"6,068,985"}]
[null,null,2.2,{"$f":"D94*$C95","v":{"v":3383129.2,"d":"3,383,129.2"}},{"v":6405986.4,"d":"6,405,986.4"},{"v":9419086.600000001,"d":"9,419,086.6"},{"v":10638678.600000001,"d":"10,638,678.6"},{"v":11090860,"d":"11,090,860.0"},{"v":11543041.4,"d":"11,543,041.4"},{"v":11995222.8,"d":"11,995,222.8"},{"v":12447404.200000001,"d":"12,447,404.2"},{"v":12899585.600000001,"d":"12,899,585.6"},{"v":13351767.000000002,"d":"13,351,767.0"}]
[null,null,"(소수첫째에서 반올림)",{"$f":"ROUND(D95,0)","v":{"v":3383129,"d":"3,383,129"}},{"v":6405986,"d":"6,405,986"},{"v":9419087,"d":"9,419,087"},{"v":10638679,"d":"10,638,679"},{"v":11090860,"d":"11,090,860"},{"v":11543041,"d":"11,543,041"},{"v":11995223,"d":"11,995,223"},{"v":12447404,"d":"12,447,404"},{"v":12899586,"d":"12,899,586"},{"v":13351767,"d":"13,351,767"}]
[null,null,"(백의자리에서 반올림)",{"$f":"ROUND(D96,-3)","v":{"v":3383000,"d":"3,383천원"}},{"v":6406000,"d":"6,406천원"},{"v":9419000,"d":"9,419천원"},{"v":10639000,"d":"10,639천원"},{"v":11091000,"d":"11,091천원"},{"v":11543000,"d":"11,543천원"},{"v":11995000,"d":"11,995천원"},{"v":12447000,"d":"12,447천원"},{"v":12900000,"d":"12,900천원"},{"v":13352000,"d":"13,352천원"}]
[]
[]
[null,"<최저생계비 : 2014년기준>",{"$nulls":8},"7인 - 6인 =",{"$f":"J103-I103","v":{"v":301702,"d":"301,702"}}]
[]
[null,"최저생계비 100%",null,"1인","2인","3인","4인","5인","6인","7인","8인","9인","10인"]
[null,null,{"v":1,"d":"100%"},{"v":603403,"d":"603,403"},{"v":1027417,"d":"1,027,417"},{"v":1329118,"d":"1,329,118"},{"v":1630820,"d":"1,630,820"},{"v":1932522,"d":"1,932,522"},{"v":2234223,"d":"2,234,223"},{"v":2535925,"d":"2,535,925"},{"$f":"J103+L100","v":{"v":2837627,"d":"2,837,627"}},{"$f":"K103+L100","v":{"v":3139329,"d":"3,139,329"}},{"$f":"L103+L100","v":{"v":3441031,"d":"3,441,031"}}]
[]
[null,"최저생계비 110%",null,"1인","2인","3인","4인","5인","6인","7인","8인","9인","10인"]
[null,null,1.1,{"$f":"D103*$C$106","v":{"v":663743.3,"d":"663,743.3"}},{"$f":"E103*$C$106","v":{"v":1130158.7000000002,"d":"1,130,158.7"}},{"v":1462029.8,"d":"1,462,029.8"},{"v":1793902.0000000002,"d":"1,793,902.0"},{"v":2125774.2,"d":"2,125,774.2"},{"v":2457645.3000000003,"d":"2,457,645.3"},{"v":2789517.5,"d":"2,789,517.5"},{"v":3121389.7,"d":"3,121,389.7"},{"v":3453261.9000000004,"d":"3,453,261.9"},{"v":3785134.1,"d":"3,785,134.1"}]
[null,null,"(소수첫째에서 반올림)",{"$f":"ROUND(D106,0)","v":{"v":663743,"d":"663,743"}},{"v":1130159,"d":"1,130,159"},{"v":1462030,"d":"1,462,030"},{"v":1793902,"d":"1,793,902"},{"v":2125774,"d":"2,125,774"},{"v":2457645,"d":"2,457,645"},{"v":2789518,"d":"2,789,518"},{"$f":"ROUND(K106,0)","v":{"v":3121390,"d":"3,121,390"}},{"$f":"ROUND(L106,0)","v":{"v":3453262,"d":"3,453,262"}},{"$f":"ROUND(M106,0)","v":{"v":3785134,"d":"3,785,134"}}]
[null,null,"(백의자리에서 반올림)",{"$f":"ROUND(D107,-3)","v":{"v":664000,"d":"664천원"}},{"$f":"ROUND(E107,-3)","v":{"v":1130000,"d":"1,130천원"}},{"v":1462000,"d":"1,462천원"},{"v":1794000,"d":"1,794천원"},{"v":2126000,"d":"2,126천원"},{"v":2458000,"d":"2,458천원"},{"v":2790000,"d":"2,790천원"},{"$f":"ROUND(K107,-3)","v":{"v":3121000,"d":"3,121천원"}},{"$f":"ROUND(L107,-3)","v":{"v":3453000,"d":"3,453천원"}},{"$f":"ROUND(M107,-3)","v":{"v":3785000,"d":"3,785천원"}}]
[]
[null,"최저생계비 120%",null,"1인","2인","3인","4인","5인","6인","7인","8인","9인","10인"]
[null,null,1.2,{"$f":"D103*$C$111","v":{"v":724083.6,"d":"724,083.6"}},{"$f":"E103*$C$111","v":{"v":1232900.4,"d":"1,232,900.4"}},{"$f":"F103*$C$111","v":{"v":1594941.5999999999,"d":"1,594,941.6"}},{"$f":"G103*$C$111","v":{"v":1956984,"d":"1,956,984.0"}},{"v":2319026.4,"d":"2,319,026.4"},{"v":2681067.6,"d":"2,681,067.6"},{"v":3043110,"d":"3,043,110.0"},{"v":3405152.4,"d":"3,405,152.4"},{"v":3767194.8,"d":"3,767,194.8"},{"v":4129237.1999999997,"d":"4,129,237.2"}]
[null,null,"(소수첫째에서 반올림)",{"$f":"ROUND(D111,0)","v":{"v":724084,"d":"724,084"}},{"v":1232900,"d":"1,232,900"},{"v":1594942,"d":"1,594,942"},{"v":1956984,"d":"1,956,984"},{"v":2319026,"d":"2,319,026"},{"v":2681068,"d":"2,681,068"},{"v":3043110,"d":"3,043,110"},{"$f":"ROUND(K111,0)","v":{"v":3405152,"d":"3,405,152"}},{"$f":"ROUND(L111,0)","v":{"v":3767195,"d":"3,767,195"}},{"$f":"ROUND(M111,0)","v":{"v":4129237,"d":"4,129,237"}}]
[null,null,"(백의자리에서 반올림)",{"$f":"ROUND(D112,-3)","v":{"v":724000,"d":"724천원"}},{"$f":"ROUND(E112,-3)","v":{"v":1233000,"d":"1,233천원"}},{"v":1595000,"d":"1,595천원"},{"v":1957000,"d":"1,957천원"},{"$f":"ROUND(H112,-3)","v":{"v":2319000,"d":"2,319천원"}},{"v":2681000,"d":"2,681천원"},{"v":3043000,"d":"3,043천원"},{"$f":"ROUND(K112,-3)","v":{"v":3405000,"d":"3,405천원"}},{"$f":"ROUND(L112,-3)","v":{"v":3767000,"d":"3,767천원"}},{"$f":"ROUND(M112,-3)","v":{"v":4129000,"d":"4,129천원"}}]
[]
[null,"최저생계비 130%",null,"1인","2인","3인","4인","5인","6인","7인","8인","9인","10인"]
[null,null,1.3,{"$f":"D103*$C$116","v":{"v":784423.9,"d":"784,423.9"}},{"$f":"E103*$C$116","v":{"v":1335642.1,"d":"1,335,642.1"}},{"$f":"F103*$C$116","v":{"v":1727853.4000000001,"d":"1,727,853.4"}},{"$f":"G103*$C$116","v":{"v":2120066,"d":"2,120,066.0"}},{"v":2512278.6,"d":"2,512,278.6"},{"v":2904489.9,"d":"2,904,489.9"},{"v":3296702.5,"d":"3,296,702.5"},{"v":3688915.1,"d":"3,688,915.1"},{"v":4081127.7,"d":"4,081,127.7"},{"v":4473340.3,"d":"4,473,340.3"}]
[null,null,"(소수첫째에서 반올림)",{"$f":"ROUND(D116,0)","v":{"v":784424,"d":"784,424"}},{"v":1335642,"d":"1,335,642"},{"v":1727853,"d":"1,727,853"},{"v":2120066,"d":"2,120,066"},{"v":2512279,"d":"2,512,279"},{"v":2904490,"d":"2,904,490"},{"v":3296703,"d":"3,296,703"},{"$f":"ROUND(K116,0)","v":{"v":3688915,"d":"3,688,915"}},{"$f":"ROUND(L116,0)","v":{"v":4081128,"d":"4,081,128"}},{"$f":"ROUND(M116,0)","v":{"v":4473340,"d":"4,473,340"}}]
[null,null,"(백의자리에서 반올림)",{"$f":"ROUND(D117,-3)","v":{"v":784000,"d":"784천원"}},{"v":1336000,"d":"1,336천원"},{"v":1728000,"d":"1,728천원"},{"v":2120000,"d":"2,120천원"},{"v":2512000,"d":"2,512천원"},{"v":2904000,"d":"2,904천원"},{"v":3297000,"d":"3,297천원"},{"$f":"ROUND(K117,-3)","v":{"v":3689000,"d":"3,689천원"}},{"$f":"ROUND(L117,-3)","v":{"v":4081000,"d":"4,081천원"}},{"$f":"ROUND(M117,-3)","v":{"v":4473000,"d":"4,473천원"}}]
[]
[null,"최저생계비 140%",null,"1인","2인","3인","4인","5인","6인","7인","8인","9인","10인"]
[null,null,1.4,{"$f":"D103*$C$121","v":{"v":844764.2,"d":"844,764.2"}},{"$f":"E103*$C$121","v":{"v":1438383.7999999998,"d":"1,438,383.8"}},{"v":1860765.2,"d":"1,860,765.2"},{"v":2283148,"d":"2,283,148.0"},{"v":2705530.8,"d":"2,705,530.8"},{"v":3127912.1999999997,"d":"3,127,912.2"},{"v":3550295,"d":"3,550,295.0"},{"v":3972677.8,"d":"3,972,677.8"},{"v":4395060.6,"d":"4,395,060.6"},{"v":4817443.399999999,"d":"4,817,443.4"}]
[null,null,"(소수첫째에서 반올림)",{"$f":"ROUND(D121,0)","v":{"v":844764,"d":"844,764"}},{"v":1438384,"d":"1,438,384"},{"v":1860765,"d":"1,860,765"},{"v":2283148,"d":"2,283,148"},{"v":2705531,"d":"2,705,531"},{"v":3127912,"d":"3,127,912"},{"v":3550295,"d":"3,550,295"},{"$f":"ROUND(K121,0)","v":{"v":3972678,"d":"3,972,678"}},{"$f":"ROUND(L121,0)","v":{"v":4395061,"d":"4,395,061"}},{"$f":"ROUND(M121,0)","v":{"v":4817443,"d":"4,817,443"}}]
[null,null,"(백의자리에서 반올림)",{"$f":"ROUND(D122,-3)","v":{"v":845000,"d":"845천원"}},{"$f":"ROUND(E122,-3)","v":{"v":1438000,"d":"1,438천원"}},{"v":1861000,"d":"1,861천원"},{"v":2283000,"d":"2,283천원"},{"v":2706000,"d":"2,706천원"},{"v":3128000,"d":"3,128천원"},{"v":3550000,"d":"3,550천원"},{"$f":"ROUND(K122,-3)","v":{"v":3973000,"d":"3,973천원"}},{"$f":"ROUND(L122,-3)","v":{"v":4395000,"d":"4,395천원"}},{"$f":"ROUND(M122,-3)","v":{"v":4817000,"d":"4,817천원"}}]
[]
[null,"최저생계비 150%",null,"1인","2인","3인","4인","5인","6인","7인","8인","9인","10인"]
[null,null,1.5,{"$f":"D103*$C$126","v":{"v":905104.5,"d":"905,104.5"}},{"$f":"E103*$C$126","v":{"v":1541125.5,"d":"1,541,125.5"}},{"v":1993677,"d":"1,993,677.0"},{"v":2446230,"d":"2,446,230.0"},{"v":2898783,"d":"2,898,783.0"},{"v":3351334.5,"d":"3,351,334.5"},{"v":3803887.5,"d":"3,803,887.5"},{"v":4256440.5,"d":"4,256,440.5"},{"v":4708993.5,"d":"4,708,993.5"},{"v":5161546.5,"d":"5,161,546.5"}]
[null,null,"(소수첫째에서 반올림)",{"$f":"ROUND(D126,0)","v":{"v":905105,"d":"905,105"}},{"v":1541126,"d":"1,541,126"},{"v":1993677,"d":"1,993,677"},{"v":2446230,"d":"2,446,230"},{"v":2898783,"d":"2,898,783"},{"v":3351335,"d":"3,351,335"},{"v":3803888,"d":"3,803,888"},{"$f":"ROUND(K126,0)","v":{"v":4256441,"d":"4,256,441"}},{"$f":"ROUND(L126,0)","v":{"v":4708994,"d":"4,708,994"}},{"$f":"ROUND(M126,0)","v":{"v":5161547,"d":"5,161,547"}}]
[null,null,"(백의자리에서 반올림)",{"$f":"ROUND(D127,-3)","v":{"v":905000,"d":"905천원"}},{"$f":"ROUND(E127,-3)","v":{"v":1541000,"d":"1,541천원"}},{"v":1994000,"d":"1,994천원"},{"v":2446000,"d":"2,446천원"},{"v":2899000,"d":"2,899천원"},{"v":3351000,"d":"3,351천원"},{"v":3804000,"d":"3,804천원"},{"$f":"ROUND(K127,-3)","v":{"v":4256000,"d":"4,256천원"}},{"$f":"ROUND(L127,-3)","v":{"v":4709000,"d":"4,709천원"}},{"$f":"ROUND(M127,-3)","v":{"v":5162000,"d":"5,162천원"}}]
[]
[null,"최저생계비 160%",null,"1인","2인","3인","4인","5인","6인","7인","8인","9인","10인"]
[null,null,1.6,{"$f":"D103*$C$131","v":{"v":965444.8,"d":"965,444.8"}},{"$f":"E103*$C$131","v":{"v":1643867.2000000002,"d":"1,643,867.2"}},{"v":2126588.8000000003,"d":"2,126,588.8"},{"v":2609312,"d":"2,609,312.0"},{"v":3092035.2,"d":"3,092,035.2"},{"v":3574756.8000000003,"d":"3,574,756.8"},{"v":4057480,"d":"4,057,480.0"},{"v":4540203.2,"d":"4,540,203.2"},{"v":5022926.4,"d":"5,022,926.4"},{"v":5505649.600000001,"d":"5,505,649.6"}]
[null,null,"(소수첫째에서 반올림)",{"$f":"ROUND(D131,0)","v":{"v":965445,"d":"965,445"}},{"v":1643867,"d":"1,643,867"},{"v":2126589,"d":"2,126,589"},{"v":2609312,"d":"2,609,312"},{"v":3092035,"d":"3,092,035"},{"v":3574757,"d":"3,574,757"},{"v":4057480,"d":"4,057,480"},{"$f":"ROUND(K131,0)","v":{"v":4540203,"d":"4,540,203"}},{"$f":"ROUND(L131,0)","v":{"v":5022926,"d":"5,022,926"}},{"$f":"ROUND(M131,0)","v":{"v":5505650,"d":"5,505,650"}}]
[null,null,"(백의자리에서 반올림)",{"$f":"ROUND(D132,-3)","v":{"v":965000,"d":"965천원"}},{"$f":"ROUND(E132,-3)","v":{"v":1644000,"d":"1,644천원"}},{"v":2127000,"d":"2,127천원"},{"v":2609000,"d":"2,609천원"},{"v":3092000,"d":"3,092천원"},{"v":3575000,"d":"3,575천원"},{"v":4057000,"d":"4,057천원"},{"$f":"ROUND(K132,-3)","v":{"v":4540000,"d":"4,540천원"}},{"$f":"ROUND(L132,-3)","v":{"v":5023000,"d":"5,023천원"}},{"$f":"ROUND(M132,-3)","v":{"v":5506000,"d":"5,506천원"}}]
[]
[null,"최저생계비 170%",null,"1인","2인","3인","4인","5인","6인","7인","8인","9인","10인"]
[null,null,1.7,{"$f":"D103*$C$136","v":{"v":1025785.1,"d":"1,025,785.1"}},{"$f":"E103*$C$136","v":{"v":1746608.9,"d":"1,746,608.9"}},{"$f":"F103*$C$136","v":{"v":2259500.6,"d":"2,259,500.6"}},{"v":2772394,"d":"2,772,394.0"},{"v":3285287.4,"d":"3,285,287.4"},{"v":3798179.1,"d":"3,798,179.1"},{"v":4311072.5,"d":"4,311,072.5"},{"v":4823965.899999999,"d":"4,823,965.9"},{"v":5336859.3,"d":"5,336,859.3"},{"v":5849752.7,"d":"5,849,752.7"}]
[null,null,"(소수첫째에서 반올림)",{"$f":"ROUND(D136,0)","v":{"v":1025785,"d":"1,025,785"}},{"v":1746609,"d":"1,746,609"},{"v":2259501,"d":"2,259,501"},{"v":2772394,"d":"2,772,394"},{"v":3285287,"d":"3,285,287"},{"v":3798179,"d":"3,798,179"},{"v":4311073,"d":"4,311,073"},{"$f":"ROUND(K136,0)","v":{"v":4823966,"d":"4,823,966"}},{"$f":"ROUND(L136,0)","v":{"v":5336859,"d":"5,336,859"}},{"$f":"ROUND(M136,0)","v":{"v":5849753,"d":"5,849,753"}}]
[null,null,"(백의자리에서 반올림)",{"$f":"ROUND(D137,-3)","v":{"v":1026000,"d":"1,026천원"}},{"$f":"ROUND(E137,-3)","v":{"v":1747000,"d":"1,747천원"}},{"v":2260000,"d":"2,260천원"},{"v":2772000,"d":"2,772천원"},{"v":3285000,"d":"3,285천원"},{"v":3798000,"d":"3,798천원"},{"v":4311000,"d":"4,311천원"},{"$f":"ROUND(K137,-3)","v":{"v":4824000,"d":"4,824천원"}},{"$f":"ROUND(L137,-3)","v":{"v":5337000,"d":"5,337천원"}},{"$f":"ROUND(M137,-3)","v":{"v":5850000,"d":"5,850천원"}}]
[]
[null,"최저생계비 180%",null,"1인","2인","3인","4인","5인","6인","7인","8인","9인","10인"]
[null,null,1.8,{"$f":"D103*$C$141","v":{"v":1086125.4000000001,"d":"1,086,125.4"}},{"$f":"E103*$C$141","v":{"v":1849350.6,"d":"1,849,350.6"}},{"v":2392412.4,"d":"2,392,412.4"},{"v":2935476,"d":"2,935,476.0"},{"v":3478539.6,"d":"3,478,539.6"},{"v":4021601.4,"d":"4,021,601.4"},{"v":4564665,"d":"4,564,665.0"},{"v":5107728.600000001,"d":"5,107,728.6"},{"v":5650792.2,"d":"5,650,792.2"},{"v":6193855.8,"d":"6,193,855.8"}]
[null,null,"(소수첫째에서 반올림)",{"$f":"ROUND(D141,0)","v":{"v":1086125,"d":"1,086,125"}},{"v":1849351,"d":"1,849,351"},{"v":2392412,"d":"2,392,412"},{"v":2935476,"d":"2,935,476"},{"v":3478540,"d":"3,478,540"},{"v":4021601,"d":"4,021,601"},{"v":4564665,"d":"4,564,665"},{"$f":"ROUND(K141,0)","v":{"v":5107729,"d":"5,107,729"}},{"$f":"ROUND(L141,0)","v":{"v":5650792,"d":"5,650,792"}},{"$f":"ROUND(M141,0)","v":{"v":6193856,"d":"6,193,856"}}]
[null,null,"(백의자리에서 반올림)",{"$f":"ROUND(D142,-3)","v":{"v":1086000,"d":"1,086천원"}},{"$f":"ROUND(E142,-3)","v":{"v":1849000,"d":"1,849천원"}},{"v":2392000,"d":"2,392천원"},{"v":2935000,"d":"2,935천원"},{"v":3479000,"d":"3,479천원"},{"v":4022000,"d":"4,022천원"},{"v":4565000,"d":"4,565천원"},{"$f":"ROUND(K142,-3)","v":{"v":5108000,"d":"5,108천원"}},{"$f":"ROUND(L142,-3)","v":{"v":5651000,"d":"5,651천원"}},{"$f":"ROUND(M142,-3)","v":{"v":6194000,"d":"6,194천원"}}]
[]
[null,"최저생계비 190%",null,"1인","2인","3인","4인","5인","6인","7인","8인","9인","10인"]
[null,null,1.9,{"$f":"D103*$C$146","v":{"v":1146465.7,"d":"1,146,465.7"}},{"$f":"E103*$C$146","v":{"v":1952092.2999999998,"d":"1,952,092.3"}},{"v":2525324.1999999997,"d":"2,525,324.2"},{"v":3098558,"d":"3,098,558.0"},{"v":3671791.8,"d":"3,671,791.8"},{"v":4245023.7,"d":"4,245,023.7"},{"v":4818257.5,"d":"4,818,257.5"},{"v":5391491.3,"d":"5,391,491.3"},{"v":5964725.1,"d":"5,964,725.1"},{"v":6537958.899999999,"d":"6,537,958.9"}]
[null,null,"(소수첫째에서 반올림)",{"$f":"ROUND(D146,0)","v":{"v":1146466,"d":"1,146,466"}},{"v":1952092,"d":"1,952,092"},{"v":2525324,"d":"2,525,324"},{"v":3098558,"d":"3,098,558"},{"v":3671792,"d":"3,671,792"},{"v":4245024,"d":"4,245,024"},{"v":4818258,"d":"4,818,258"},{"$f":"ROUND(K146,0)","v":{"v":5391491,"d":"5,391,491"}},{"$f":"ROUND(L146,0)","v":{"v":5964725,"d":"5,964,725"}},{"$f":"ROUND(M146,0)","v":{"v":6537959,"d":"6,537,959"}}]
[null,null,"(백의자리에서 반올림)",{"$f":"ROUND(D147,-3)","v":{"v":1146000,"d":"1,146천원"}},{"$f":"ROUND(E147,-3)","v":{"v":1952000,"d":"1,952천원"}},{"v":2525000,"d":"2,525천원"},{"v":3099000,"d":"3,099천원"},{"v":3672000,"d":"3,672천원"},{"v":4245000,"d":"4,245천원"},{"v":4818000,"d":"4,818천원"},{"$f":"ROUND(K147,-3)","v":{"v":5391000,"d":"5,391천원"}},{"$f":"ROUND(L147,-3)","v":{"v":5965000,"d":"5,965천원"}},{"$f":"ROUND(M147,-3)","v":{"v":6538000,"d":"6,538천원"}}]
[]
[null,"최저생계비 200%",null,"1인","2인","3인","4인","5인","6인","7인","8인","9인","10인"]
[null,null,{"v":2,"d":"2.0"},{"$f":"D103*$C$151","v":{"v":1206806,"d":"1,206,806.0"}},{"$f":"E103*$C$151","v":{"v":2054834,"d":"2,054,834.0"}},{"v":2658236,"d":"2,658,236.0"},{"v":3261640,"d":"3,261,640.0"},{"$f":"H103*$C$151","v":{"v":3865044,"d":"3,865,044.0"}},{"v":4468446,"d":"4,468,446.0"},{"v":5071850,"d":"5,071,850.0"},{"v":5675254,"d":"5,675,254.0"},{"v":6278658,"d":"6,278,658.0"},{"v":6882062,"d":"6,882,062.0"}]
[null,null,"(소수첫째에서 반올림)",{"$f":"ROUND(D151,0)","v":{"v":1206806,"d":"1,206,806"}},{"v":2054834,"d":"2,054,834"},{"v":2658236,"d":"2,658,236"},{"v":3261640,"d":"3,261,640"},{"v":3865044,"d":"3,865,044"},{"v":4468446,"d":"4,468,446"},{"v":5071850,"d":"5,071,850"},{"$f":"ROUND(K151,0)","v":{"v":5675254,"d":"5,675,254"}},{"$f":"ROUND(L151,0)","v":{"v":6278658,"d":"6,278,658"}},{"$f":"ROUND(M151,0)","v":{"v":6882062,"d":"6,882,062"}}]
[null,null,"(백의자리에서 반올림)",{"$f":"ROUND(D152,-3)","v":{"v":1207000,"d":"1,207천원"}},{"$f":"ROUND(E152,-3)","v":{"v":2055000,"d":"2,055천원"}},{"v":2658000,"d":"2,658천원"},{"v":3262000,"d":"3,262천원"},{"v":3865000,"d":"3,865천원"},{"v":4468000,"d":"4,468천원"},{"v":5072000,"d":"5,072천원"},{"$f":"ROUND(K152,-3)","v":{"v":5675000,"d":"5,675천원"}},{"$f":"ROUND(L152,-3)","v":{"v":6279000,"d":"6,279천원"}},{"$f":"ROUND(M152,-3)","v":{"v":6882000,"d":"6,882천원"}}]
[]
[null,"최저생계비 300%",null,"1인","2인","3인","4인","5인","6인","7인","8인","9인","10인"]
[null,null,{"v":3,"d":"3.0"},{"$f":"D103*$C$156","v":{"v":1810209,"d":"1,810,209.0"}},{"$f":"E103*$C$156","v":{"v":3082251,"d":"3,082,251.0"}},{"v":3987354,"d":"3,987,354.0"},{"v":4892460,"d":"4,892,460.0"},{"v":5797566,"d":"5,797,566.0"},{"v":6702669,"d":"6,702,669.0"},{"v":7607775,"d":"7,607,775.0"},{"v":8512881,"d":"8,512,881.0"},{"v":9417987,"d":"9,417,987.0"},{"v":10323093,"d":"10,323,093.0"}]
[null,null,"(소수첫째에서 반올림)",{"$f":"ROUND(D156,0)","v":{"v":1810209,"d":"1,810,209"}},{"v":3082251,"d":"3,082,251"},{"v":3987354,"d":"3,987,354"},{"v":4892460,"d":"4,892,460"},{"v":5797566,"d":"5,797,566"},{"v":6702669,"d":"6,702,669"},{"v":7607775,"d":"7,607,775"},{"$f":"ROUND(K156,0)","v":{"v":8512881,"d":"8,512,881"}},{"$f":"ROUND(L156,0)","v":{"v":9417987,"d":"9,417,987"}},{"$f":"ROUND(M156,0)","v":{"v":10323093,"d":"10,323,093"}}]
[null,null,"(백의자리에서 반올림)",{"$f":"ROUND(D157,-3)","v":{"v":1810000,"d":"1,810천원"}},{"$f":"ROUND(E157,-3)","v":{"v":3082000,"d":"3,082천원"}},{"v":3987000,"d":"3,987천원"},{"v":4892000,"d":"4,892천원"},{"v":5798000,"d":"5,798천원"},{"v":6703000,"d":"6,703천원"},{"v":7608000,"d":"7,608천원"},{"$f":"ROUND(K157,-3)","v":{"v":8513000,"d":"8,513천원"}},{"$f":"ROUND(L157,-3)","v":{"v":9418000,"d":"9,418천원"}},{"$f":"ROUND(M157,-3)","v":{"v":10323000,"d":"10,323천원"}}]
[]
[null,"최저생계비 350%",null,"1인","2인","3인","4인","5인","6인","7인","8인","9인","10인"]
[null,null,3.5,{"$f":"D103*$C$161","v":{"v":2111910.5,"d":"2,111,910.5"}},{"$f":"E103*$C$161","v":{"v":3595959.5,"d":"3,595,959.5"}},{"v":4651913,"d":"4,651,913.0"},{"v":5707870,"d":"5,707,870.0"},{"v":6763827,"d":"6,763,827.0"},{"v":7819780.5,"d":"7,819,780.5"},{"v":8875737.5,"d":"8,875,737.5"},{"v":9931694.5,"d":"9,931,694.5"},{"v":10987651.5,"d":"10,987,651.5"},{"v":12043608.5,"d":"12,043,608.5"}]
[null,null,"(소수첫째에서 반올림)",{"$f":"ROUND(D161,0)","v":{"v":2111911,"d":"2,111,911"}},{"v":3595960,"d":"3,595,960"},{"v":4651913,"d":"4,651,913"},{"v":5707870,"d":"5,707,870"},{"v":6763827,"d":"6,763,827"},{"v":7819781,"d":"7,819,781"},{"v":8875738,"d":"8,875,738"},{"$f":"ROUND(K161,0)","v":{"v":9931695,"d":"9,931,695"}},{"$f":"ROUND(L161,0)","v":{"v":10987652,"d":"10,987,652"}},{"$f":"ROUND(M161,0)","v":{"v":12043609,"d":"12,043,609"}}]
[null,null,"(백의자리에서 반올림)",{"$f":"ROUND(D162,-3)","v":{"v":2112000,"d":"2,112천원"}},{"$f":"ROUND(E162,-3)","v":{"v":3596000,"d":"3,596천원"}},{"v":4652000,"d":"4,652천원"},{"v":5708000,"d":"5,708천원"},{"v":6764000,"d":"6,764천원"},{"v":7820000,"d":"7,820천원"},{"v":8876000,"d":"8,876천원"},{"$f":"ROUND(K162,-3)","v":{"v":9932000,"d":"9,932천원"}},{"$f":"ROUND(L162,-3)","v":{"v":10988000,"d":"10,988천원"}},{"$f":"ROUND(M162,-3)","v":{"v":12044000,"d":"12,044천원"}}]

{"sheet":"4.건보료자료","index":3,"n_rows":216,"n_cols":20,"rows_kept":216,"merged":[[7,10,7,13],[7,17,7,19],[8,0,9,0],[8,1,8,6],[8,7,8,12],[8,13,9,13]]}
[]
[]
[{"$nulls":16},"2014 보험요율 5.99%"," 2014 증가율 1.7%"]
["<작성기준>",{"$nulls":14},"2013년도","2014년도","2014년도"]
["1. 구성비 : 보험료가 낮은 순서로 정렬, 구간 : 초과~이하 ",{"$nulls":14},"현재 보험요율","보험요율/2(본인부담금)","건강보험료증가율"]
["2. 보험료기준 : 2013년 11월 보험료 기준, 본인부담액 기준",{"$nulls":14},0.02945,0.02995,1.017]
["3. 최고보험료 : 각 구간별로 가장 높은 보험료 금액"]
[{"$nulls":10},"(단위: 가입(세대)수, 원)",{"$nulls":6},"*자동계산(만지지 마세요)"]
["구성비","직장가입자",{"$nulls":5},"지역가입자",{"$nulls":5},"비고",{"$nulls":3},"2014년도 직장","2014년도 지역","2014년도 혼합"]
[null,"가입자수(a)","총보험료(b)","평균소득","평균보험료(b/a)","최고소득","최고보험료","세대수(a)","총보험료(b)","평균점수","평균보험료(b/a)","최고점수","최고 보험료",{"$nulls":4},"평균보험료 산출","평균보험료 산출","보험료 산출"]
["합계"]
["~0.5%",69091,710776140,{"v":341716.083194627,"d":"341,716"},10287.5358585054,403400,11880,37147,74294000,20.3462998357875,2000,312,2000,{"$nulls":4},{"$f":"ROUND(D12*$Q$6,0)","v":{"v":10234,"d":"10,234"}},{"$f":"ROUND(K12*$R$6,0)","v":{"v":2034,"d":"2,034"}},{"$f":"R13","v":{"v":13953,"d":"13,953"}}]
["~1%",69092,947625080,{"v":465880.897846349,"d":"465,881"},13715.4095987958,500000,14720,37148,88547970,21.3802358135027,2383.65376332507,1893,2420,{"$nulls":4},{"v":13953,"d":"13,953"},{"$f":"ROUND(K13*$R$6,0)","v":{"v":2424,"d":"2,424"}},{"$f":"R14","v":{"v":15741,"d":"15,741"}}]
["~1.5%",69091,1070104010,{"v":525592.373116614,"d":"525,592"},15488.32713378,568620,16740,37147,91236940,31.3914448003876,2456.10520365036,3771,2700,{"$nulls":4},{"v":15741,"d":"15,741"},{"v":2498,"d":"2,498"},{"v":17935,"d":"17,935"}]
["~2%",69092,1218333590,{"v":598840.869666531,"d":"598,841"},17633.4972210965,625296,18410,37148,101296860,28.7085980402713,2726.84559061053,2524,2760,{"$nulls":4},{"v":17935,"d":"17,935"},{"v":2773,"d":"2,773"},{"v":19698,"d":"19,698"}]
["~2.5%",69092,1337945580,{"v":657700.509653794,"d":"657,701"},19364.6960574306,1000000,20510,37147,112504230,28.0732226020943,3028.62223059735,1907,3450,{"$nulls":4},{"v":19698,"d":"19,698"},{"v":3080,"d":"3,080"},{"v":20972,"d":"20,972"}]
["~3%",69091,1424619910,{"v":700225.037414424,"d":"700,225"},20619.4715664847,708333,20860,37148,128160600,20,3450,20,3450,{"$nulls":4},{"v":20972,"d":"20,972"},{"v":3509,"d":"3,509"},{"v":22041,"d":"22,041"}]
["~3.5%",69092,1497013390,{"v":735910.318141029,"d":"735,910"},21666.9569559428,758335,22330,37147,128157150,20,3450,20,3450,{"$nulls":4},{"v":22041,"d":"22,041"},{"v":3509,"d":"3,509"},{"v":23463,"d":"23,463"}]
["~4%",69092,1594042790,{"v":783389.493067214,"d":"783,389"},23071.3076767208,800000,23560,37148,135026930,76.3450791428879,3634.83713793474,6924,3870,{"$nulls":4},{"v":23463,"d":"23,463"},{"v":3697,"d":"3,697"},{"v":23960,"d":"23,960"}]
["~4.5%",69091,1627783960,{"v":800000,"d":"800,000"},23560,800000,23560,37147,164228730,49.0763722507874,4421.04961369693,3205,4660,{"$nulls":4},{"v":23960,"d":"23,960"},{"v":4496,"d":"4,496"},{"v":24620,"d":"24,620"}]
["~5%",69092,1672444910,{"v":822039.960994036,"d":"822,040"},24206.0572859375,847844,24960,37148,192023850,53.6627813072036,5169.15715516313,12915,5700,{"$nulls":4},{"v":24620,"d":"24,620"},{"v":5257,"d":"5,257"},{"v":25757,"d":"25,757"}]
["~5.5%",69091,1749703800,{"v":859994.537609818,"d":"859,995"},25324.6269412803,880000,25910,37147,224349120,56.5957950843944,6039.49497940614,1430,6530,{"$nulls":4},{"v":25757,"d":"25,757"},{"v":6142,"d":"6,142"},{"v":26835,"d":"26,835"}]
["~6%",69092,1822760630,{"v":895979.044766398,"d":"895,979"},26381.6451977074,900000,26500,37148,242576440,54,6530,54,6530,{"$nulls":4},{"v":26835,"d":"26,835"},{"v":6641,"d":"6,641"},{"v":26955,"d":"26,955"}]
["~6.5%",69092,1830938000,{"v":900000,"d":"900,000"},26500,900000,26500,37147,249772890,63.3380892131262,6723.90475677712,2732,7460,{"$nulls":4},{"v":26955,"d":"26,955"},{"v":6838,"d":"6,838"},{"v":27321,"d":"27,321"}]
["~7%",69091,1855883750,{"v":912216.474171744,"d":"912,216"},26861.4399849473,930000,27380,37148,279979870,55.7347636481102,7536.87600947561,521,7550,{"$nulls":4},{"v":27321,"d":"27,321"},{"v":7665,"d":"7,665"},{"v":28250,"d":"28,250"}]
["~7.5%",69092,1918794860,{"v":943224.696838997,"d":"943,225"},27771.5923695941,950000,27970,37147,281677250,50.5700325732899,7582.77249845209,2746,7590,{"$nulls":4},{"v":28250,"d":"28,250"},{"v":7712,"d":"7,712"},{"v":28788,"d":"28,788"}]
["~8%",69092,1955564390,{"v":961213.236192323,"d":"961,213"},28303.7745325073,972566,28640,37148,287263360,67.4495531387961,7732.94282330138,12141,7980,{"$nulls":4},{"v":28788,"d":"28,788"},{"v":7864,"d":"7,864"},{"v":29411,"d":"29,411"}]
["~8.5%",69091,1997845370,{"v":981998.396057373,"d":"981,998"},28916.1449392829,992989,29240,37147,309263200,74.3571755458045,8325.38832207176,2398,8640,{"$nulls":4},{"v":29411,"d":"29,411"},{"v":8467,"d":"8,467"},{"v":29932,"d":"29,932"}]
["~9%",69092,2033501110,{"v":999407.70233891,"d":"999,408"},29431.7881954495,1000000,29450,37148,333710800,81.6373694411543,8983.27770001076,1099,9160,{"$nulls":4},{"v":29932,"d":"29,932"},{"v":9136,"d":"9,136"},{"v":29950,"d":"29,950"}]
["~9.5%",69091,2034729950,{"v":1000000,"d":"1,000,000"},29450,1000000,29450,37147,346003800,72.1122028696799,9314.44800387649,1819,9670,{"$nulls":4},{"v":29950,"d":"29,950"},{"v":9473,"d":"9,473"},{"v":29950,"d":"29,950"}]
["~10%",69092,2034759400,{"v":1000000,"d":"1,000,000"},29450,1000000,29450,37148,359221160,56,9670,56,9670,{"$nulls":4},{"v":29950,"d":"29,950"},{"v":9834,"d":"9,834"},{"v":29950,"d":"29,950"}]
["~10.5%",69092,2034759400,{"v":1000000,"d":"1,000,000"},29450,1000000,29450,37147,359211490,56,9670,56,9670,{"$nulls":4},{"v":29950,"d":"29,950"},{"v":9834,"d":"9,834"},{"v":29951,"d":"29,951"}]
["~11%",69091,2034762960,{"v":1000022.26509965,"d":"1,000,022"},29450.4777756871,1001250,29480,37148,359221160,56,9670,56,9670,{"$nulls":4},{"v":29951,"d":"29,951"},{"v":9834,"d":"9,834"},{"v":30314,"d":"30,314"}]
["~11.5%",69092,2059226830,{"v":1012164.47978058,"d":"1,012,164"},29804.1282637642,1015740,29910,37147,365904240,117.046114087274,9850.16932726734,7816,10510,{"$nulls":4},{"v":30314,"d":"30,314"},{"v":10018,"d":"10,018"},{"v":30445,"d":"30,445"}]
["~12%",69092,2068095530,{"v":1016511.82152781,"d":"1,016,512"},29932.4890001736,1020000,30030,37148,402198230,87.5394099278561,10826.914773339,1162,10910,{"$nulls":4},{"v":30445,"d":"30,445"},{"v":11011,"d":"11,011"},{"v":30586,"d":"30,586"}]
["~12.5%",69091,2077373830,{"v":1021230.37483898,"d":"1,021,230"},30067.2132405088,1028000,30270,37148,421841060,94.3773016043932,11355.6869818025,1984,11740,{"$nulls":4},{"v":30586,"d":"30,586"},{"v":11549,"d":"11,549"},{"v":31054,"d":"31,054"}]
["~13%",69092,2109392460,{"v":1036848.75657094,"d":"1,036,849"},30530.1982863428,1046770,30820,37147,436105780,68,11740,68,11740,{"$nulls":4},{"v":31054,"d":"31,054"},{"v":11940,"d":"11,940"},{"v":31445,"d":"31,445"}]
["~13.5%",69091,2136082630,{"v":1049907.01108682,"d":"1,049,907"},30916.94475402,1051760,30970,37148,436117520,68,11740,68,11740,{"$nulls":4},{"v":31445,"d":"31,445"},{"v":11940,"d":"11,940"},{"v":31870,"d":"31,870"}]
["~14%",69092,2164994370,{"v":1064119.67253806,"d":"1,064,120"},31334.9500665778,1075695,31670,37147,436725950,119.923950790104,11756.6950224782,2858,12090,{"$nulls":4},{"v":31870,"d":"31,870"},{"v":11957,"d":"11,957"},{"v":32550,"d":"32,550"}]
["~14.5%",69092,2211071770,{"v":1086821.45233891,"d":"1,086,821"},32001.8492734325,1098360,32340,37148,449263200,99.8952029718961,12093.8731560245,2518,12130,{"$nulls":4},{"v":32550,"d":"32,550"},{"v":12299,"d":"12,299"},{"v":32941,"d":"32,941"}]
["~15%",69091,2237612500,{"v":1099882.19775368,"d":"1,099,882"},32386.4540967709,1100000,32390,37147,460504960,105.402051309661,12396.8277384445,1505,12700,{"$nulls":4},{"v":32941,"d":"32,941"},{"v":12608,"d":"12,608"},{"v":32945,"d":"32,945"}]
["~15.5%",69092,2237889880,{"v":1100000,"d":"1,100,000"},32390,1100000,32390,37148,497388660,87.609346398191,13389.3792397975,2650,13470,{"$nulls":4},{"v":32945,"d":"32,945"},{"v":13617,"d":"13,617"},{"v":32945,"d":"32,945"}]
["~16%",69092,2237889880,{"v":1100000,"d":"1,100,000"},32390,1100000,32390,37147,500795290,87.2657549734837,13481.4464155921,1396,13540,{"$nulls":4},{"v":32945,"d":"32,945"},{"v":13711,"d":"13,711"},{"v":33353,"d":"33,353"}]
["~16.5%",69091,2265749970,{"v":1113610.68029121,"d":"1,113,611"},32793.7064161757,1125204,33130,37148,514251690,106.602697318832,13843.3210401636,2089,13870,{"$nulls":4},{"$f":"ROUND(D44*$Q$6,0)","v":{"v":33353,"d":"33,353"}},{"v":14079,"d":"14,079"},{"v":34065,"d":"34,065"}]
["~17%",69092,2313940500,{"v":1137381.38809124,"d":"1,137,381"},33490.7152781798,1150000,33860,37147,517926060,94.7044714243411,13942.6080167981,912,13980,{"$nulls":4},{"v":34065,"d":"34,065"},{"v":14180,"d":"14,180"},{"v":34572,"d":"34,572"}]
["~17.5%",69091,2348361080,{"v":1154338.31124169,"d":"1,154,338"},33989.3919613263,1164847,34300,37148,532083570,118.634139119198,14323.3436524173,3113,15110,{"$nulls":4},{"v":34572,"d":"34,572"},{"v":14567,"d":"14,567"},{"v":35197,"d":"35,197"}]
["~18%",69092,2390946790,{"v":1175182.67494065,"d":"1,175,183"},34605.2624037515,1187099,34960,37147,573592700,108.869572240019,15441.1581015963,1893,15540,{"$nulls":4},{"v":35197,"d":"35,197"},{"v":15704,"d":"15,704"},{"v":35830,"d":"35,830"}]
["~18.5%",69092,2434227410,{"v":1196331.61458634,"d":"1,196,332"},35231.682539223,1200000,35340,37148,577279920,90,15540,90,15540,{"$nulls":4},{"v":35830,"d":"35,830"},{"v":15804,"d":"15,804"},{"v":35940,"d":"35,940"}]
["~19%",69091,2441675940,{"v":1200000,"d":"1,200,000"},35340,1200000,35340,37147,577264380,90.6153928984843,15540,151,15540,{"$nulls":4},{"v":35940,"d":"35,940"},{"v":15804,"d":"15,804"},{"v":35940,"d":"35,940"}]
["~19.5%",69092,2441711280,{"v":1200000,"d":"1,200,000"},35340,1200000,35340,37148,589567190,109.427640788198,15870.7653171099,5171,16060,{"$nulls":4},{"v":35940,"d":"35,940"},{"v":16141,"d":"16,141"},{"v":35940,"d":"35,940"}]
["~20%",69092,2441711280,{"v":1200000,"d":"1,200,000"},35340,1200000,35340,37147,611367100,150.295905456699,16458.0477562118,3880,16980,{"$nulls":4},{"v":35940,"d":"35,940"},{"v":16738,"d":"16,738"},{"v":35940,"d":"35,940"}]
["~20.5%",69091,2441675940,{"v":1200000,"d":"1,200,000"},35340,1200000,35340,37148,648665730,127.383762248304,17461.6595779045,2946,17780,{"$nulls":4},{"v":35940,"d":"35,940"},{"v":17759,"d":"17,759"},{"v":36282,"d":"36,282"}]
["~21%",69092,2464627950,{"v":1211433.06924101,"d":"1,211,433"},35671.6834076304,1223316,36020,37147,660473660,103,17780,103,17780,{"$nulls":4},{"v":36282,"d":"36,282"},{"v":18082,"d":"18,082"},{"v":36947,"d":"36,947"}]
["~21.5%",69091,2510221220,{"v":1233638.2062642,"d":"1,233,638"},36332.1014314454,1244363,36640,37148,660491440,103,17780,103,17780,{"$nulls":4},{"v":36947,"d":"36,947"},{"v":18082,"d":"18,082"},{"v":37432,"d":"37,432"}]
["~22%",69092,2542818820,{"v":1249802.02088519,"d":"1,249,802"},36803.3754993342,1254153,36930,37147,660473660,103,17780,103,17780,{"$nulls":4},{"v":37432,"d":"37,432"},{"v":18082,"d":"18,082"},{"v":37900,"d":"37,900"}]
["~22.5%",69092,2574499100,{"v":1265429.36574422,"d":"1,265,429"},37261.8986279164,1275833,37570,37148,660491440,103,17780,103,17780,{"$nulls":4},{"v":37900,"d":"37,900"},{"v":18082,"d":"18,082"},{"v":38523,"d":"38,523"}]
["~23%",69091,2616823730,{"v":1286237.10202486,"d":"1,286,237"},37875.0304670651,1297553,38210,37147,660473660,103,17780,103,17780,{"$nulls":4},{"v":38523,"d":"38,523"},{"v":18082,"d":"18,082"},{"v":38931,"d":"38,931"}]
["~23.5%",69092,2644653080,{"v":1299860.54255195,"d":"1,299,861"},38277.2691483818,1300000,38280,37148,664298930,129.584230644987,17882.495154517,1604,18050,{"$nulls":4},{"v":38931,"d":"38,931"},{"v":18186,"d":"18,186"},{"v":38935,"d":"38,935"}]
["~24%",69092,2644841760,{"v":1300000,"d":"1,300,000"},38280,1300000,38280,37147,680022680,146.275338519934,18306.2610708805,12575,18570,{"$nulls":4},{"v":38935,"d":"38,935"},{"v":18617,"d":"18,617"},{"v":39083,"d":"39,083"}]
["~24.5%",69091,2654825170,{"v":1304925.48268225,"d":"1,304,925"},38425.0505854597,1314575,38710,37148,717150160,157.255410789275,19305.215893184,2070,19860,{"$nulls":4},{"v":39083,"d":"39,083"},{"v":19633,"d":"19,633"},{"v":39661,"d":"39,661"}]
["~25%",69092,2694150240,{"v":1324228.10079314,"d":"1,324,228"},38993.6641000405,1333333,39260,37148,742799550,131.435339722192,19995.6807903521,1183,20200,{"$nulls":4},{"v":39661,"d":"39,661"},{"v":20336,"d":"20,336"},{"v":40244,"d":"40,244"}]
["~25.5%",69091,2733683390,{"v":1343708.31109695,"d":"1,343,708"},39566.4180573446,1350000,39750,37147,761978170,176.91334428083,20512.5089509247,3949,21030,{"$nulls":4},{"v":40244,"d":"40,244"},{"v":20861,"d":"20,861"},{"v":40705,"d":"40,705"}]
["~26%",69092,2765086210,{"v":1359106.40149366,"d":"1,359,106"},40020.3527181149,1370000,40340,37148,798110340,138.719850328416,21484.6112845913,1999,21580,{"$nulls":4},{"v":40705,"d":"40,705"},{"v":21850,"d":"21,850"},{"v":41343,"d":"41,343"}]
["~26.5%",69092,2808439610,{"v":1380397.56589764,"d":"1,380,398"},40647.826231691,1391600,40980,37147,809391360,147.18865588069,21788.8755484965,2361,22100,{"$nulls":4},{"v":41343,"d":"41,343"},{"v":22159,"d":"22,159"},{"v":41874,"d":"41,874"}]
["~27%",69091,2844874570,{"v":1398144.26145228,"d":"1,398,144"},41175.7619661026,1400000,41230,37148,827916940,162.82674706579,22286.9855712285,2177,22710,{"$nulls":4},{"v":41874,"d":"41,874"},{"v":22666,"d":"22,666"},{"v":41930,"d":"41,930"}]
["~27.5%",69092,2848663160,{"v":1400000,"d":"1,400,000"},41230,1400000,41230,37147,859342060,181.607989878052,23133.5521038038,1478,23650,{"$nulls":4},{"v":41930,"d":"41,930"},{"v":23527,"d":"23,527"},{"v":41993,"d":"41,993"}]
["~28%",69092,2852819950,{"v":1402112.14845423,"d":"1,402,112"},41290.1631158455,1410000,41520,37148,878550200,137,23650,137,23650,{"$nulls":4},{"v":41993,"d":"41,993"},{"v":24052,"d":"24,052"},{"v":42541,"d":"42,541"}]
["~28.5%",69091,2889799010,{"v":1420405.70023592,"d":"1,420,406"},41825.983268443,1430000,42110,37147,878526550,137,23650,137,23650,{"$nulls":4},{"v":42541,"d":"42,541"},{"v":24052,"d":"24,052"},{"v":43067,"d":"43,067"}]
["~29%",69092,2925595670,{"v":1437974.91938285,"d":"1,437,975"},42343.4792740114,1448750,42660,37148,879060000,150.261467642941,23663.7234844406,1888,23820,{"$nulls":4},{"v":43067,"d":"43,067"},{"v":24066,"d":"24,066"},{"v":43570,"d":"43,570"}]
["~29.5%",69091,2959728850,{"v":1454747.39427711,"d":"1,454,747"},42838.1243577311,1465000,43140,37147,894113480,160.515842463725,24069.6013136996,1989,24350,{"$nulls":4},{"v":43570,"d":"43,570"},{"v":24479,"d":"24,479"},{"v":44196,"d":"44,196"}]
["~30%",69092,3002582630,{"v":1475671.73902912,"d":"1,475,672"},43457.7466276848,1486500,43770,37148,922220320,190.014697964897,24825.5712285991,12334,25210,{"$nulls":4},{"v":44196,"d":"44,196"},{"v":25248,"d":"25,248"},{"v":44821,"d":"44,821"}]
["~30.5%",69092,3044732780,{"v":1496530.75629595,"d":"1,496,531"},44067.8049557112,1500000,44170,37147,950154950,166.109780062992,25578.2418499475,2967,25730,{"$nulls":4},{"v":44821,"d":"44,821"},{"v":26013,"d":"26,013"},{"v":44925,"d":"44,925"}]
["~31%",69091,3051749470,{"v":1500000,"d":"1,500,000"},44170,1500000,44170,37148,955818040,149,25730,149,25730,{"$nulls":4},{"v":44925,"d":"44,925"},{"v":26167,"d":"26,167"},{"v":44925,"d":"44,925"}]
["~31.5%",69092,3051793640,{"v":1500000,"d":"1,500,000"},44170,1500000,44170,37147,956279090,163.561041268473,25743.1041537674,2445,25870,{"$nulls":4},{"v":44925,"d":"44,925"},{"v":26181,"d":"26,181"},{"v":44925,"d":"44,925"}]
["~32%",69092,3051793640,{"v":1500000,"d":"1,500,000"},44170,1500000,44170,37148,968652690,185.68692796382,26075.5004307095,1390,26420,{"$nulls":4},{"v":44925,"d":"44,925"},{"v":26519,"d":"26,519"},{"v":45105,"d":"45,105"}]
["~32.5%",69091,3064004680,{"v":1506025.72721483,"d":"1,506,026"},44347.3778060818,1516666,44660,37147,997534090,210.328963307938,26853.6918189894,1651,27460,{"$nulls":4},{"$f":"ROUND(D76*$Q$6,0)","v":{"v":45105,"d":"45,105"}},{"v":27310,"d":"27,310"},{"v":45722,"d":"45,722"}]
["~33%",69092,3106090630,{"v":1526622.42674984,"d":"1,526,622"},44955.8650784461,1537086,45260,37148,1037438990,197.7463658878,27927.1828900613,2070,28150,{"$nulls":4},{"v":45722,"d":"45,722"},{"$f":"ROUND(K77*$R$6,0)","v":{"v":28402,"d":"28,402"}},{"$f":"R78","v":{"v":46303,"d":"46,303"}}]
["~33.5%",69091,3145343920,{"v":1546019.79912,"d":"1,546,020"},45524.6547307174,1553333,45740,37147,1057590620,211.299458906506,28470.4180687538,2352,28890,{"$nulls":4},{"v":46303,"d":"46,303"},{"v":28954,"d":"28,954"},{"v":46837,"d":"46,837"}]
["~34%",69092,3181663660,{"v":1563833.33406183,"d":"1,563,833"},46049.6679789266,1573040,46320,37148,1090620380,204.491843437062,29358.7913212016,3035,29530,{"$nulls":4},{"v":46837,"d":"46,837"},{"v":29858,"d":"29,858"},{"v":47442,"d":"47,442"}]
["~34.5%",69092,3222791030,{"v":1584035.75094077,"d":"1,584,036"},46644.9231459503,1595352,46980,37147,1105118670,194.709720838829,29749.8767060597,1466,30050,{"$nulls":4},{"v":47442,"d":"47,442"},{"v":30256,"d":"30,256"},{"v":47908,"d":"47,908"}]
["~35%",69091,3254785860,{"v":1599605.29290356,"d":"1,599,605"},47108.68072542,1600000,47120,37148,1125882820,222.598982448584,30308.0332723161,1203,30740,{"$nulls":4},{"v":47908,"d":"47,908"},{"v":30823,"d":"30,823"},{"v":47985,"d":"47,985"}]
["~35.5%",69092,3259901020,{"v":1602174.30628726,"d":"1,602,174"},47182.0329415851,1610273,47420,37147,1161794410,221.859692572751,31275.5918378334,3802,31600,{"$nulls":4},{"v":47985,"d":"47,985"},{"v":31807,"d":"31,807"},{"v":48572,"d":"48,572"}]
["~36%",69092,3299670650,{"v":1621773.74348694,"d":"1,621,774"},47757.6369188907,1633313,48100,37148,1174374120,195.46950037687,31613.3875309572,1169,31780,{"$nulls":4},{"v":48572,"d":"48,572"},{"v":32151,"d":"32,151"},{"v":49237,"d":"49,237"}]
["~36.5%",69091,3344766520,{"v":1643981.238526,"d":"1,643,981"},48411.0306696964,1650000,48590,37147,1189774160,232.870002961208,32028.8087867122,1487,32290,{"$nulls":4},{"v":49237,"d":"49,237"},{"v":32573,"d":"32,573"},{"v":49716,"d":"49,716"}]
["~37%",69092,3377297490,{"v":1659959.96749261,"d":"1,659,960"},48881.165547386,1669298,49160,37148,1219173680,249.384219877247,32819.3625498007,1475,33270,{"$nulls":4},{"v":49716,"d":"49,716"},{"v":33377,"d":"33,377"},{"v":50349,"d":"50,349"}]
["~37.5%",69091,3420465450,{"v":1681104.71538984,"d":"1,681,105"},49506.6716359583,1692980,49850,37148,1255972160,224.588241628082,33809.9536987186,2257,34020,{"$nulls":4},{"v":50349,"d":"50,349"},{"v":34385,"d":"34,385"},{"v":50890,"d":"50,890"}]
["~38%",69092,3457065980,{"v":1699176.50833671,"d":"1,699,177"},50035.6912522433,1700000,50060,37147,1279282380,256.657011333351,34438.3767195197,1569,34880,{"$nulls":4},{"v":50890,"d":"50,890"},{"v":35024,"d":"35,024"},{"v":50917,"d":"50,917"}]
["~38.5%",69092,3458858200,{"v":1700055.90149366,"d":"1,700,056"},50061.6308689862,1701809,50110,37148,1310295090,254.06231829439,35272.2916442338,1566,35740,{"$nulls":4},{"v":50917,"d":"50,917"},{"v":35872,"d":"35,872"},{"v":51352,"d":"51,352"}]
["~39%",69091,3488699620,{"v":1714603.32984035,"d":"1,714,603"},50494.2701654339,2371599,50860,37147,1341313700,234.867041753035,36108.2644628099,1241,36260,{"$nulls":4},{"v":51352,"d":"51,352"},{"v":36722,"d":"36,722"},{"v":52041,"d":"52,041"}]
["~39.5%",69092,3535226690,{"v":1737596.37562959,"d":"1,737,596"},51166.9468245238,1749570,51520,37148,1359083830,268.392161085388,36585.6527942284,2367,36950,{"$nulls":4},{"v":52041,"d":"52,041"},{"v":37208,"d":"37,208"},{"v":52563,"d":"52,563"}]
["~40%",69092,3570623970,{"v":1755011.04703873,"d":"1,755,011"},51679.267787877,1766363,52010,37147,1387760580,277.157320914205,37358.6179233854,1397,37820,{"$nulls":4},{"v":52563,"d":"52,563"},{"v":37994,"d":"37,994"},{"v":53261,"d":"53,261"}]
["~40.5%",69091,3618042760,{"v":1778318.98931843,"d":"1,778,319"},52366.3394653428,1791503,52750,37148,1424042150,268.214143426294,38334.2885215893,1218,38680,{"$nulls":4},{"v":53261,"d":"53,261"},{"v":38986,"d":"38,986"},{"v":53871,"d":"53,871"}]
["~41%",69092,3659852420,{"v":1798686.57080414,"d":"1,798,687"},52970.7118045504,1800000,53010,37147,1448143130,278.425633294747,38984.120655773,5205,39370,{"$nulls":4},{"v":53871,"d":"53,871"},{"v":39647,"d":"39,647"},{"v":53919,"d":"53,919"}]
["~41.5%",69091,3663090510,{"v":1800307.39725868,"d":"1,800,307"},53018.3455153348,1804228,53130,37148,1482692400,286.129939700656,39913.115107139,2255,40410,{"$nulls":4},{"v":53919,"d":"53,919"},{"v":40592,"d":"40,592"},{"v":54416,"d":"54,416"}]
["~42%",69092,3696610130,{"v":1816901.98526602,"d":"1,816,902"},53502.7228912175,1829206,53870,37147,1510078310,315.153605943952,40651.42030312,40560,41100,{"$nulls":4},{"v":54416,"d":"54,416"},{"v":41342,"d":"41,342"},{"v":55100,"d":"55,100"}]
["~42.5%",69092,3743084550,{"v":1839724.02195623,"d":"1,839,724"},54175.3683494471,1850000,54480,37148,1542290720,302.822305373102,41517.463120491,1589,42130,{"$nulls":4},{"v":55100,"d":"55,100"},{"v":42223,"d":"42,223"},{"v":55714,"d":"55,714"}]
["~43%",69091,3784757900,{"v":1860228.75265953,"d":"1,860,229"},54779.3185798439,1872222,55130,37147,1571729190,269.981990470293,42311.0665733437,975,42480,{"$nulls":4},{"v":55714,"d":"55,714"},{"v":43030,"d":"43,030"},{"v":56469,"d":"56,469"}]
["~43.5%",69092,3836094760,{"v":1885458.30249522,"d":"1,885,458"},55521.5475018815,1900000,55950,37148,1599791230,303.59704425541,43065.3394529988,13235,43520,{"$nulls":4},{"v":56469,"d":"56,469"},{"v":43797,"d":"43,797"},{"v":56905,"d":"56,905"}]
["~44%",69092,3865697400,{"v":1900000,"d":"1,900,000"},55950,1900000,55950,37147,1633680290,318.05628987536,43978.7947882736,1984,44460,{"$nulls":4},{"v":56905,"d":"56,905"},{"v":44726,"d":"44,726"},{"v":57105,"d":"57,105"}]
["~44.5%",69091,3879233080,{"v":1906680.57354792,"d":"1,906,681"},56146.7207016832,1917977,56480,37148,1666607850,328.181436416496,44863.9994077743,1493,45260,{"$nulls":4},{"v":57105,"d":"57,105"},{"v":45627,"d":"45,627"},{"v":57828,"d":"57,828"}]
["~45%",69092,3928402970,{"v":1930811.24820529,"d":"1,930,811"},56857.566288427,1944547,57260,37147,1698074620,322.015290602202,45712.294936334,1948,46300,{"$nulls":4},{"v":57828,"d":"57,828"},{"v":46489,"d":"46,489"},{"v":58590,"d":"58,590"}]
["~45.5%",69091,3980115820,{"v":1956275.55722163,"d":"1,956,276"},57606.8637014951,1969833,58010,37148,1734734140,342.00796812749,46697.9148271777,3320,47150,{"$nulls":4},{"v":58590,"d":"58,590"},{"v":47492,"d":"47,492"},{"v":59375,"d":"59,375"}]
["~46%",69092,4033463440,{"v":1982456.66825392,"d":"1,982,457"},58378.1543449313,1995933,58780,37147,1770270480,341.563033353972,47655.8128516434,1902,48180,{"$nulls":4},{"v":59375,"d":"59,375"},{"v":48466,"d":"48,466"},{"v":59893,"d":"59,893"}]
["~46.5%",69092,4069001080,{"v":1999764.03013373,"d":"1,999,764"},58892.5068025241,2000000,58900,37148,1803809210,348.774523527511,48557.3707871217,1536,49080,{"$nulls":4},{"v":59893,"d":"59,893"},{"v":49383,"d":"49,383"},{"v":59900,"d":"59,900"}]
["~47%",69091,4069459900,{"v":2000000,"d":"2,000,000"},58900,2000000,58900,37147,1839397770,336.268985382399,49516.7246345599,1367,49740,{"$nulls":4},{"v":59900,"d":"59,900"},{"v":50359,"d":"50,359"},{"v":59940,"d":"59,940"}]
["~47.5%",69092,4072112100,{"v":2001325.97794245,"d":"2,001,326"},58937.5340126208,2008373,59140,37148,1870341890,349.151071390115,50348.3872617637,1633,50770,{"$nulls":4},{"v":59940,"d":"59,940"},{"v":51204,"d":"51,204"},{"v":60574,"d":"60,574"}]
["~48%",69092,4115005210,{"v":2022516.75890117,"d":"2,022,517"},59558.3455392809,2036100,59960,37147,1905951590,381.232939402912,51308.3584138692,1224,51810,{"$nulls":4},{"v":60574,"d":"60,574"},{"v":52181,"d":"52,181"},{"v":61372,"d":"61,372"}]
["~48.5%",69091,4169119900,{"v":2049147.36116136,"d":"2,049,147"},60342.4454704664,2061792,60710,37148,1939993990,368.50285345106,52223.3764940239,3641,52670,{"$nulls":4},{"$f":"ROUND(D108*$Q$6,0)","v":{"v":61372,"d":"61,372"}},{"v":53111,"d":"53,111"},{"v":62121,"d":"62,121"}]
["~49%",69092,4220089480,{"v":2074161.5824408,"d":"2,074,162"},61079.2780640305,2085000,61400,37147,1979090230,380.285810428836,53277.2560368266,1790,53700,{"$nulls":4},{"v":62121,"d":"62,121"},{"v":54183,"d":"54,183"},{"v":62787,"d":"62,787"}]
["~49.5%",69091,4265246690,{"v":2096391.84919888,"d":"2,096,392"},61733.7524424309,2100000,61840,37148,2010522420,392.760310110907,54121.955959944,1925,54660,{"$nulls":4},{"v":62787,"d":"62,787"},{"v":55042,"d":"55,042"},{"v":63226,"d":"63,226"}]
["~50%",69092,4295130510,{"v":2111042.12473224,"d":"2,111,042"},62165.3810860881,2125000,62580,37148,2052943520,411.380585765047,55263.9043824701,1811,55870,{"$nulls":4},{"v":63226,"d":"63,226"},{"v":56203,"d":"56,203"},{"v":64087,"d":"64,087"}]
["~50.5%",69092,4353564530,{"v":2139783.32498697,"d":"2,139,783"},63011.1232848955,2150382,63320,37147,2093224150,399.435997523353,56349.749643309,56780,56820,{"$nulls":4},{"v":64087,"d":"64,087"},{"v":57308,"d":"57,308"},{"v":64818,"d":"64,818"}]
["~51%",69091,4403242610,{"v":2164215.94766322,"d":"2,164,216"},63731.0591828168,2177770,64130,37148,2135457320,409.270566383116,57485.1222138473,2715,58020,{"$nulls":4},{"v":64818,"d":"64,818"},{"v":58462,"d":"58,462"},{"v":65650,"d":"65,650"}]
["~51.5%",69092,4459936030,{"v":2191993.70578359,"d":"2,191,994"},64550.686476003,2200000,64790,37147,2168690310,414.554903491533,58381.3042775998,1852,59000,{"$nulls":4},{"v":65650,"d":"65,650"},{"v":59374,"d":"59,374"},{"v":65927,"d":"65,927"}]
["~52%",69092,4478903030,{"v":2201244.01846812,"d":"2,201,244"},64825.2045099287,2208013,65020,37148,2216391260,417.141515020997,59663.8112415204,1344,60090,{"$nulls":4},{"v":65927,"d":"65,927"},{"v":60678,"d":"60,678"},{"v":66559,"d":"66,559"}]
["~52.5%",69091,4521525380,{"v":2222332.71653326,"d":"2,222,333"},65443.044390731,2235544,65830,37147,2254426130,440.985005518615,60689.3189221202,1368,61420,{"$nulls":4},{"v":66559,"d":"66,559"},{"v":61721,"d":"61,721"},{"v":67360,"d":"67,360"}]
["~53%",69092,4576019650,{"v":2249084.25496439,"d":"2,249,084"},66230.8176055114,2261984,66610,37148,2302604170,426.966081619468,61984.6067083019,12696,62340,{"$nulls":4},{"v":67360,"d":"67,360"},{"v":63038,"d":"63,038"},{"v":68222,"d":"68,222"}]
["~53.5%",69091,4634476080,{"v":2277857.63713074,"d":"2,277,858"},67077.8550028223,2293145,67530,37147,2345621310,480.138396101973,63144.2999434678,1977,63950,{"$nulls":4},{"v":68222,"d":"68,222"},{"v":64218,"d":"64,218"},{"v":68874,"d":"68,874"}]
["~54%",69092,4678881470,{"v":2299647.06803971,"d":"2,299,647"},67719.58359868,2304600,67870,37148,2395263060,448.735059760956,64478.9237644018,1656,65110,{"$nulls":4},{"v":68874,"d":"68,874"},{"v":65575,"d":"65,575"},{"v":69454,"d":"69,454"}]
["~54.5%",69092,4718390670,{"v":2318995.30929774,"d":"2,318,995"},68291.4182539223,2333333,68710,37147,2436471330,456.291705925108,65589.9892319702,3243,66140,{"$nulls":4},{"v":69454,"d":"69,454"},{"v":66705,"d":"66,705"},{"v":70294,"d":"70,294"}]
["~55%",69091,4775342940,{"v":2347058.87763963,"d":"2,347,059"},69116.7147674805,2361312,69530,37148,2473001420,459.350516851512,66571.589856789,1531,67090,{"$nulls":4},{"v":70294,"d":"70,294"},{"v":67703,"d":"67,703"},{"v":71188,"d":"71,188"}]
["~55.5%",69092,4836023300,{"v":2376880.23597522,"d":"2,376,880"},69993.9689110171,2393167,70470,37147,2525279520,487.700244972676,67980.7123051659,1074,68560,{"$nulls":4},{"v":71188,"d":"71,188"},{"v":69136,"d":"69,136"},{"v":71862,"d":"71,862"}]
["~56%",69092,4882136630,{"v":2399404.99160539,"d":"2,399,405"},70661.3881491344,2401549,70720,37148,2567183080,488.890653601808,69106.8988909227,1538,69770,{"$nulls":4},{"v":71862,"d":"71,862"},{"v":70282,"d":"70,282"},{"v":72403,"d":"72,403"}]
["~56.5%",69091,4918590970,{"v":2417469.72527536,"d":"2,417,470"},71190.0387894226,2433000,71650,37147,2612931160,475.183998707836,70340.3009664306,1405,70630,{"$nulls":4},{"v":72403,"d":"72,403"},{"v":71536,"d":"71,536"},{"v":73321,"d":"73,321"}]
["~57%",69092,4980995490,{"v":2448114.16294216,"d":"2,448,114"},72092.217478145,2463055,72530,37148,2644698380,513.793205556153,71193.5603531818,8291,72010,{"$nulls":4},{"v":73321,"d":"73,321"},{"v":72404,"d":"72,404"},{"v":74266,"d":"74,266"}]
["~57.5%",69091,5045120400,{"v":2479674.60745972,"d":"2,479,675"},73021.3833929165,2496803,73530,37147,2696982200,508.15328290306,72602.9612081729,1993,73150,{"$nulls":4},{"v":74266,"d":"74,266"},{"v":73837,"d":"73,837"},{"v":74871,"d":"74,871"}]
["~58%",69092,5086298460,{"v":2499874.5182655,"d":"2,499,875"},73616.3153476524,2500000,73620,37148,2737624810,518.413669645741,73695.0794120814,2461,74430,{"$nulls":4},{"v":74871,"d":"74,871"},{"v":74948,"d":"74,948"},{"v":75051,"d":"75,051"}]
["~58.5%",69092,5098481080,{"v":2505862.10170497,"d":"2,505,862"},73792.6399583164,2520000,74210,37147,2780265200,513.619296309257,74844.9457560502,2679,75440,{"$nulls":4},{"v":75051,"d":"75,051"},{"v":76117,"d":"76,117"},{"v":75950,"d":"75,950"}]
["~59%",69091,5159862220,{"v":2535907.6499544,"d":"2,535,908"},74682.1180761604,2550715,75110,37148,2819018370,531.68908151179,75886.1411112307,2038,76670,{"$nulls":4},{"v":75950,"d":"75,950"},{"v":77176,"d":"77,176"},{"v":76909,"d":"76,909"}]
["~59.5%",69092,5224737840,{"v":2567920.22297805,"d":"2,567,920"},75620.0115787645,2583400,76080,37147,2863121160,511.99324306135,77075.4343553988,2752,77590,{"$nulls":4},{"v":76909,"d":"76,909"},{"v":78386,"d":"78,386"},{"v":77771,"d":"77,771"}]
["~60%",69092,5283682420,{"v":2596687.26670236,"d":"2,596,687"},76473.143345105,2607327,76780,37148,2909961110,556.058441908043,78334.2605254657,2365,79060,{"$nulls":4},{"v":77771,"d":"77,771"},{"v":79666,"d":"79,666"},{"v":78595,"d":"78,595"}]
["~60.5%",69091,5339212200,{"v":2624207.8849633,"d":"2,624,208"},77277.9696342504,2641328,77780,37147,2952715500,538.314668748485,79487.3206450049,1627,80130,{"$nulls":4},{"v":78595,"d":"78,595"},{"v":80839,"d":"80,839"},{"v":79565,"d":"79,565"}]
["~61%",69092,5405199460,{"v":2656588.06100561,"d":"2,656,588"},78231.9148381867,2670945,78650,37148,2998220820,519.638796166684,80710.1545170668,1532,81120,{"$nulls":4},{"v":79565,"d":"79,565"},{"v":82082,"d":"82,082"},{"v":80509,"d":"80,509"}]
["~61.5%",69091,5470144750,{"v":2688097.17866292,"d":"2,688,097"},79173.0435223111,2700000,79510,37147,3019091090,1280.29159824481,81274.1564594718,81120,81680,{"$nulls":4},{"v":80509,"d":"80,509"},{"v":82656,"d":"82,656"},{"v":81067,"d":"81,067"}]
["~62%",69092,5507258620,{"v":2706757.33684073,"d":"2,706,757"},79709.0635674173,2722185,80160,37148,3061287190,569.927048562506,82407.860180898,8611,83060,{"$nulls":4},{"v":81067,"d":"81,067"},{"v":83809,"d":"83,809"},{"v":82032,"d":"82,032"}]
["~62.5%",69092,5572753050,{"v":2738961.60111156,"d":"2,738,962"},80656.9942974584,2752271,81050,37148,3105949520,564.905486163454,83610.141057392,2243,84270,{"$nulls":4},{"v":82032,"d":"82,032"},{"v":85032,"d":"85,032"},{"v":82979,"d":"82,979"}]
["~63%",69091,5637064240,{"v":2770591.56036242,"d":"2,770,592"},81588.980330289,2788723,82120,37147,3155664840,569.000699921931,84950.7319568202,1788,85400,{"$nulls":4},{"v":82979,"d":"82,979"},{"v":86395,"d":"86,395"},{"v":83867,"d":"83,867"}]
["~63.5%",69092,5697820730,{"v":2800244.71139929,"d":"2,800,245"},82467.1558212238,2812541,82820,37148,3199492220,594.721034779799,86128.2497038871,2296,86860,{"$nulls":4},{"v":83867,"d":"83,867"},{"v":87592,"d":"87,592"},{"v":84748,"d":"84,748"}]
["~64%",69092,5757361410,{"v":2829665.49342905,"d":"2,829,665"},83328.9152144966,2847781,83860,37147,3249814890,580.444235066088,87485.2582981129,2089,88070,{"$nulls":4},{"v":84748,"d":"84,748"},{"v":88973,"d":"88,973"},{"v":85798,"d":"85,798"}]
["~64.5%",69091,5828591280,{"v":2864720.70163986,"d":"2,864,721"},84361.0785775281,2883333,84910,37148,3300727060,603.94271562399,88853.4257564337,1611,89450,{"$nulls":4},{"$f":"ROUND(D140*$Q$6,0)","v":{"v":85798,"d":"85,798"}},{"v":90364,"d":"90,364"},{"v":86772,"d":"86,772"}]
["~65%",69092,5894841480,{"v":2897240.06141087,"d":"2,897,240"},85318.7269148381,2907532,85620,37147,3348484050,611.640374727434,90141.4394163727,2814,90840,{"$nulls":4},{"v":86772,"d":"86,772"},{"$f":"ROUND(K141*$R$6,0)","v":{"v":91674,"d":"91,674"}},{"$f":"R142","v":{"v":87604,"d":"87,604"}}]
["~65.5%",69091,5951705610,{"v":2925016.37507055,"d":"2,925,016"},86142.9941671129,2943840,86690,37148,3402844730,615.658366533864,91602.3670184128,1789,92220,{"$nulls":4},{"v":87604,"d":"87,604"},{"v":93160,"d":"93,160"},{"v":88738,"d":"88,738"}]
["~66%",69092,6028657120,{"v":2962876.87565854,"d":"2,962,877"},87255.5016499739,2982643,87830,37147,3456348690,631.666783320321,93045.1635394513,2113,93770,{"$nulls":4},{"v":88738,"d":"88,738"},{"v":94627,"d":"94,627"},{"v":89734,"d":"89,734"}]
["~66.5%",69092,6096244300,{"v":2996126.65988826,"d":"2,996,127"},88233.7217043941,3000000,88350,37148,3510362590,630.143022504576,94496.6778830623,13100,95150,{"$nulls":4},{"v":89734,"d":"89,734"},{"v":96103,"d":"96,103"},{"v":90059,"d":"90,059"}]
["~67%",69091,6118203120,{"v":3006984.72081747,"d":"3,006,985"},88552.8233778639,3024334,89060,37147,3560748870,638.766387595229,95855.6241419226,2994,96530,{"$nulls":4},{"v":90059,"d":"90,059"},{"v":97485,"d":"97,485"},{"v":91149,"d":"91,149"}]
["~67.5%",69092,6192186800,{"v":3043368.08569733,"d":"3,043,368"},89622.3412261911,3063205,90210,37148,3617292480,647.067056099924,97375.1609777107,2095,97960,{"$nulls":4},{"v":91149,"d":"91,149"},{"v":99031,"d":"99,031"},{"v":92298,"d":"92,298"}]
["~68%",69092,6270707260,{"v":3081738.87396514,"d":"3,081,739"},90758.8036241533,3100000,91290,37147,3671281240,669.624895684712,98831.1637548119,2235,99640,{"$nulls":4},{"v":92298,"d":"92,298"},{"v":100511,"d":"100,511"},{"v":93355,"d":"93,355"}]
["~68.5%",69091,6342294130,{"v":3117028.40986525,"d":"3,117,028"},91796.2416233662,3137436,92390,37148,3724380980,657.053031118768,100257.913750403,1941,101030,{"$nulls":4},{"v":93355,"d":"93,355"},{"v":101962,"d":"101,962"},{"v":94553,"d":"94,553"}]
["~69%",69092,6423439020,{"v":3157014.54721241,"d":"3,157,015"},92969.3599837897,3175755,93520,37147,3782683880,670.645731822219,101830.131100761,1978,102510,{"$nulls":4},{"v":94553,"d":"94,553"},{"v":103561,"d":"103,561"},{"v":95661,"d":"95,661"}]
["~69.5%",69091,6498747810,{"v":3194031.97970792,"d":"3,194,032"},94060.6998017107,3207963,94470,37148,3840037260,682.996904274792,103371.305588456,2212,104130,{"$nulls":4},{"v":95661,"d":"95,661"},{"v":105129,"d":"105,129"},{"v":96705,"d":"96,705"}]
["~70%",69092,6569659290,{"v":3228881.0868552,"d":"3,228,881"},95085.6725814855,3249996,95710,37147,3898263440,685.350822408269,104941.541443454,2164,105690,{"$nulls":4},{"v":96705,"d":"96,705"},{"v":106726,"d":"106,726"},{"v":97856,"d":"97,856"}]
["~70.5%",69092,6649741890,{"v":3267317.73247264,"d":"3,267,318"},96244.7445435072,3290000,96890,37148,3954933890,698.083423064498,106464.248142564,2882,107250,{"$nulls":4},{"v":97856,"d":"97,856"},{"v":108274,"d":"108,274"},{"v":99038,"d":"99,038"}]
["~71%",69091,6728073100,{"v":3306785.4463823,"d":"3,306,785"},97379.8772633193,3326763,97970,37147,4017630410,705.88779713032,108154.909144749,1832,108970,{"$nulls":4},{"v":99038,"d":"99,038"},{"v":109994,"d":"109,994"},{"v":100197,"d":"100,197"}]
["~71.5%",69092,6806906900,{"v":3345489.90758698,"d":"3,345,490"},98519.465350547,3366660,99140,37148,4077335350,709.916388500053,109759.215839345,2696,110520,{"$nulls":4},{"v":100197,"d":"100,197"},{"v":111625,"d":"111,625"},{"v":101447,"d":"101,447"}]
["~72%",69092,6891901330,{"v":3387221.36347189,"d":"3,387,221"},99749.6284663926,3403358,100220,37147,4136782100,723.736910113871,111362.481492448,2428,112250,{"$nulls":4},{"v":101447,"d":"101,447"},{"v":113256,"d":"113,256"},{"v":102607,"d":"102,607"}]
["~72.5%",69091,6970565820,{"v":3425958.63106627,"d":"3,425,959"},100889.635697847,3449990,101600,37148,4199860580,729.025465704748,113057.515344029,2462,113980,{"$nulls":4},{"v":102607,"d":"102,607"},{"v":114979,"d":"114,979"},{"v":103972,"d":"103,972"}]
["~73%",69092,7063390670,{"v":3471528.35046025,"d":"3,471,528"},102231.671828865,3495960,102950,37147,4261971560,729.997038791827,114732.591057151,1899,115530,{"$nulls":4},{"v":103972,"d":"103,972"},{"v":116683,"d":"116,683"},{"v":105033,"d":"105,033"}]
["~73.5%",69091,7135319050,{"v":3506932.73411877,"d":"3,506,933"},103274.218783922,3526190,103840,37148,4326796460,743.109077204694,116474.546678152,6199,117260,{"$nulls":4},{"v":105033,"d":"105,033"},{"v":118455,"d":"118,455"},{"v":106338,"d":"106,338"}]
["~74%",69092,7224065110,{"v":3550501.92729983,"d":"3,550,502"},104557.18621548,3574970,105280,37147,4389942080,752.316122432497,118177.566963684,2516,118990,{"$nulls":4},{"v":106338,"d":"106,338"},{"v":120187,"d":"120,187"},{"v":107731,"d":"107,731"}]
["~74.5%",69092,7318758140,{"v":3597015.93911017,"d":"3,597,016"},105927.721588606,3619485,106590,37148,4456742730,766.362711316894,119972.615753203,2057,120890,{"$nulls":4},{"v":107731,"d":"107,731"},{"v":122012,"d":"122,012"},{"v":109153,"d":"109,153"}]
["~75%",69091,7415257920,{"v":3644511.67427016,"d":"3,644,512"},107325.960255315,3668854,108040,37148,4522055300,764.124421233982,121730.78766017,1989,122610,{"$nulls":4},{"v":109153,"d":"109,153"},{"v":123800,"d":"123,800"},{"v":110600,"d":"110,600"}]
["~75.5%",69092,7513669640,{"v":3692829.77761535,"d":"3,692,830"},108748.764545822,3714065,109370,37147,4588702670,780.117936845505,123528.216814278,1833,124510,{"$nulls":4},{"v":110600,"d":"110,600"},{"v":125628,"d":"125,628"},{"v":112008,"d":"112,008"}]
["~76%",69092,7610406810,{"v":3739835.6473253,"d":"3,739,836"},110148.885688647,3764850,110870,37148,4658465860,782.814929471303,125402.871217831,2461,126240,{"$nulls":4},{"v":112008,"d":"112,008"},{"v":127535,"d":"127,535"},{"v":113548,"d":"113,548"}]
["~76.5%",69091,7713831970,{"v":3791237.06131044,"d":"3,791,237"},111647.42108234,3816666,112400,37147,4724472140,789.851912671278,127183.141034269,4078,127970,{"$nulls":4},{"v":113548,"d":"113,548"},{"v":129345,"d":"129,345"},{"v":115131,"d":"115,131"}]
["~77%",69092,7821496090,{"v":3844106.21772419,"d":"3,844,106"},113204.077027731,3870775,113990,37148,4793376160,805.511763755787,129034.568752018,2714,129870,{"$nulls":4},{"v":115131,"d":"115,131"},{"v":131228,"d":"131,228"},{"v":116693,"d":"116,693"}]
["~77.5%",69091,7927954390,{"v":3896262.92000405,"d":"3,896,263"},114746.557294003,3920890,115470,37147,4861240730,813.721269550703,130864.961638894,1720,131770,{"$nulls":4},{"v":116693,"d":"116,693"},{"v":133090,"d":"133,090"},{"v":118331,"d":"118,331"}]
["~78%",69092,8038914960,{"v":3950935.03035083,"d":"3,950,935"},116350.879407167,3980618,117220,37148,4927152330,819.744535372025,132635.736244212,2296,133660,{"$nulls":4},{"v":118331,"d":"118,331"},{"v":134891,"d":"134,891"},{"v":119848,"d":"119,848"}]
["~78.5%",69092,8142032440,{"v":4001590.79247959,"d":"4,001,591"},117843.345684015,4023545,118490,37147,4998219700,828.944248526125,134552.44568875,2187,135560,{"$nulls":4},{"v":119848,"d":"119,848"},{"v":136840,"d":"136,840"},{"v":121403,"d":"121,403"}]
["~79%",69091,8247499870,{"v":4053529.85042914,"d":"4,053,530"},119371.551576905,4082830,120230,37148,5066454930,840.239662969742,136385.671637773,12591,137460,{"$nulls":4},{"v":121403,"d":"121,403"},{"v":138704,"d":"138,704"},{"v":123163,"d":"123,163"}]
["~79.5%",69092,8367156620,{"v":4112280.02657326,"d":"4,112,280"},121101.670526254,4143474,122020,37147,5137502200,846.296982259671,138301.940937356,12306,139260,{"$nulls":4},{"v":123163,"d":"123,163"},{"v":140653,"d":"140,653"},{"v":124988,"d":"124,988"}]
["~80%",69092,8491144360,{"v":4173209.69184565,"d":"4,173,210"},122896.20158629,4200000,123690,37148,5210211950,858.153305696134,140255.517120706,2221,141260,{"$nulls":4},{"v":124988,"d":"124,988"},{"v":142640,"d":"142,640"},{"v":126757,"d":"126,757"}]
["~80.5%",69091,8611553010,{"v":4232295.0679828,"d":"4,232,295"},124640.73482798,4265420,125610,37147,5281393510,864.712655126928,142175.505693595,5525,143160,{"$nulls":4},{"$f":"ROUND(D172*$Q$6,0)","v":{"v":126757,"d":"126,757"}},{"v":144592,"d":"144,592"},{"v":128700,"d":"128,700"}]
["~81%",69092,8745015030,{"v":4297149.4443785,"d":"4,297,149"},126570.587477566,4330434,127530,37148,5355262160,878.825239582211,144160.174437385,2626,145220,{"$nulls":4},{"v":128700,"d":"128,700"},{"v":146611,"d":"146,611"},{"v":130714,"d":"130,714"}]
["~81.5%",69091,8880010530,{"v":4364393.2889233,"d":"4,364,393"},128526.299083816,4399998,129570,37147,5431517480,883.491452876409,146216.854120117,2140,147140,{"$nulls":4},{"v":130714,"d":"130,714"},{"v":148703,"d":"148,703"},{"v":132707,"d":"132,707"}]
["~82%",69092,9016642280,{"v":4430949.40266601,"d":"4,430,949"},130501.97244254,4467066,131550,37148,5505116870,897.824001292128,148194.165769355,3764,149210,{"$nulls":4},{"v":132707,"d":"132,707"},{"v":150713,"d":"150,713"},{"v":134681,"d":"134,681"}]
["~82.5%",69092,9154497140,{"v":4496872.74965263,"d":"4,496,873"},132497.208649337,4531700,133450,37147,5586379470,906.610331924516,150385.750397071,12331,151280,{"$nulls":4},{"v":134681,"d":"134,681"},{"v":152942,"d":"152,942"},{"v":136813,"d":"136,813"}]
["~83%",69091,9294368940,{"v":4568031.14262349,"d":"4,568,031"},134523.583968968,4602070,135530,37148,5661602760,918.393399375471,152406.664154194,2321,153530,{"$nulls":4},{"v":136813,"d":"136,813"},{"v":154998,"d":"154,998"},{"v":138952,"d":"138,952"}]
["~83.5%",69092,9441025740,{"v":4639469.35187865,"d":"4,639,469"},136644.267643142,4678030,137760,37147,5747073920,933.261609282041,154711.656930573,2649,155770,{"$nulls":4},{"v":138952,"d":"138,952"},{"v":157342,"d":"157,342"},{"v":141098,"d":"141,098"}]
["~84%",69092,9585677560,{"v":4711133.34617611,"d":"4,711,133"},138737.879349273,4747637,139810,37148,5825995750,940.752368902767,156832.01652848,2493,158020,{"$nulls":4},{"v":141098,"d":"141,098"},{"v":159498,"d":"159,498"},{"v":143354,"d":"143,354"}]
["~84.5%",69091,9738822920,{"v":4786459.18258528,"d":"4,786,459"},140956.462057286,4825233,142100,37147,5914298990,955.469755296524,159213.368239696,2751,160430,{"$nulls":4},{"v":143354,"d":"143,354"},{"v":161920,"d":"161,920"},{"v":145747,"d":"145,747"}]
["~85%",69092,9901529310,{"v":4866360.28213107,"d":"4,866,360"},143309.345655068,4900709,144320,37148,5998470430,964.706848282545,161474.922741466,3349,162680,{"$nulls":4},{"v":145747,"d":"145,747"},{"v":164220,"d":"164,220"},{"v":148029,"d":"148,029"}]
["~85.5%",69091,10056392890,{"v":4942544.01311314,"d":"4,942,544"},145552.863469916,4985478,146820,37147,6089310880,977.940345115352,163924.701321775,13204,165100,{"$nulls":4},{"v":148029,"d":"148,029"},{"v":166711,"d":"166,711"},{"v":150120,"d":"150,120"}]
["~86%",69092,10198716720,{"v":5012369.1642303,"d":"5,012,369"},147610.674463034,5048913,148690,37148,6177686870,990.806665230968,166299.312749003,1989,167510,{"$nulls":4},{"v":150120,"d":"150,120"},{"v":169126,"d":"169,126"},{"v":152509,"d":"152,509"}]
["~86.5%",69092,10360914330,{"v":5092129.51489318,"d":"5,092,130"},149958.234383141,5136006,151250,37147,6270190770,1004.57969687996,168794.001399843,5345,169930,{"$nulls":4},{"v":152509,"d":"152,509"},{"v":171663,"d":"171,663"},{"v":155163,"d":"155,163"}]
["~87%",69091,10541074090,{"v":5180742.41167445,"d":"5,180,742"},152567.976871083,5225472,153890,37148,6366757320,1019.33019274254,171388.966296974,2975,172700,{"$nulls":4},{"v":155163,"d":"155,163"},{"v":174303,"d":"174,303"},{"v":157880,"d":"157,880"}]
["~87.5%",69092,10725787550,{"v":5271448.58993805,"d":"5,271,449"},155239.210762461,5316670,156570,37148,6465531850,1034.79118660493,174047.912404436,2225,175630,{"$nulls":4},{"v":157880,"d":"157,880"},{"v":177007,"d":"177,007"},{"v":160657,"d":"160,657"}]
["~88%",69092,10914546120,{"v":5364174.14430035,"d":"5,364,174"},157971.199560006,5410416,159330,37147,6565986660,1044.24984520957,176756.848736102,4319,178050,{"$nulls":4},{"v":160657,"d":"160,657"},{"v":179762,"d":"179,762"},{"v":163402,"d":"163,402"}]
["~88.5%",69091,11104032810,{"v":5455830.89565934,"d":"5,455,831"},160716.052886772,5500990,162000,37148,6675604980,1064.65489393776,179702.944438462,2779,180980,{"$nulls":4},{"v":163402,"d":"163,402"},{"v":182758,"d":"182,758"},{"v":166261,"d":"166,261"}]
["~89%",69092,11295808380,{"v":5551270.18188791,"d":"5,551,270"},163489.381983442,5601153,164950,37147,6783424700,1082.30834253102,182610.296928419,2431,184270,{"$nulls":4},{"v":166261,"d":"166,261"},{"v":185715,"d":"185,715"},{"v":169320,"d":"169,320"}]
["~89.5%",69091,11502814170,{"v":5653408.12567483,"d":"5,653,408"},166487.880765946,5702150,167920,37148,6901300770,1097.0721976957,185778.528319155,2507,187370,{"$nulls":4},{"v":169320,"d":"169,320"},{"v":188937,"d":"188,937"},{"v":172378,"d":"172,378"}]
["~90%",69092,11710758040,{"v":5755520.55537544,"d":"5,755,521"},169495.137497828,5808613,171060,37147,7020949400,1116.22580558322,189004.479500363,3949,190660,{"$nulls":4},{"v":172378,"d":"172,378"},{"v":192218,"d":"192,218"},{"v":175587,"d":"175,587"}]
["~90.5%",69092,11928796180,{"v":5862677.16404214,"d":"5,862,677"},172650.902854165,5917000,174250,37148,7147029900,1134.68722407666,192393.396683536,9180,194110,{"$nulls":4},{"v":175587,"d":"175,587"},{"v":195664,"d":"195,664"},{"v":178923,"d":"178,923"}]
["~91%",69091,12155347150,{"v":5974066.0538565,"d":"5,974,066"},175932.424628388,6027224,177500,37147,7279398120,1155.29146364443,195961.938245349,2938,197740,{"$nulls":4},{"v":178923,"d":"178,923"},{"v":199293,"d":"199,293"},{"v":182435,"d":"182,435"}]
["~91.5%",69092,12394094100,{"v":6091302.18618653,"d":"6,091,302"},179385.371678341,6155797,181280,37148,7420013980,1177.22410358565,199741.950576074,13158,201710,{"$nulls":4},{"v":182435,"d":"182,435"},{"v":203138,"d":"203,138"},{"v":186361,"d":"186,361"}]
["~92%",69092,12661312500,{"v":6222409.79910843,"d":"6,222,410"},183252.945348231,6290158,185240,37147,7567222300,1198.00258432713,203710.186556114,2657,205850,{"$nulls":4},{"v":186361,"d":"186,361"},{"v":207173,"d":"207,173"},{"v":190523,"d":"190,523"}]
["~92.5%",69091,12943337890,{"v":6361374.62458207,"d":"6,361,375"},187337.538753238,6434677,189500,37148,7724358340,1222.25279961236,207934.70281038,2455,210340,{"$nulls":4},{"v":190523,"d":"190,523"},{"v":211470,"d":"211,470"},{"v":195047,"d":"195,047"}]
["~93%",69092,13251250980,{"v":6512422.07432119,"d":"6,512,422"},191791.393793782,6592771,194150,37147,7893900500,1249.16410477292,212504.38797211,2558,215010,{"$nulls":4},{"v":195047,"d":"195,047"},{"v":216117,"d":"216,117"},{"v":200021,"d":"200,021"}]
["~93.5%",69091,13588727020,{"v":6678504.22661417,"d":"6,678,504"},196678.684922782,6768320,199320,37148,8076514830,1277.48110261656,217414.52648864,13254,220190,{"$nulls":4},{"v":200021,"d":"200,021"},{"v":221111,"d":"221,111"},{"v":205656,"d":"205,656"}]
["~94%",69092,13971661250,{"v":6866660.86710472,"d":"6,866,661"},202218.219909685,6969193,205240,37147,8274687340,1307.34818424098,222755.197997146,12882,225710,{"$nulls":4},{"v":205656,"d":"205,656"},{"v":226542,"d":"226,542"},{"v":211711,"d":"211,711"}]
["~94.5%",69092,14382992910,{"v":7068805.12710588,"d":"7,068,805"},208171.610461413,7180944,211470,37148,8489934440,1340.1050123829,228543.513513513,2736,231590,{"$nulls":4},{"v":211711,"d":"211,711"},{"v":232429,"d":"232,429"},{"v":218647,"d":"218,647"}]
["~95%",69091,14857539440,{"v":7300417.15077217,"d":"7,300,417"},215043.051048617,7429266,218790,37147,8727485950,1377.14240719304,234944.570221013,13681,238490,{"$nulls":4},{"v":218647,"d":"218,647"},{"v":238939,"d":"238,939"},{"v":226482,"d":"226,482"}]
["~95.5%",69092,15389186610,{"v":7562016.64606611,"d":"7,562,017"},222734.710386151,7700252,226770,37148,8994325450,1416.10337030257,242121.391461182,12882,245920,{"$nulls":4},{"v":226482,"d":"226,482"},{"v":246237,"d":"246,237"},{"v":235069,"d":"235,069"}]
["~96%",69092,15969990980,{"v":7848701.91457766,"d":"7,848,702"},231140.95669542,8000000,235600,37147,9290198170,1461.75058551161,250092.824992596,3581,254550,{"$nulls":4},{"v":235069,"d":"235,069"},{"v":254344,"d":"254,344"},{"v":244086,"d":"244,086"}]
["~96.5%",69091,16582280100,{"v":8149781.45364808,"d":"8,149,781"},240006.369860039,8320378,245030,37148,9626943090,1512.71624313556,259151.046893507,13068,264230,{"$nulls":4},{"$f":"ROUND(D204*$Q$6,0)","v":{"v":244086,"d":"244,086"}},{"v":263557,"d":"263,557"},{"v":254678,"d":"254,678"}]
["~97%",69092,17302078370,{"v":8503424.23258843,"d":"8,503,424"},250420.864499507,8701379,256250,37147,10014595130,1571.83689126981,269593.64497806,12143,275450,{"$nulls":4},{"v":254678,"d":"254,678"},{"$f":"ROUND(K205*$R$6,0)","v":{"v":274177,"d":"274,177"}},{"$f":"R206","v":{"v":267342,"d":"267,342"}}]
["~97.5%",69091,18162218910,{"v":8926273.22898785,"d":"8,926,273"},262873.875179111,9162280,269820,37148,10469758150,1641.46285129751,281839.080165823,5449,288750,{"$nulls":4},{"v":267342,"d":"267,342"},{"v":286630,"d":"286,630"},{"v":282933,"d":"282,933"}]
["~98%",69092,19222122670,{"v":9446850.76154981,"d":"9,446,851"},278210.540583569,9755881,287310,37147,11020397760,1725.5424664172,296669.926508197,12374,305160,{"$nulls":4},{"v":282933,"d":"282,933"},{"v":301713,"d":"301,713"},{"v":302964,"d":"302,964"}]
["~98.5%",69092,20582617550,{"v":10115659.8149713,"d":"10,115,660"},297901.602935216,10556076,310870,37148,11720411800,1831.72003876386,315505.863034349,3899,326740,{"$nulls":4},{"v":302964,"d":"302,964"},{"v":320869,"d":"320,869"},{"v":337000,"d":"337,000"}]
["~99%",69091,22894796130,{"v":11252085.3169008,"d":"11,252,085"},331371.613234719,12128510,357180,37147,12676578600,1979.70194093735,341254.437774248,7159,358000,{"$nulls":4},{"v":337000,"d":"337,000"},{"v":347056,"d":"347,056"},{"v":412280,"d":"412,280"}]
["~99.5%",69092,28009366840,{"v":13765603.3430208,"d":"13,765,603"},405392.329647426,16189196,476770,37148,14192924330,2218.97208463443,382064.292290298,13055,413270,{"$nulls":4},{"v":412280,"d":"412,280"},{"v":388559,"d":"388,559"},{"v":909930,"d":"909,930"}]
["~100%",69092,56792887790,{"v":30381622.7360041,"d":"30,381,623"},821989.344497192,7656118138,2300040,37148,21562893380,3393.06223753634,580459.065898567,36158,2189830,{"$nulls":4},{"v":909930,"d":"909,930"},{"v":590327,"d":"590,327"}]
[]
["<작성기준>"]
["1. 구성비 : 보험료가 낮은 순서로 정렬, 구간 : 초과~이하 "]
["2. 보험료기준 : 2012년 11월 보험료 기준, 본인부담액 기준"]
["3. 최고보험료 : 각 구간별로 가장 높은 보험료 금액"]